PDS_VERSION_ID = PDS3
/* FILE DATA ELEMENTS */
RECORD_TYPE = STREAM
/* POINTERS TO DATA OBJECTS */
^COMPRESSED_FILE = "H7914_0000_BL3.JP2"
/* IDENTIFICATION DATA ELEMENTS */
DATA_SET_ID = "MEX-M-HRSC-5-REFDR-MAPPROJECTED-V3.0"
DATA_SET_NAME = "MARS EXPRESS HRSC MAP PROJECTED REFDR V3.0"
DETECTOR_ID = MEX_HRSC_BLUE
EVENT_TYPE = "MARS-CLOUD-VARIABLE-At"
INSTRUMENT_HOST_ID = MEX
INSTRUMENT_HOST_NAME = "MARS EXPRESS"
INSTRUMENT_ID = HRSC
INSTRUMENT_NAME = "HIGH RESOLUTION STEREO CAMERA"
MISSION_NAME = "MARS EXPRESS"
MISSION_PHASE_NAME = ME_Phase_20
PROCESSING_LEVEL_ID = 3
PRODUCT_CREATION_TIME = 2016-07-01T19:14:49.000Z
PRODUCT_ID = "H7914_0000_BL3.JP2"
RELEASE_ID = 0087
REVISION_ID = 0000
/* QUALITY DATA ELEMENTS */
DATA_QUALITY_ID = 1
DATA_QUALITY_DESC = "Data calculated based on original SPICE kernels"
/* TIME DATA ELEMENTS */
SPACECRAFT_CLOCK_START_COUNT = "1/0215978617.07291"
SPACECRAFT_CLOCK_STOP_COUNT = "1/0215980748.45936"
START_TIME = 2010-03-06T18:03:39.626Z
STOP_TIME = 2010-03-06T18:22:55.336Z
/* ORBITAL DATA ELEMENTS */
ASCENDING_NODE_LONGITUDE = 66.26
MAXIMUM_RESOLUTION = 308.1
FOOTPRINT_POINT_LATITUDE = (17.3471,17.2897,17.2305,17.1693, 17.1062,17.0411,16.974,16.9051,16.8342, 16.7613,16.6864,16.6096,16.5308,16.45, 16.3672,16.2824,16.1956,16.1067,16.0158 ,15.9226,15.8274,15.7299,15.6301, 15.5282,15.4241,14.4064,13.5021,12.646, 11.8096,11.2984,10.4409,9.59356,8.76094 ,7.93859,7.32847,6.32827,5.5396,4.76077 ,3.98985,3.23492,2.67254,1.9317,1.20017 ,0.477296,-0.236385,-0.941886,-1.6392, -2.32832,-3.00928,-3.68317,-4.02768, -3.80424,-3.58383,-3.25295,-3.03596, -2.76726,-2.5554,-2.2404,-2.08299, -1.92655,-1.72073,-1.56735,-1.36202, -1.2101,-1.0078,-0.807627,-0.607861, -0.459275,-0.261629,-0.0645409,0.18058, 0.325615,0.522682,0.71688,0.908182, 1.37798,2.43815,3.39741,3.81765,4.38516 ,4.96097,5.5454,5.99434,6.60059,7.21712 ,7.84451,8.48366,9.13438,9.79712, 10.4725,11.1607,11.8623,12.5772,13.3051 ,14.2367,15.0009,15.5826,16.3693, 16.9743,17.3471)
FOOTPRINT_POINT_LONGITUDE = (346.902,347.453,348.001,348.546,349.09 ,349.633,350.174,350.713,351.251, 351.788,352.325,352.86,353.395,353.929, 354.462,354.995,355.528,356.061,356.594 ,357.128,357.662,358.198,358.735, 359.272,359.81,360.183,360.097,359.972, 359.841,359.878,359.787,359.697,359.604 ,359.511,359.441,359.321,359.225, 359.129,359.033,358.931,358.857,358.756 ,358.655,358.553,358.45,358.347,358.244 ,358.14,358.035,357.93,357.308,356.584, 355.863,354.784,354.069,353.181,352.472 ,351.412,350.883,350.355,349.651, 349.122,348.418,347.889,347.182,346.475 ,345.766,345.233,344.521,343.806,342.91 ,342.367,341.65,340.924,340.188,339.529 ,340.105,340.615,340.833,341.12,341.402 ,341.679,341.897,342.183,342.465, 342.746,343.026,343.304,343.581,343.857 ,344.131,344.404,344.676,344.942, 345.277,345.548,345.746,346.002,346.203 ,346.902)
ORBIT_NUMBER = 7914
ORBITAL_ECCENTRICITY = 0.572
ORBITAL_INCLINATION = 86.84
ORBITAL_SEMIMAJOR_AXIS = 8762.72
PERIAPSIS_ALTITUDE = 365.58
PERIAPSIS_ARGUMENT_ANGLE = 50.78
PERIAPSIS_TIME = 2010-03-06T17:16:32.000Z
SPACECRAFT_ORIENTATION = (0.0,1.0,0.0)
^MEX_ORIENTATION_DESC = "MEX_ORIENTATION_DESC.TXT"
SPACECRAFT_POINTING_MODE = NADIR
^MEX_POINTING_DESC = "MEX_POINTING_DESC.TXT"
RIGHT_ASCENSION = -1e+32
DECLINATION = -1e+32
OFFSET_ANGLE = -1e+32
SPACECRAFT_SOLAR_DISTANCE = 2.48784e+08
TARGET_NAME = MARS
/* CAMERA DATA ELEMENTS */
DETECTOR_TEMPERATURE = 17.7588
FOCAL_PLANE_TEMPERATURE = 7.9716
INST_CMPRS_NAME = "DISCRETE COSINE TRANSFORMATION (DCT)"
INST_CMPRS_RATIO = 10.0956
INST_CMPRS_QUALITY = 0
INST_CMPRS_QUANTZ_TBL_ID = 0
INSTRUMENT_TEMPERATURE = 10.8262
LENS_TEMPERATURE = 8.3794
MACROPIXEL_SIZE = 2
MISSING_FRAMES = 0
PIXEL_SUBSAMPLING_FLAG = N
SIGNAL_CHAIN_ID = 2
/* RADIOMETRIC DATA ELEMENTS */
BANDWIDTH = 76.0
CENTER_FILTER_WAVELENGTH = 444.0
RADIANCE_OFFSET = 0.713222
RADIANCE_SCALING_FACTOR = 0.00212902
REFLECTANCE_SCALING_FACTOR = 0.00013539
MEX:REFLECTANCE_OFFSET = 0.0453556
/* IMAGE OBJECT DEFINITIONS */
OBJECT = IMAGE
  INTERCHANGE_FORMAT = BINARY
  LINES = 3200
  LINE_SAMPLES = 3051
  SAMPLE_TYPE = UNSIGNED_INTEGER
  SAMPLE_BITS = 8
  BANDS = 1
  BAND_STORAGE_TYPE = BAND_SEQUENTIAL
  MAXIMUM = 255
  MEAN = 107.635
  MINIMUM = 1
  STANDARD_DEVIATION = 24.6516
END_OBJECT = IMAGE
/* MAP OBJECT DEFINITIONS */
OBJECT = IMAGE_MAP_PROJECTION
  ^DATA_SET_MAP_PROJECTION_CATALOG= "DSMAP.CAT"
  A_AXIS_RADIUS = 3396.0
  B_AXIS_RADIUS = 3396.0
  C_AXIS_RADIUS = 3396.0
  CENTER_LATITUDE = 0.0
  CENTER_LONGITUDE = 351.0
  COORDINATE_SYSTEM_NAME = PLANETOGRAPHIC
  COORDINATE_SYSTEM_TYPE = "BODY-FIXED ROTATING"
  EASTERNMOST_LONGITUDE = 0.183
  FIRST_STANDARD_PARALLEL = "N/A"
  LINE_FIRST_PIXEL = 1
  LINE_LAST_PIXEL = 3200
  LINE_PROJECTION_OFFSET = 2578.0
  MAP_PROJECTION_ROTATION = 0.0
  MAP_PROJECTION_TYPE = SINUSOIDAL
  MAP_RESOLUTION = 148.178450966667
  MAP_SCALE = 0.4
  MAXIMUM_LATITUDE = 17.3471
  MINIMUM_LATITUDE = -4.02768
  POSITIVE_LONGITUDE_DIRECTION = EAST
  REFERENCE_LATITUDE = "N/A"
  REFERENCE_LONGITUDE = "N/A"
  SAMPLE_FIRST_PIXEL = 1
  SAMPLE_LAST_PIXEL = 3051
  SAMPLE_PROJECTION_OFFSET = 1718.0
  SECOND_STANDARD_PARALLEL = "N/A"
  WESTERNMOST_LONGITUDE = -20.471
END_OBJECT = IMAGE_MAP_PROJECTION
/* The JPEG2000 image data file associated with this label. */
OBJECT = COMPRESSED_FILE
  FILE_NAME = "H7914_0000_BL3.JP2"
  RECORD_TYPE = UNDEFINED
  FILE_RECORDS = UNK
  ENCODING_TYPE = "JP2"
  INTERCHANGE_FORMAT = BINARY
  UNCOMPRESSED_FILE_NAME = "H7914_0000_BL3.IMG"
  REQUIRED_STORAGE_BYTES = "9787608"
  ^DESCRIPTION = "JP2INFO.TXT"
END_OBJECT = COMPRESSED_FILE
END
