PDS_VERSION_ID = PDS3
/* FILE DATA ELEMENTS */
RECORD_TYPE = STREAM
/* POINTERS TO DATA OBJECTS */
^COMPRESSED_FILE = "H7921_0006_BL3.JP2"
/* IDENTIFICATION DATA ELEMENTS */
DATA_SET_ID = "MEX-M-HRSC-5-REFDR-MAPPROJECTED-V3.0"
DATA_SET_NAME = "MARS EXPRESS HRSC MAP PROJECTED REFDR V3.0"
DETECTOR_ID = MEX_HRSC_BLUE
EVENT_TYPE = "MARS-CLOUD-VARIABLE-At"
INSTRUMENT_HOST_ID = MEX
INSTRUMENT_HOST_NAME = "MARS EXPRESS"
INSTRUMENT_ID = HRSC
INSTRUMENT_NAME = "HIGH RESOLUTION STEREO CAMERA"
MISSION_NAME = "MARS EXPRESS"
MISSION_PHASE_NAME = ME_Phase_20
PROCESSING_LEVEL_ID = 3
PRODUCT_CREATION_TIME = 2016-07-01T19:14:49.000Z
PRODUCT_ID = "H7921_0006_BL3.JP2"
RELEASE_ID = 0087
REVISION_ID = 0000
/* QUALITY DATA ELEMENTS */
DATA_QUALITY_ID = 1
DATA_QUALITY_DESC = "Data calculated based on original SPICE kernels"
/* TIME DATA ELEMENTS */
SPACECRAFT_CLOCK_START_COUNT = "1/0216154908.08237"
SPACECRAFT_CLOCK_STOP_COUNT = "1/0216155924.41960"
START_TIME = 2010-03-08T19:01:50.610Z
STOP_TIME = 2010-03-08T19:11:51.208Z
/* ORBITAL DATA ELEMENTS */
ASCENDING_NODE_LONGITUDE = 66.13
MAXIMUM_RESOLUTION = 209.8
FOOTPRINT_POINT_LATITUDE = (11.9564,11.7261,11.4965,11.2675, 11.0391,10.811,10.5829,10.3551,10.1275, 9.89997,9.67232,9.44459,9.21683,8.98891 ,8.76079,8.53249,8.30388,8.07475,7.8451 ,7.61483,7.38387,7.03578,6.74436, 6.51041,6.27553,5.62851,4.8823,4.13575, 3.57551,2.82825,1.89302,1.14452, 0.582254,-0.168172,-0.919267,-1.67192, -2.42511,-3.1798,-3.93625,-4.50536, -5.26442,-5.83598,-6.59886,-7.36851, -7.93903,-8.89974,-10.0622,-10.8396, -11.6183,-12.2046,-12.8132,-12.5197, -12.2271,-11.9355,-11.5778,-11.2926, -10.8719,-10.5227,-10.2444,-10.0378, -9.76658,-9.49395,-9.22135,-8.88386, -8.61066,-8.343,-8.07551,-7.80921, -7.54358,-7.34548,-7.08013,-6.88268, -6.61885,-6.35479,-6.02481,-5.32032, -4.60327,-3.70626,-2.81085,-2.09649, -1.55994,-1.02556,-0.489807,0.0462551, 0.580999,1.29395,2.36286,2.89712, 3.60933,4.49949,5.21161,5.92414,6.45873 ,7.17179,7.70649,8.95642,9.85049, 10.3874,11.1039,11.9564)
FOOTPRINT_POINT_LONGITUDE = (345.142,345.926,346.699,347.464,348.22 ,348.969,349.711,350.447,351.177, 351.901,352.621,353.335,354.046,354.752 ,355.454,356.153,356.849,357.543, 358.235,358.925,359.614,360.647,361.507 ,362.194,362.881,363.111,363.076, 363.042,363.018,362.985,362.946,362.915 ,362.894,362.865,362.837,362.811, 362.786,362.762,362.739,362.723,362.703 ,362.689,362.671,362.658,362.644, 362.627,362.613,362.605,362.598,362.595 ,362.591,361.762,360.933,360.109, 359.085,358.27,357.056,356.048,355.243, 354.641,353.838,353.035,352.232,351.226 ,350.422,349.613,348.804,347.991, 347.174,346.557,345.734,345.112,344.279 ,343.44,342.381,341.97,342.122,342.313, 342.499,342.64,342.749,342.847,342.952, 343.059,343.158,343.29,343.482,343.577, 343.703,343.849,343.967,344.078,344.16, 344.267,344.348,344.525,344.645,344.716 ,344.808,345.142)
ORBIT_NUMBER = 7921
ORBITAL_ECCENTRICITY = 0.572
ORBITAL_INCLINATION = 86.83
ORBITAL_SEMIMAJOR_AXIS = 8765.68
PERIAPSIS_ALTITUDE = 365.04
PERIAPSIS_ARGUMENT_ANGLE = 49.57
PERIAPSIS_TIME = 2010-03-08T17:57:20.000Z
SPACECRAFT_ORIENTATION = (0.0,1.0,0.0)
^MEX_ORIENTATION_DESC = "MEX_ORIENTATION_DESC.TXT"
SPACECRAFT_POINTING_MODE = INERT
^MEX_POINTING_DESC = "MEX_POINTING_DESC.TXT"
RIGHT_ASCENSION = 234.764
DECLINATION = -76.956
OFFSET_ANGLE = -1e+32
SPACECRAFT_SOLAR_DISTANCE = 2.48854e+08
TARGET_NAME = MARS
/* CAMERA DATA ELEMENTS */
DETECTOR_TEMPERATURE = 21.0212
FOCAL_PLANE_TEMPERATURE = 9.3989
INST_CMPRS_NAME = "DISCRETE COSINE TRANSFORMATION (DCT)"
INST_CMPRS_RATIO = 4.52626
INST_CMPRS_QUALITY = 0
INST_CMPRS_QUANTZ_TBL_ID = 0
INSTRUMENT_TEMPERATURE = 14.9042
LENS_TEMPERATURE = 10.0106
MACROPIXEL_SIZE = 1
MISSING_FRAMES = 0
PIXEL_SUBSAMPLING_FLAG = N
SIGNAL_CHAIN_ID = 1
/* RADIOMETRIC DATA ELEMENTS */
BANDWIDTH = 76.0
CENTER_FILTER_WAVELENGTH = 444.0
RADIANCE_OFFSET = 0.481654
RADIANCE_SCALING_FACTOR = 0.00254135
REFLECTANCE_SCALING_FACTOR = 0.000161702
MEX:REFLECTANCE_OFFSET = 0.0306469
/* IMAGE OBJECT DEFINITIONS */
OBJECT = IMAGE
  INTERCHANGE_FORMAT = BINARY
  LINES = 7362
  LINE_SAMPLES = 6302
  SAMPLE_TYPE = UNSIGNED_INTEGER
  SAMPLE_BITS = 8
  BANDS = 1
  BAND_STORAGE_TYPE = BAND_SEQUENTIAL
  MAXIMUM = 255
  MEAN = 107.804
  MINIMUM = 1
  STANDARD_DEVIATION = 24.4564
END_OBJECT = IMAGE
/* MAP OBJECT DEFINITIONS */
OBJECT = IMAGE_MAP_PROJECTION
  ^DATA_SET_MAP_PROJECTION_CATALOG= "DSMAP.CAT"
  A_AXIS_RADIUS = 3396.0
  B_AXIS_RADIUS = 3396.0
  C_AXIS_RADIUS = 3396.0
  CENTER_LATITUDE = 0.0
  CENTER_LONGITUDE = 353.0
  COORDINATE_SYSTEM_NAME = PLANETOGRAPHIC
  COORDINATE_SYSTEM_TYPE = "BODY-FIXED ROTATING"
  EASTERNMOST_LONGITUDE = 3.111
  FIRST_STANDARD_PARALLEL = "N/A"
  LINE_FIRST_PIXEL = 1
  LINE_LAST_PIXEL = 7362
  LINE_PROJECTION_OFFSET = 3566.0
  MAP_PROJECTION_ROTATION = 0.0
  MAP_PROJECTION_TYPE = SINUSOIDAL
  MAP_RESOLUTION = 296.356901933333
  MAP_SCALE = 0.2
  MAXIMUM_LATITUDE = 11.9564
  MINIMUM_LATITUDE = -12.8132
  POSITIVE_LONGITUDE_DIRECTION = EAST
  REFERENCE_LATITUDE = "N/A"
  REFERENCE_LONGITUDE = "N/A"
  SAMPLE_FIRST_PIXEL = 1
  SAMPLE_LAST_PIXEL = 6302
  SAMPLE_PROJECTION_OFFSET = 3303.0
  SECOND_STANDARD_PARALLEL = "N/A"
  WESTERNMOST_LONGITUDE = -18.03
END_OBJECT = IMAGE_MAP_PROJECTION
/* The JPEG2000 image data file associated with this label. */
OBJECT = COMPRESSED_FILE
  FILE_NAME = "H7921_0006_BL3.JP2"
  RECORD_TYPE = UNDEFINED
  FILE_RECORDS = UNK
  ENCODING_TYPE = "JP2"
  INTERCHANGE_FORMAT = BINARY
  UNCOMPRESSED_FILE_NAME = "H7921_0006_BL3.IMG"
  REQUIRED_STORAGE_BYTES = "46426834"
  ^DESCRIPTION = "JP2INFO.TXT"
END_OBJECT = COMPRESSED_FILE
END
