PDS_VERSION_ID = PDS3
/* FILE DATA ELEMENTS */
RECORD_TYPE = STREAM
/* POINTERS TO DATA OBJECTS */
^COMPRESSED_FILE = "H7936_0000_S13.JP2"
/* IDENTIFICATION DATA ELEMENTS */
DATA_SET_ID = "MEX-M-HRSC-5-REFDR-MAPPROJECTED-V3.0"
DATA_SET_NAME = "MARS EXPRESS HRSC MAP PROJECTED REFDR V3.0"
DETECTOR_ID = MEX_HRSC_S1
EVENT_TYPE = "MARS-REGIONAL-VARIABLE-Gl-Ot-At"
INSTRUMENT_HOST_ID = MEX
INSTRUMENT_HOST_NAME = "MARS EXPRESS"
INSTRUMENT_ID = HRSC
INSTRUMENT_NAME = "HIGH RESOLUTION STEREO CAMERA"
MISSION_NAME = "MARS EXPRESS"
MISSION_PHASE_NAME = ME_Phase_20
PROCESSING_LEVEL_ID = 3
PRODUCT_CREATION_TIME = 2016-07-01T19:14:49.000Z
PRODUCT_ID = "H7936_0000_S13.JP2"
RELEASE_ID = 0087
REVISION_ID = 0000
/* QUALITY DATA ELEMENTS */
DATA_QUALITY_ID = 1
DATA_QUALITY_DESC = "Data calculated based on original SPICE kernels"
/* TIME DATA ELEMENTS */
SPACECRAFT_CLOCK_START_COUNT = "1/0216527088.08256"
SPACECRAFT_CLOCK_STOP_COUNT = "1/0216527649.11403"
START_TIME = 2010-03-13T02:26:45.384Z
STOP_TIME = 2010-03-13T02:34:09.687Z
/* ORBITAL DATA ELEMENTS */
ASCENDING_NODE_LONGITUDE = 65.84
MAXIMUM_RESOLUTION = 59.8
FOOTPRINT_POINT_LATITUDE = (81.1703,81.1591,81.0408,81.6793, 82.2262,82.7686,83.5828,84.391,84.9245, 85.7157,86.2341,87.0006,87.7298,88.1719 ,88.5445,88.7837,88.8075,88.605,88.047, 87.3589,86.8695,86.1133,85.6003,85.0835 ,84.5631,84.0409,83.5168,82.9918, 82.4661,81.9392,81.4121,80.6209,80.0928 ,79.5644,79.0358,78.507,77.978,77.4489, 76.9196,76.3902,75.8607,75.3309,74.801, 74.271,73.7407,73.2101,72.6793,72.1124, 72.124,72.1095,72.0705,72.0085,71.9248, 71.8259,72.3548,72.8832,73.4114,73.9392 ,74.9939,75.7842,76.8366,77.3623, 77.8876,78.4123,78.9366,79.4605,79.9835 ,80.5055,81.0271,81.805,82.3227,83.0948 ,83.6057,84.3666,85.1151,85.8443, 86.3131,86.7629,87.1829,87.5576,87.8621 ,88.0622,88.1248,88.0349,87.8114, 87.4893,87.0995,86.4387,85.9673,85.4765 ,84.9751,84.462,83.9449,83.4194,82.8921 ,82.3606,81.8258,81.0235,81.1703)
FOOTPRINT_POINT_LONGITUDE = (115.471,110.387,104.002,102.378, 101.823,101.169,100.01,98.5109,97.2361, 94.7179,92.4355,87.6217,79.6257,70.8507 ,57.0899,36.1611,10.3366,348.072, 327.814,317.266,312.913,308.512,306.417 ,304.811,303.468,302.379,301.454, 300.683,300.039,299.44,298.941,298.33, 297.957,297.621,297.322,297.05,296.805, 296.579,296.374,296.188,296.014,295.857 ,295.712,295.579,295.454,295.341, 295.236,293.992,291.74,289.535,287.38, 285.272,283.216,281.292,281.127,280.951 ,280.763,280.562,280.116,279.735, 279.153,278.825,278.466,278.074,277.643 ,277.169,276.643,276.055,275.401, 274.248,273.353,271.752,270.465,268.099 ,264.99,260.761,257.016,252.2,245.882, 237.479,226.362,212.285,196.14,180.24, 166.603,155.998,147.95,139.471,135.438, 132.223,129.661,127.545,125.813,124.338 ,123.097,122.027,121.096,119.917, 115.471)
ORBIT_NUMBER = 7936
ORBITAL_ECCENTRICITY = 0.573
ORBITAL_INCLINATION = 86.82
ORBITAL_SEMIMAJOR_AXIS = 8778.64
PERIAPSIS_ALTITUDE = 363.95
PERIAPSIS_ARGUMENT_ANGLE = 46.98
PERIAPSIS_TIME = 2010-03-13T02:16:20.000Z
SPACECRAFT_ORIENTATION = (0.0,1.0,0.0)
^MEX_ORIENTATION_DESC = "MEX_ORIENTATION_DESC.TXT"
SPACECRAFT_POINTING_MODE = INERT
^MEX_POINTING_DESC = "MEX_POINTING_DESC.TXT"
RIGHT_ASCENSION = 243.679
DECLINATION = -75.39
OFFSET_ANGLE = -1e+32
SPACECRAFT_SOLAR_DISTANCE = 2.48983e+08
TARGET_NAME = MARS
/* CAMERA DATA ELEMENTS */
DETECTOR_TEMPERATURE = 17.351
FOCAL_PLANE_TEMPERATURE = 7.9716
INST_CMPRS_NAME = "DISCRETE COSINE TRANSFORMATION (DCT)"
INST_CMPRS_RATIO = 10.228
INST_CMPRS_QUALITY = 0
INST_CMPRS_QUANTZ_TBL_ID = 0
INSTRUMENT_TEMPERATURE = 11.0301
LENS_TEMPERATURE = 8.1755
MACROPIXEL_SIZE = 2
MISSING_FRAMES = 0
PIXEL_SUBSAMPLING_FLAG = N
SIGNAL_CHAIN_ID = 1
/* RADIOMETRIC DATA ELEMENTS */
BANDWIDTH = 180.0
CENTER_FILTER_WAVELENGTH = 677.0
RADIANCE_OFFSET = 1.89629
RADIANCE_SCALING_FACTOR = 0.0383442
REFLECTANCE_SCALING_FACTOR = 0.00124017
MEX:REFLECTANCE_OFFSET = 0.0613322
/* IMAGE OBJECT DEFINITIONS */
OBJECT = IMAGE
  INTERCHANGE_FORMAT = BINARY
  LINES = 14812
  LINE_SAMPLES = 31117
  SAMPLE_TYPE = UNSIGNED_INTEGER
  SAMPLE_BITS = 8
  BANDS = 1
  BAND_STORAGE_TYPE = BAND_SEQUENTIAL
  MAXIMUM = 255
  MEAN = 133.593
  MINIMUM = 1
  STANDARD_DEVIATION = 43.6409
END_OBJECT = IMAGE
/* MAP OBJECT DEFINITIONS */
OBJECT = IMAGE_MAP_PROJECTION
  ^DATA_SET_MAP_PROJECTION_CATALOG= "DSMAP.CAT"
  A_AXIS_RADIUS = 3396.0
  B_AXIS_RADIUS = 3396.0
  C_AXIS_RADIUS = 3396.0
  CENTER_LATITUDE = 90.0
  CENTER_LONGITUDE = 0.0
  COORDINATE_SYSTEM_NAME = PLANETOGRAPHIC
  COORDINATE_SYSTEM_TYPE = "BODY-FIXED ROTATING"
  EASTERNMOST_LONGITUDE = 360.0
  FIRST_STANDARD_PARALLEL = "N/A"
  LINE_FIRST_PIXEL = 1
  LINE_LAST_PIXEL = 14812
  LINE_PROJECTION_OFFSET = 5406.75
  MAP_PROJECTION_ROTATION = 0.0
  MAP_PROJECTION_TYPE = STEREOGRAPHIC
  MAP_RESOLUTION = 1185.42760773333
  MAP_SCALE = 0.05
  MAXIMUM_LATITUDE = 90.0
  MINIMUM_LATITUDE = 71.8259
  POSITIVE_LONGITUDE_DIRECTION = EAST
  REFERENCE_LATITUDE = "N/A"
  REFERENCE_LONGITUDE = "N/A"
  SAMPLE_FIRST_PIXEL = 1
  SAMPLE_LAST_PIXEL = 31117
  SAMPLE_PROJECTION_OFFSET = 20882.25
  SECOND_STANDARD_PARALLEL = "N/A"
  WESTERNMOST_LONGITUDE = 0.0
END_OBJECT = IMAGE_MAP_PROJECTION
/* The JPEG2000 image data file associated with this label. */
OBJECT = COMPRESSED_FILE
  FILE_NAME = "H7936_0000_S13.JP2"
  RECORD_TYPE = UNDEFINED
  FILE_RECORDS = UNK
  ENCODING_TYPE = "JP2"
  INTERCHANGE_FORMAT = BINARY
  UNCOMPRESSED_FILE_NAME = "H7936_0000_S13.IMG"
  REQUIRED_STORAGE_BYTES = "460998355"
  ^DESCRIPTION = "JP2INFO.TXT"
END_OBJECT = COMPRESSED_FILE
END
