PDS_VERSION_ID = PDS3
/* FILE DATA ELEMENTS */
RECORD_TYPE = STREAM
/* POINTERS TO DATA OBJECTS */
^COMPRESSED_FILE = "H8027_0000_RE3.JP2"
/* IDENTIFICATION DATA ELEMENTS */
DATA_SET_ID = "MEX-M-HRSC-5-REFDR-MAPPROJECTED-V3.0"
DATA_SET_NAME = "MARS EXPRESS HRSC MAP PROJECTED REFDR V3.0"
DETECTOR_ID = MEX_HRSC_RED
EVENT_TYPE = "MARS-REGIONAL-VARIABLE-Gl-At"
INSTRUMENT_HOST_ID = MEX
INSTRUMENT_HOST_NAME = "MARS EXPRESS"
INSTRUMENT_ID = HRSC
INSTRUMENT_NAME = "HIGH RESOLUTION STEREO CAMERA"
MISSION_NAME = "MARS EXPRESS"
MISSION_PHASE_NAME = ME_Phase_20
PROCESSING_LEVEL_ID = 3
PRODUCT_CREATION_TIME = 2016-07-01T20:13:07.000Z
PRODUCT_ID = "H8027_0000_RE3.JP2"
RELEASE_ID = 0088
REVISION_ID = 0000
/* QUALITY DATA ELEMENTS */
DATA_QUALITY_ID = 1
DATA_QUALITY_DESC = "Data calculated based on original SPICE kernels"
/* TIME DATA ELEMENTS */
SPACECRAFT_CLOCK_START_COUNT = "1/0218814180.08254"
SPACECRAFT_CLOCK_STOP_COUNT = "1/0218815282.24749"
START_TIME = 2010-04-08T13:43:16.256Z
STOP_TIME = 2010-04-08T13:51:11.372Z
/* ORBITAL DATA ELEMENTS */
ASCENDING_NODE_LONGITUDE = 64.08
MAXIMUM_RESOLUTION = 131.5
FOOTPRINT_POINT_LATITUDE = (77.2392,77.505,77.7408,78.2352,78.7819 ,79.3257,79.8669,80.4061,80.9433, 81.4774,82.0087,82.5376,83.0633,83.5857 ,84.1048,84.6202,85.1236,85.6293, 86.1216,86.8445,87.3083,87.7456,88.142, 88.4678,88.6697,88.6939,88.5322,88.2361 ,87.8619,87.4451,87.0047,86.5466, 86.0864,85.6185,85.1435,84.4345,83.965, 83.2589,82.7881,82.3183,81.8491,81.3808 ,80.9135,80.4471,79.9825,79.5194, 79.0525,78.5933,77.6796,76.7732,76.6905 ,76.5863,76.4296,76.2782,75.9949, 75.6465,76.4956,77.344,78.1895,78.61, 79.0292,79.446,79.8598,80.2708,80.6784, 81.0797,81.6686,82.0489,82.4221,82.7838 ,83.3049,83.628,83.9269,84.2004,84.4454 ,84.7469,84.8954,84.9976,85.0508, 85.0526,85.0016,84.8297,84.5522,84.3144 ,83.891,83.5689,83.2204,82.8485,82.4565 ,82.0469,81.6218,81.1831,80.7325, 80.2713,79.8007,79.3217,78.8351,78.3411 ,77.8398,77.2392)
FOOTPRINT_POINT_LONGITUDE = (196.677,192.519,187.409,185.034, 185.323,185.642,185.997,186.392,186.834 ,187.332,187.897,188.542,189.284, 190.148,191.164,192.373,193.84,195.637, 197.895,202.58,207.07,213.337,222.411, 235.803,254.562,276.704,296.648,311.212 ,321.116,327.894,332.697,336.284, 338.937,341.042,342.76,344.73,345.756, 347.025,347.729,348.341,348.88,349.357, 349.781,350.161,350.502,350.809,351.099 ,351.35,351.787,352.152,347.962,344.815 ,341.541,339.094,335.446,331.891, 330.672,329.26,327.614,326.688,325.682, 324.586,323.392,322.085,320.65,319.076, 316.412,314.408,312.182,309.713,305.459 ,302.235,298.676,294.744,290.407,283.16 ,277.898,272.355,266.601,260.745, 254.948,246.599,238.879,234.168,227.877 ,224.139,220.768,217.729,214.992, 212.527,210.303,208.293,206.475,204.825 ,203.325,201.958,200.71,199.564,198.508 ,196.677)
ORBIT_NUMBER = 8027
ORBITAL_ECCENTRICITY = 0.576
ORBITAL_INCLINATION = 86.84
ORBITAL_SEMIMAJOR_AXIS = 8826.25
PERIAPSIS_ALTITUDE = 355.01
PERIAPSIS_ARGUMENT_ANGLE = 31.17
PERIAPSIS_TIME = 2010-04-08T13:31:25.000Z
SPACECRAFT_ORIENTATION = (0.0,1.0,0.0)
^MEX_ORIENTATION_DESC = "MEX_ORIENTATION_DESC.TXT"
SPACECRAFT_POINTING_MODE = NADIR
^MEX_POINTING_DESC = "MEX_POINTING_DESC.TXT"
RIGHT_ASCENSION = -1e+32
DECLINATION = -1e+32
OFFSET_ANGLE = -1e+32
SPACECRAFT_SOLAR_DISTANCE = 2.49166e+08
TARGET_NAME = MARS
/* CAMERA DATA ELEMENTS */
DETECTOR_TEMPERATURE = 18.3705
FOCAL_PLANE_TEMPERATURE = 7.7677
INST_CMPRS_NAME = "DISCRETE COSINE TRANSFORMATION (DCT)"
INST_CMPRS_RATIO = 17.7024
INST_CMPRS_QUALITY = 0
INST_CMPRS_QUANTZ_TBL_ID = 0
INSTRUMENT_TEMPERATURE = 10.8262
LENS_TEMPERATURE = 8.1755
MACROPIXEL_SIZE = 4
MISSING_FRAMES = 0
PIXEL_SUBSAMPLING_FLAG = N
SIGNAL_CHAIN_ID = 2
/* RADIOMETRIC DATA ELEMENTS */
BANDWIDTH = 48.0
CENTER_FILTER_WAVELENGTH = 748.0
RADIANCE_OFFSET = 0.515763
RADIANCE_SCALING_FACTOR = 0.00862266
REFLECTANCE_SCALING_FACTOR = 0.00122164
MEX:REFLECTANCE_OFFSET = 0.0730721
/* IMAGE OBJECT DEFINITIONS */
OBJECT = IMAGE
  INTERCHANGE_FORMAT = BINARY
  LINES = 15056
  LINE_SAMPLES = 3726
  SAMPLE_TYPE = UNSIGNED_INTEGER
  SAMPLE_BITS = 8
  BANDS = 1
  BAND_STORAGE_TYPE = BAND_SEQUENTIAL
  MAXIMUM = 255
  MEAN = 137.331
  MINIMUM = 1
  STANDARD_DEVIATION = 49.3892
END_OBJECT = IMAGE
/* MAP OBJECT DEFINITIONS */
OBJECT = IMAGE_MAP_PROJECTION
  ^DATA_SET_MAP_PROJECTION_CATALOG= "DSMAP.CAT"
  A_AXIS_RADIUS = 3396.0
  B_AXIS_RADIUS = 3396.0
  C_AXIS_RADIUS = 3396.0
  CENTER_LATITUDE = 90.0
  CENTER_LONGITUDE = 0.0
  COORDINATE_SYSTEM_NAME = PLANETOGRAPHIC
  COORDINATE_SYSTEM_TYPE = "BODY-FIXED ROTATING"
  EASTERNMOST_LONGITUDE = 352.152
  FIRST_STANDARD_PARALLEL = "N/A"
  LINE_FIRST_PIXEL = 1
  LINE_LAST_PIXEL = 15056
  LINE_PROJECTION_OFFSET = 7232.25
  MAP_PROJECTION_ROTATION = 0.0
  MAP_PROJECTION_TYPE = STEREOGRAPHIC
  MAP_RESOLUTION = 592.713803866667
  MAP_SCALE = 0.1
  MAXIMUM_LATITUDE = 88.6939
  MINIMUM_LATITUDE = 75.6465
  POSITIVE_LONGITUDE_DIRECTION = EAST
  REFERENCE_LATITUDE = "N/A"
  REFERENCE_LONGITUDE = "N/A"
  SAMPLE_FIRST_PIXEL = 1
  SAMPLE_LAST_PIXEL = 3726
  SAMPLE_PROJECTION_OFFSET = 4295.25
  SECOND_STANDARD_PARALLEL = "N/A"
  WESTERNMOST_LONGITUDE = 185.034
END_OBJECT = IMAGE_MAP_PROJECTION
/* The JPEG2000 image data file associated with this label. */
OBJECT = COMPRESSED_FILE
  FILE_NAME = "H8027_0000_RE3.JP2"
  RECORD_TYPE = UNDEFINED
  FILE_RECORDS = UNK
  ENCODING_TYPE = "JP2"
  INTERCHANGE_FORMAT = BINARY
  UNCOMPRESSED_FILE_NAME = "H8027_0000_RE3.IMG"
  REQUIRED_STORAGE_BYTES = "56124738"
  ^DESCRIPTION = "JP2INFO.TXT"
END_OBJECT = COMPRESSED_FILE
END
