PDS_VERSION_ID = PDS3
/* FILE DATA ELEMENTS */
RECORD_TYPE = STREAM
/* POINTERS TO DATA OBJECTS */
^COMPRESSED_FILE = "H8027_0000_S13.JP2"
/* IDENTIFICATION DATA ELEMENTS */
DATA_SET_ID = "MEX-M-HRSC-5-REFDR-MAPPROJECTED-V3.0"
DATA_SET_NAME = "MARS EXPRESS HRSC MAP PROJECTED REFDR V3.0"
DETECTOR_ID = MEX_HRSC_S1
EVENT_TYPE = "MARS-REGIONAL-VARIABLE-Gl-At"
INSTRUMENT_HOST_ID = MEX
INSTRUMENT_HOST_NAME = "MARS EXPRESS"
INSTRUMENT_ID = HRSC
INSTRUMENT_NAME = "HIGH RESOLUTION STEREO CAMERA"
MISSION_NAME = "MARS EXPRESS"
MISSION_PHASE_NAME = ME_Phase_20
PROCESSING_LEVEL_ID = 3
PRODUCT_CREATION_TIME = 2016-07-01T20:13:07.000Z
PRODUCT_ID = "H8027_0000_S13.JP2"
RELEASE_ID = 0088
REVISION_ID = 0000
/* QUALITY DATA ELEMENTS */
DATA_QUALITY_ID = 1
DATA_QUALITY_DESC = "Data calculated based on original SPICE kernels"
/* TIME DATA ELEMENTS */
SPACECRAFT_CLOCK_START_COUNT = "1/0218814180.08254"
SPACECRAFT_CLOCK_STOP_COUNT = "1/0218815282.24749"
START_TIME = 2010-04-08T13:46:30.223Z
STOP_TIME = 2010-04-08T14:01:22.903Z
/* ORBITAL DATA ELEMENTS */
ASCENDING_NODE_LONGITUDE = 64.08
MAXIMUM_RESOLUTION = 172.7
FOOTPRINT_POINT_LATITUDE = (77.236,77.5508,77.7974,77.9202,78.0202 ,78.0972,78.6694,79.3717,80.0641, 80.7462,81.4187,82.0813,82.7339,83.3772 ,84.0107,84.6343,85.2454,85.8616,86.459 ,87.0433,87.9056,88.4599,88.9907, 89.4471,89.5503,89.1772,88.6943,88.193, 87.6925,87.196,86.704,86.2169,85.7373, 85.0314,84.3435,83.8841,83.4343,82.9915 ,82.5556,82.1262,81.7036,80.8774, 80.0789,79.2993,78.5476,77.63,76.9218, 76.6437,76.6991,76.73,76.7372,76.7189, 76.6763,76.5555,76.4502,76.321,76.1906, 76.0185,75.8252,75.9498,76.5457,77.1577 ,77.7844,78.4243,79.0756,79.7346, 80.3974,81.0578,81.3849,81.7081,82.1819 ,82.4852,82.7799,83.0616,83.3264, 83.5705,83.7893,83.9787,84.1337,84.2491 ,84.3201,84.3429,84.3134,84.2298, 84.0946,83.9078,83.6655,83.3816,83.0532 ,82.6845,82.2795,81.8412,81.3727, 80.8762,80.3541,79.8083,79.24,78.6534, 78.0445,77.236)
FOOTPRINT_POINT_LONGITUDE = (198.988,195.246,191.478,189.09,186.653 ,184.173,182.991,183.148,183.323, 183.518,183.739,183.99,184.278,184.615, 185.012,185.488,186.053,186.877,187.88, 189.219,192.641,196.848,205.512,229.806 ,294.628,331.377,343.118,348.374, 351.328,353.221,354.536,355.502,356.254 ,357.12,357.791,358.125,358.426,358.695 ,358.937,359.157,359.361,359.725, 360.056,360.344,360.622,360.925,361.159 ,358.264,355.545,352.819,350.094, 347.377,344.675,340.328,337.69,335.092, 332.852,330.339,327.875,325.506,324.506 ,323.357,322.031,320.492,318.69,316.57, 314.052,311.042,309.311,307.408,304.182 ,301.796,299.125,296.165,292.897, 289.301,285.393,281.143,276.547,271.647 ,266.49,261.166,255.739,250.324,245.06, 240.006,235.171,230.705,226.569,222.776 ,219.319,216.18,213.336,210.762,208.433 ,206.324,204.412,202.679,201.102, 198.988)
ORBIT_NUMBER = 8027
ORBITAL_ECCENTRICITY = 0.576
ORBITAL_INCLINATION = 86.84
ORBITAL_SEMIMAJOR_AXIS = 8826.25
PERIAPSIS_ALTITUDE = 355.01
PERIAPSIS_ARGUMENT_ANGLE = 31.17
PERIAPSIS_TIME = 2010-04-08T13:31:25.000Z
SPACECRAFT_ORIENTATION = (0.0,1.0,0.0)
^MEX_ORIENTATION_DESC = "MEX_ORIENTATION_DESC.TXT"
SPACECRAFT_POINTING_MODE = NADIR
^MEX_POINTING_DESC = "MEX_POINTING_DESC.TXT"
RIGHT_ASCENSION = -1e+32
DECLINATION = -1e+32
OFFSET_ANGLE = -1e+32
SPACECRAFT_SOLAR_DISTANCE = 2.49166e+08
TARGET_NAME = MARS
/* CAMERA DATA ELEMENTS */
DETECTOR_TEMPERATURE = 16.9432
FOCAL_PLANE_TEMPERATURE = 7.7677
INST_CMPRS_NAME = "DISCRETE COSINE TRANSFORMATION (DCT)"
INST_CMPRS_RATIO = 21.0986
INST_CMPRS_QUALITY = 0
INST_CMPRS_QUANTZ_TBL_ID = 0
INSTRUMENT_TEMPERATURE = 10.8262
LENS_TEMPERATURE = 8.1755
MACROPIXEL_SIZE = 4
MISSING_FRAMES = 0
PIXEL_SUBSAMPLING_FLAG = N
SIGNAL_CHAIN_ID = 1
/* RADIOMETRIC DATA ELEMENTS */
BANDWIDTH = 180.0
CENTER_FILTER_WAVELENGTH = 677.0
RADIANCE_OFFSET = 1.87322
RADIANCE_SCALING_FACTOR = 0.0348934
REFLECTANCE_SCALING_FACTOR = 0.00113021
MEX:REFLECTANCE_OFFSET = 0.0606746
/* IMAGE OBJECT DEFINITIONS */
OBJECT = IMAGE
  INTERCHANGE_FORMAT = BINARY
  LINES = 15056
  LINE_SAMPLES = 3726
  SAMPLE_TYPE = UNSIGNED_INTEGER
  SAMPLE_BITS = 8
  BANDS = 1
  BAND_STORAGE_TYPE = BAND_SEQUENTIAL
  MAXIMUM = 255
  MEAN = 134.584
  MINIMUM = 1
  STANDARD_DEVIATION = 50.7583
END_OBJECT = IMAGE
/* MAP OBJECT DEFINITIONS */
OBJECT = IMAGE_MAP_PROJECTION
  ^DATA_SET_MAP_PROJECTION_CATALOG= "DSMAP.CAT"
  A_AXIS_RADIUS = 3396.0
  B_AXIS_RADIUS = 3396.0
  C_AXIS_RADIUS = 3396.0
  CENTER_LATITUDE = 90.0
  CENTER_LONGITUDE = 0.0
  COORDINATE_SYSTEM_NAME = PLANETOGRAPHIC
  COORDINATE_SYSTEM_TYPE = "BODY-FIXED ROTATING"
  EASTERNMOST_LONGITUDE = 1.159
  FIRST_STANDARD_PARALLEL = "N/A"
  LINE_FIRST_PIXEL = 1
  LINE_LAST_PIXEL = 15056
  LINE_PROJECTION_OFFSET = 7232.25
  MAP_PROJECTION_ROTATION = 0.0
  MAP_PROJECTION_TYPE = STEREOGRAPHIC
  MAP_RESOLUTION = 592.713803866667
  MAP_SCALE = 0.1
  MAXIMUM_LATITUDE = 89.55029999999999
  MINIMUM_LATITUDE = 75.8252
  POSITIVE_LONGITUDE_DIRECTION = EAST
  REFERENCE_LATITUDE = "N/A"
  REFERENCE_LONGITUDE = "N/A"
  SAMPLE_FIRST_PIXEL = 1
  SAMPLE_LAST_PIXEL = 3726
  SAMPLE_PROJECTION_OFFSET = 4295.25
  SECOND_STANDARD_PARALLEL = "N/A"
  WESTERNMOST_LONGITUDE = -177.009
END_OBJECT = IMAGE_MAP_PROJECTION
/* The JPEG2000 image data file associated with this label. */
OBJECT = COMPRESSED_FILE
  FILE_NAME = "H8027_0000_S13.JP2"
  RECORD_TYPE = UNDEFINED
  FILE_RECORDS = UNK
  ENCODING_TYPE = "JP2"
  INTERCHANGE_FORMAT = BINARY
  UNCOMPRESSED_FILE_NAME = "H8027_0000_S13.IMG"
  REQUIRED_STORAGE_BYTES = "56124738"
  ^DESCRIPTION = "JP2INFO.TXT"
END_OBJECT = COMPRESSED_FILE
END
