PDS_VERSION_ID = PDS3
/* FILE DATA ELEMENTS */
RECORD_TYPE = STREAM
/* POINTERS TO DATA OBJECTS */
^COMPRESSED_FILE = "H8042_0000_P13.JP2"
/* IDENTIFICATION DATA ELEMENTS */
DATA_SET_ID = "MEX-M-HRSC-5-REFDR-MAPPROJECTED-V3.0"
DATA_SET_NAME = "MARS EXPRESS HRSC MAP PROJECTED REFDR V3.0"
DETECTOR_ID = MEX_HRSC_P1
EVENT_TYPE = "MARS-REGIONAL-VARIABLE-Gl-At"
INSTRUMENT_HOST_ID = MEX
INSTRUMENT_HOST_NAME = "MARS EXPRESS"
INSTRUMENT_ID = HRSC
INSTRUMENT_NAME = "HIGH RESOLUTION STEREO CAMERA"
MISSION_NAME = "MARS EXPRESS"
MISSION_PHASE_NAME = ME_Phase_20
PROCESSING_LEVEL_ID = 3
PRODUCT_CREATION_TIME = 2016-07-01T20:13:07.000Z
PRODUCT_ID = "H8042_0000_P13.JP2"
RELEASE_ID = 0088
REVISION_ID = 0000
/* QUALITY DATA ELEMENTS */
DATA_QUALITY_ID = 1
DATA_QUALITY_DESC = "Data calculated based on original SPICE kernels"
/* TIME DATA ELEMENTS */
SPACECRAFT_CLOCK_START_COUNT = "1/0219191945.07281"
SPACECRAFT_CLOCK_STOP_COUNT = "1/0219192733.01462"
START_TIME = 2010-04-12T22:41:54.626Z
STOP_TIME = 2010-04-12T22:51:03.392Z
/* ORBITAL DATA ELEMENTS */
ASCENDING_NODE_LONGITUDE = 63.79
MAXIMUM_RESOLUTION = 190.7
FOOTPRINT_POINT_LATITUDE = (76.0412,76.1392,76.21,76.2526,76.2661, 76.2433,76.9357,77.5356,78.1339,78.7305 ,79.3255,79.9189,80.8134,81.7005,82.581 ,83.1656,83.7487,84.3295,84.9073,85.482 ,86.0533,86.6184,87.1808,87.7275, 88.5052,88.9402,89.1784,89.0575,88.6736 ,88.1874,87.6628,87.121,86.5708,85.7372 ,85.1777,84.6175,83.7755,83.2137, 82.6513,81.8082,80.9654,80.4029,79.5592 ,78.9968,78.4346,77.8726,77.3106, 76.7486,76.1868,75.0633,75.0573,75.0482 ,74.9913,74.8633,74.7469,74.5478,74.373 ,75.0372,76.1137,77.1824,77.9776,79.027 ,80.0602,81.0715,81.5663,82.0519, 82.5264,82.9876,83.4323,83.8572,84.2577 ,84.7986,85.1103,85.3724,85.576,85.7121 ,85.7744,85.7588,85.6661,85.4992, 85.1289,84.8172,84.459,83.8569,83.1904, 82.7227,82.2373,81.7381,81.2264,80.7046 ,79.9004,79.3583,78.8094,78.2545, 77.6948,77.1301,76.5606,75.9873, 76.0412)
FOOTPRINT_POINT_LONGITUDE = (94.6603,92.2372,89.768,87.2598,84.7191 ,81.6691,81.0166,80.8332,80.6328, 80.4122,80.169,79.8989,79.4336,78.8839, 78.2,77.6492,77.0008,76.222,75.2676, 74.0729,72.5381,70.4839,67.6528,63.4086 ,51.4056,34.148,1.54258,324.335,302.362 ,291.153,284.846,280.877,278.187, 275.462,274.155,273.134,271.941,271.312 ,270.772,270.112,269.58,269.267,268.857 ,268.616,268.4,268.205,268.024,267.859, 267.709,267.439,263.908,260.164,256.934 ,253.088,250.649,247.405,245.089, 242.568,241.34,239.89,238.624,236.636, 234.212,231.208,229.429,227.424,225.155 ,222.574,219.629,216.257,212.387, 205.523,200.123,194.041,187.303,179.945 ,172.331,164.583,157.022,149.855, 140.275,134.77,129.901,123.739,118.707, 115.89,113.416,111.238,109.311,107.599, 105.355,104.059,102.889,101.831,100.869 ,99.9932,99.1919,98.4574,94.6603)
ORBIT_NUMBER = 8042
ORBITAL_ECCENTRICITY = 0.577
ORBITAL_INCLINATION = 86.84
ORBITAL_SEMIMAJOR_AXIS = 8841.4
PERIAPSIS_ALTITUDE = 352.7
PERIAPSIS_ARGUMENT_ANGLE = 28.54
PERIAPSIS_TIME = 2010-04-12T22:25:54.000Z
SPACECRAFT_ORIENTATION = (0.0,1.0,0.0)
^MEX_ORIENTATION_DESC = "MEX_ORIENTATION_DESC.TXT"
SPACECRAFT_POINTING_MODE = INERT
^MEX_POINTING_DESC = "MEX_POINTING_DESC.TXT"
RIGHT_ASCENSION = 271.544
DECLINATION = -59.642
OFFSET_ANGLE = -1e+32
SPACECRAFT_SOLAR_DISTANCE = 2.49096e+08
TARGET_NAME = MARS
/* CAMERA DATA ELEMENTS */
DETECTOR_TEMPERATURE = 16.5354
FOCAL_PLANE_TEMPERATURE = 7.3599
INST_CMPRS_NAME = "DISCRETE COSINE TRANSFORMATION (DCT)"
INST_CMPRS_RATIO = 22.9219
INST_CMPRS_QUALITY = 0
INST_CMPRS_QUANTZ_TBL_ID = 0
INSTRUMENT_TEMPERATURE = 10.8262
LENS_TEMPERATURE = 7.7677
MACROPIXEL_SIZE = 4
MISSING_FRAMES = 1
PIXEL_SUBSAMPLING_FLAG = N
SIGNAL_CHAIN_ID = 1
/* RADIOMETRIC DATA ELEMENTS */
BANDWIDTH = 174.0
CENTER_FILTER_WAVELENGTH = 675.0
RADIANCE_OFFSET = 1.9133
RADIANCE_SCALING_FACTOR = 0.0312228
REFLECTANCE_SCALING_FACTOR = 0.00104205
MEX:REFLECTANCE_OFFSET = 0.063856
/* IMAGE OBJECT DEFINITIONS */
OBJECT = IMAGE
  INTERCHANGE_FORMAT = BINARY
  LINES = 2467
  LINE_SAMPLES = 8661
  SAMPLE_TYPE = UNSIGNED_INTEGER
  SAMPLE_BITS = 8
  BANDS = 1
  BAND_STORAGE_TYPE = BAND_SEQUENTIAL
  MAXIMUM = 255
  MEAN = 121.639
  MINIMUM = 1
  STANDARD_DEVIATION = 54.7397
END_OBJECT = IMAGE
/* MAP OBJECT DEFINITIONS */
OBJECT = IMAGE_MAP_PROJECTION
  ^DATA_SET_MAP_PROJECTION_CATALOG= "DSMAP.CAT"
  A_AXIS_RADIUS = 3396.0
  B_AXIS_RADIUS = 3396.0
  C_AXIS_RADIUS = 3396.0
  CENTER_LATITUDE = 90.0
  CENTER_LONGITUDE = 0.0
  COORDINATE_SYSTEM_NAME = PLANETOGRAPHIC
  COORDINATE_SYSTEM_TYPE = "BODY-FIXED ROTATING"
  EASTERNMOST_LONGITUDE = 360.0
  FIRST_STANDARD_PARALLEL = "N/A"
  LINE_FIRST_PIXEL = 1
  LINE_LAST_PIXEL = 2467
  LINE_PROJECTION_OFFSET = 1994.75
  MAP_PROJECTION_ROTATION = 0.0
  MAP_PROJECTION_TYPE = STEREOGRAPHIC
  MAP_RESOLUTION = 296.356901933333
  MAP_SCALE = 0.2
  MAXIMUM_LATITUDE = 90.0
  MINIMUM_LATITUDE = 74.373
  POSITIVE_LONGITUDE_DIRECTION = EAST
  REFERENCE_LATITUDE = "N/A"
  REFERENCE_LONGITUDE = "N/A"
  SAMPLE_FIRST_PIXEL = 1
  SAMPLE_LAST_PIXEL = 8661
  SAMPLE_PROJECTION_OFFSET = 4459.25
  SECOND_STANDARD_PARALLEL = "N/A"
  WESTERNMOST_LONGITUDE = 0.0
END_OBJECT = IMAGE_MAP_PROJECTION
/* The JPEG2000 image data file associated with this label. */
OBJECT = COMPRESSED_FILE
  FILE_NAME = "H8042_0000_P13.JP2"
  RECORD_TYPE = UNDEFINED
  FILE_RECORDS = UNK
  ENCODING_TYPE = "JP2"
  INTERCHANGE_FORMAT = BINARY
  UNCOMPRESSED_FILE_NAME = "H8042_0000_P13.IMG"
  REQUIRED_STORAGE_BYTES = "21401331"
  ^DESCRIPTION = "JP2INFO.TXT"
END_OBJECT = COMPRESSED_FILE
END
