PDS_VERSION_ID = PDS3
/* FILE DATA ELEMENTS */
RECORD_TYPE = STREAM
/* POINTERS TO DATA OBJECTS */
^COMPRESSED_FILE = "H8160_0000_RE3.JP2"
/* IDENTIFICATION DATA ELEMENTS */
DATA_SET_ID = "MEX-M-HRSC-5-REFDR-MAPPROJECTED-V3.0"
DATA_SET_NAME = "MARS EXPRESS HRSC MAP PROJECTED REFDR V3.0"
DETECTOR_ID = MEX_HRSC_RED
EVENT_TYPE = "MARS-REGIONAL-VARIABLE-Gl-Eo-La"
INSTRUMENT_HOST_ID = MEX
INSTRUMENT_HOST_NAME = "MARS EXPRESS"
INSTRUMENT_ID = HRSC
INSTRUMENT_NAME = "HIGH RESOLUTION STEREO CAMERA"
MISSION_NAME = "MARS EXPRESS"
MISSION_PHASE_NAME = ME_Phase_20
PROCESSING_LEVEL_ID = 3
PRODUCT_CREATION_TIME = 2016-07-01T20:29:56.000Z
PRODUCT_ID = "H8160_0000_RE3.JP2"
RELEASE_ID = 0089
REVISION_ID = 0000
/* QUALITY DATA ELEMENTS */
DATA_QUALITY_ID = 1
DATA_QUALITY_DESC = "Data calculated based on original SPICE kernels"
/* TIME DATA ELEMENTS */
SPACECRAFT_CLOCK_START_COUNT = "1/0222163478.09068"
SPACECRAFT_CLOCK_STOP_COUNT = "1/0222164411.25082"
START_TIME = 2010-05-17T08:05:04.156Z
STOP_TIME = 2010-05-17T08:11:16.483Z
/* ORBITAL DATA ELEMENTS */
ASCENDING_NODE_LONGITUDE = 61.5
MAXIMUM_RESOLUTION = 120.8
FOOTPRINT_POINT_LATITUDE = (77.2914,77.6669,78.0023,78.2951, 78.5435,78.7114,78.8919,79.7347,80.5766 ,81.6246,82.6692,83.0856,83.5016, 84.3251,84.7343,85.1386,85.5399,86.1287 ,86.5095,86.8788,87.2277,87.5498, 87.8332,88.0589,88.2054,88.2505,88.1877 ,88.0262,87.7865,87.3283,86.9793, 86.6073,86.0177,85.6126,85.1983,84.7775 ,84.3511,83.9194,83.2659,82.8265, 82.3814,81.7124,81.2625,80.5836,80.1281 ,79.6712,79.2129,78.615,78.5136,78.4001 ,78.2634,78.0795,77.8671,77.6276, 77.3607,77.0692,76.7532,76.415,76.0543, 75.6719,76.0954,76.4795,76.8572,77.2269 ,77.5888,77.9423,78.2868,78.6218, 78.9462,79.4122,79.8578,80.2655,80.5229 ,80.7609,80.9812,81.1828,81.4494, 81.6686,81.7867,81.8818,81.9522,82.0141 ,82.0241,82.0094,81.9705,81.8674,81.77, 81.6505,81.4331,81.2636,81.0765,80.8727 ,80.653,80.171,79.6393,79.0655,78.4562, 77.817,77.1524,77.2914)
FOOTPRINT_POINT_LONGITUDE = (282.067,278.879,275.53,272.031,268.391 ,265.334,262.279,262.996,263.848, 265.167,266.877,267.711,268.653,270.962 ,272.393,274.067,276.051,279.8,283.0, 286.989,292.012,298.434,306.69,317.152, 329.87,343.95,357.971,370.397,380.575, 391.857,397.354,401.687,406.651,409.192 ,411.31,413.09,414.606,415.912,417.553, 418.48,419.308,420.375,420.997,421.819, 422.305,422.746,423.15,421.399,418.509, 416.029,413.603,410.907,408.294,405.774 ,403.348,401.022,398.798,396.677, 394.653,392.726,390.398,389.295,388.13, 386.898,385.595,384.216,382.757,381.213 ,379.579,376.949,374.07,370.967,368.744 ,366.418,363.979,361.428,357.396,353.14 ,350.196,347.178,344.111,339.424, 336.285,333.154,330.049,325.482,322.521 ,319.649,315.505,312.878,310.354, 307.939,305.641,301.385,297.565,294.143 ,291.087,288.356,285.915,282.067)
ORBIT_NUMBER = 8160
ORBITAL_ECCENTRICITY = 0.579
ORBITAL_INCLINATION = 86.82
ORBITAL_SEMIMAJOR_AXIS = 8871.27
PERIAPSIS_ALTITUDE = 340.42
PERIAPSIS_ARGUMENT_ANGLE = 8.1
PERIAPSIS_TIME = 2010-05-17T07:43:47.000Z
SPACECRAFT_ORIENTATION = (0.0,1.0,0.0)
^MEX_ORIENTATION_DESC = "MEX_ORIENTATION_DESC.TXT"
SPACECRAFT_POINTING_MODE = INERT
^MEX_POINTING_DESC = "MEX_POINTING_DESC.TXT"
RIGHT_ASCENSION = 280.396
DECLINATION = -39.786
OFFSET_ANGLE = -1e+32
SPACECRAFT_SOLAR_DISTANCE = 2.47567e+08
TARGET_NAME = MARS
/* CAMERA DATA ELEMENTS */
DETECTOR_TEMPERATURE = 18.7783
FOCAL_PLANE_TEMPERATURE = 8.3794
INST_CMPRS_NAME = "DISCRETE COSINE TRANSFORMATION (DCT)"
INST_CMPRS_RATIO = 10.1885
INST_CMPRS_QUALITY = 0
INST_CMPRS_QUANTZ_TBL_ID = 0
INSTRUMENT_TEMPERATURE = 11.0301
LENS_TEMPERATURE = 8.7872
MACROPIXEL_SIZE = 2
MISSING_FRAMES = 0
PIXEL_SUBSAMPLING_FLAG = N
SIGNAL_CHAIN_ID = 3
/* RADIOMETRIC DATA ELEMENTS */
BANDWIDTH = 48.0
CENTER_FILTER_WAVELENGTH = 748.0
RADIANCE_OFFSET = 0.404614
RADIANCE_SCALING_FACTOR = 0.00677662
REFLECTANCE_SCALING_FACTOR = 0.000947808
MEX:REFLECTANCE_OFFSET = 0.056591
/* IMAGE OBJECT DEFINITIONS */
OBJECT = IMAGE
  INTERCHANGE_FORMAT = BINARY
  LINES = 8724
  LINE_SAMPLES = 13726
  SAMPLE_TYPE = UNSIGNED_INTEGER
  SAMPLE_BITS = 8
  BANDS = 1
  BAND_STORAGE_TYPE = BAND_SEQUENTIAL
  MAXIMUM = 255
  MEAN = 104.532
  MINIMUM = 1
  STANDARD_DEVIATION = 55.3262
END_OBJECT = IMAGE
/* MAP OBJECT DEFINITIONS */
OBJECT = IMAGE_MAP_PROJECTION
  ^DATA_SET_MAP_PROJECTION_CATALOG= "DSMAP.CAT"
  A_AXIS_RADIUS = 3396.0
  B_AXIS_RADIUS = 3396.0
  C_AXIS_RADIUS = 3396.0
  CENTER_LATITUDE = 90.0
  CENTER_LONGITUDE = 0.0
  COORDINATE_SYSTEM_NAME = PLANETOGRAPHIC
  COORDINATE_SYSTEM_TYPE = "BODY-FIXED ROTATING"
  EASTERNMOST_LONGITUDE = 63.15
  FIRST_STANDARD_PARALLEL = "N/A"
  LINE_FIRST_PIXEL = 1
  LINE_LAST_PIXEL = 8724
  LINE_PROJECTION_OFFSET = 1133.75
  MAP_PROJECTION_ROTATION = 0.0
  MAP_PROJECTION_TYPE = STEREOGRAPHIC
  MAP_RESOLUTION = 592.713803866667
  MAP_SCALE = 0.1
  MAXIMUM_LATITUDE = 88.2505
  MINIMUM_LATITUDE = 75.67189999999999
  POSITIVE_LONGITUDE_DIRECTION = EAST
  REFERENCE_LATITUDE = "N/A"
  REFERENCE_LONGITUDE = "N/A"
  SAMPLE_FIRST_PIXEL = 1
  SAMPLE_LAST_PIXEL = 13726
  SAMPLE_PROJECTION_OFFSET = 7617.75
  SECOND_STANDARD_PARALLEL = "N/A"
  WESTERNMOST_LONGITUDE = -97.721
END_OBJECT = IMAGE_MAP_PROJECTION
/* The JPEG2000 image data file associated with this label. */
OBJECT = COMPRESSED_FILE
  FILE_NAME = "H8160_0000_RE3.JP2"
  RECORD_TYPE = UNDEFINED
  FILE_RECORDS = UNK
  ENCODING_TYPE = "JP2"
  INTERCHANGE_FORMAT = BINARY
  UNCOMPRESSED_FILE_NAME = "H8160_0000_RE3.IMG"
  REQUIRED_STORAGE_BYTES = "119786802"
  ^DESCRIPTION = "JP2INFO.TXT"
END_OBJECT = COMPRESSED_FILE
END
