PDS_VERSION_ID = PDS3
/* FILE DATA ELEMENTS */
RECORD_TYPE = STREAM
/* POINTERS TO DATA OBJECTS */
^COMPRESSED_FILE = "H8160_0000_S13.JP2"
/* IDENTIFICATION DATA ELEMENTS */
DATA_SET_ID = "MEX-M-HRSC-5-REFDR-MAPPROJECTED-V3.0"
DATA_SET_NAME = "MARS EXPRESS HRSC MAP PROJECTED REFDR V3.0"
DETECTOR_ID = MEX_HRSC_S1
EVENT_TYPE = "MARS-REGIONAL-VARIABLE-Gl-Eo-La"
INSTRUMENT_HOST_ID = MEX
INSTRUMENT_HOST_NAME = "MARS EXPRESS"
INSTRUMENT_ID = HRSC
INSTRUMENT_NAME = "HIGH RESOLUTION STEREO CAMERA"
MISSION_NAME = "MARS EXPRESS"
MISSION_PHASE_NAME = ME_Phase_20
PROCESSING_LEVEL_ID = 3
PRODUCT_CREATION_TIME = 2016-07-01T20:29:56.000Z
PRODUCT_ID = "H8160_0000_S13.JP2"
RELEASE_ID = 0089
REVISION_ID = 0000
/* QUALITY DATA ELEMENTS */
DATA_QUALITY_ID = 1
DATA_QUALITY_DESC = "Data calculated based on original SPICE kernels"
/* TIME DATA ELEMENTS */
SPACECRAFT_CLOCK_START_COUNT = "1/0222163478.09068"
SPACECRAFT_CLOCK_STOP_COUNT = "1/0222164411.25082"
START_TIME = 2010-05-17T08:11:34.279Z
STOP_TIME = 2010-05-17T08:20:11.990Z
/* ORBITAL DATA ELEMENTS */
ASCENDING_NODE_LONGITUDE = 61.5
MAXIMUM_RESOLUTION = 179.9
FOOTPRINT_POINT_LATITUDE = (76.7149,77.0807,77.4257,77.7489, 78.0492,78.3252,78.5757,78.7995,78.9957 ,79.1629,79.3003,79.4066,79.9595, 80.4196,80.8819,81.3395,82.0248,82.48, 83.161,83.6129,84.289,84.7374,85.184, 85.8511,86.2953,86.7346,87.1693,87.6016 ,88.0252,88.435,88.818,89.1399,89.3109, 89.0998,88.5783,87.9757,87.5577,86.9211 ,86.4921,86.0631,85.4163,84.9844, 84.5523,84.1202,83.6885,83.0397,82.1753 ,81.3121,80.4494,79.1556,78.509,78.403, 78.3035,78.1919,78.0236,77.8136,77.563, 77.2735,76.9473,76.5863,76.1927,75.7678 ,75.3133,74.9936,75.6728,76.3309, 76.9648,77.5704,78.2811,78.6793,79.0525 ,79.3984,79.8126,79.9948,80.4487, 80.6588,80.786,80.8194,80.8284,80.8186, 80.7845,80.6957,80.6071,80.4389,80.3028 ,80.1463,79.9717,79.6797,79.4641, 79.2307,78.9851,78.7256,78.4534,78.0225 ,77.722,77.4104,77.0892,76.5911,76.2485 ,76.7149)
FOOTPRINT_POINT_LONGITUDE = (285.725,283.71,281.588,279.357,277.014 ,274.559,271.999,269.335,266.572, 263.715,260.777,257.772,255.641,255.804 ,255.992,256.195,256.55,256.825,257.312 ,257.695,258.392,258.957,259.629, 260.917,262.054,263.484,265.345,267.924 ,271.606,277.247,286.678,304.009, 334.711,381.675,402.36,411.354,414.816, 418.213,419.776,420.998,422.385,423.104 ,423.705,424.214,424.652,425.195, 425.771,426.224,426.585,427.002,427.167 ,423.035,418.453,415.304,411.784, 408.368,405.067,401.888,398.844,395.939 ,393.173,390.547,388.056,386.458, 384.441,382.213,379.75,377.025,373.216, 370.704,367.997,365.098,360.932,358.687 ,351.562,346.452,341.116,338.411, 335.666,332.939,330.203,326.164,323.502 ,319.627,317.126,314.692,312.336, 308.964,306.821,304.76,302.792,300.91, 299.114,296.576,294.985,293.469,292.027 ,289.997,288.725,285.725)
ORBIT_NUMBER = 8160
ORBITAL_ECCENTRICITY = 0.579
ORBITAL_INCLINATION = 86.82
ORBITAL_SEMIMAJOR_AXIS = 8871.27
PERIAPSIS_ALTITUDE = 340.42
PERIAPSIS_ARGUMENT_ANGLE = 8.1
PERIAPSIS_TIME = 2010-05-17T07:43:47.000Z
SPACECRAFT_ORIENTATION = (0.0,1.0,0.0)
^MEX_ORIENTATION_DESC = "MEX_ORIENTATION_DESC.TXT"
SPACECRAFT_POINTING_MODE = INERT
^MEX_POINTING_DESC = "MEX_POINTING_DESC.TXT"
RIGHT_ASCENSION = 280.396
DECLINATION = -39.786
OFFSET_ANGLE = -1e+32
SPACECRAFT_SOLAR_DISTANCE = 2.47567e+08
TARGET_NAME = MARS
/* CAMERA DATA ELEMENTS */
DETECTOR_TEMPERATURE = 17.351
FOCAL_PLANE_TEMPERATURE = 8.3794
INST_CMPRS_NAME = "DISCRETE COSINE TRANSFORMATION (DCT)"
INST_CMPRS_RATIO = 14.4848
INST_CMPRS_QUALITY = 0
INST_CMPRS_QUANTZ_TBL_ID = 0
INSTRUMENT_TEMPERATURE = 11.0301
LENS_TEMPERATURE = 8.7872
MACROPIXEL_SIZE = 2
MISSING_FRAMES = 0
PIXEL_SUBSAMPLING_FLAG = N
SIGNAL_CHAIN_ID = 1
/* RADIOMETRIC DATA ELEMENTS */
BANDWIDTH = 180.0
CENTER_FILTER_WAVELENGTH = 677.0
RADIANCE_OFFSET = 1.56115
RADIANCE_SCALING_FACTOR = 0.0299111
REFLECTANCE_SCALING_FACTOR = 0.000956433
MEX:REFLECTANCE_OFFSET = 0.0499191
/* IMAGE OBJECT DEFINITIONS */
OBJECT = IMAGE
  INTERCHANGE_FORMAT = BINARY
  LINES = 8724
  LINE_SAMPLES = 13726
  SAMPLE_TYPE = UNSIGNED_INTEGER
  SAMPLE_BITS = 8
  BANDS = 1
  BAND_STORAGE_TYPE = BAND_SEQUENTIAL
  MAXIMUM = 255
  MEAN = 105.39
  MINIMUM = 1
  STANDARD_DEVIATION = 55.9857
END_OBJECT = IMAGE
/* MAP OBJECT DEFINITIONS */
OBJECT = IMAGE_MAP_PROJECTION
  ^DATA_SET_MAP_PROJECTION_CATALOG= "DSMAP.CAT"
  A_AXIS_RADIUS = 3396.0
  B_AXIS_RADIUS = 3396.0
  C_AXIS_RADIUS = 3396.0
  CENTER_LATITUDE = 90.0
  CENTER_LONGITUDE = 0.0
  COORDINATE_SYSTEM_NAME = PLANETOGRAPHIC
  COORDINATE_SYSTEM_TYPE = "BODY-FIXED ROTATING"
  EASTERNMOST_LONGITUDE = 67.167
  FIRST_STANDARD_PARALLEL = "N/A"
  LINE_FIRST_PIXEL = 1
  LINE_LAST_PIXEL = 8724
  LINE_PROJECTION_OFFSET = 1133.75
  MAP_PROJECTION_ROTATION = 0.0
  MAP_PROJECTION_TYPE = STEREOGRAPHIC
  MAP_RESOLUTION = 592.713803866667
  MAP_SCALE = 0.1
  MAXIMUM_LATITUDE = 89.3109
  MINIMUM_LATITUDE = 74.9936
  POSITIVE_LONGITUDE_DIRECTION = EAST
  REFERENCE_LATITUDE = "N/A"
  REFERENCE_LONGITUDE = "N/A"
  SAMPLE_FIRST_PIXEL = 1
  SAMPLE_LAST_PIXEL = 13726
  SAMPLE_PROJECTION_OFFSET = 7617.75
  SECOND_STANDARD_PARALLEL = "N/A"
  WESTERNMOST_LONGITUDE = -104.359
END_OBJECT = IMAGE_MAP_PROJECTION
/* The JPEG2000 image data file associated with this label. */
OBJECT = COMPRESSED_FILE
  FILE_NAME = "H8160_0000_S13.JP2"
  RECORD_TYPE = UNDEFINED
  FILE_RECORDS = UNK
  ENCODING_TYPE = "JP2"
  INTERCHANGE_FORMAT = BINARY
  UNCOMPRESSED_FILE_NAME = "H8160_0000_S13.IMG"
  REQUIRED_STORAGE_BYTES = "119786802"
  ^DESCRIPTION = "JP2INFO.TXT"
END_OBJECT = COMPRESSED_FILE
END
