PDS_VERSION_ID = PDS3
/* FILE DATA ELEMENTS */
RECORD_TYPE = STREAM
/* POINTERS TO DATA OBJECTS */
^COMPRESSED_FILE = "H8202_0000_BL3.JP2"
/* IDENTIFICATION DATA ELEMENTS */
DATA_SET_ID = "MEX-M-HRSC-5-REFDR-MAPPROJECTED-V3.0"
DATA_SET_NAME = "MARS EXPRESS HRSC MAP PROJECTED REFDR V3.0"
DETECTOR_ID = MEX_HRSC_BLUE
EVENT_TYPE = "MARS-REGIONAL-MAPPING-Im-Pf-Eo"
INSTRUMENT_HOST_ID = MEX
INSTRUMENT_HOST_NAME = "MARS EXPRESS"
INSTRUMENT_ID = HRSC
INSTRUMENT_NAME = "HIGH RESOLUTION STEREO CAMERA"
MISSION_NAME = "MARS EXPRESS"
MISSION_PHASE_NAME = ME_Phase_20
PROCESSING_LEVEL_ID = 3
PRODUCT_CREATION_TIME = 2016-10-25T11:55:47.000Z
PRODUCT_ID = "H8202_0000_BL3.JP2"
RELEASE_ID = 0090
REVISION_ID = 0000
/* QUALITY DATA ELEMENTS */
DATA_QUALITY_ID = 1
DATA_QUALITY_DESC = "Data calculated based on original SPICE kernels"
/* TIME DATA ELEMENTS */
SPACECRAFT_CLOCK_START_COUNT = "1/0223220608.08271"
SPACECRAFT_CLOCK_STOP_COUNT = "1/0223221565.40700"
START_TIME = 2010-05-29T13:45:21.447Z
STOP_TIME = 2010-05-29T13:50:34.204Z
/* ORBITAL DATA ELEMENTS */
ASCENDING_NODE_LONGITUDE = 60.69
MAXIMUM_RESOLUTION = 94.7
FOOTPRINT_POINT_LATITUDE = (61.3436,61.3947,61.4366,61.4754, 61.5111,61.5436,61.5731,61.5995,61.6228 ,61.6431,61.6603,61.6744,61.6889, 61.9943,62.2703,62.5477,62.9631,63.2388 ,63.5135,63.9534,64.2258,64.4971, 64.7676,65.0371,65.3058,65.5735,65.8402 ,66.1061,66.371,66.6351,66.8984,67.1606 ,67.4219,67.6824,67.9419,68.2005, 68.4583,68.7152,68.9711,69.2262,69.7338 ,70.2378,70.7384,71.2356,71.7294, 72.2198,72.7068,73.1905,73.671,74.1481, 74.622,74.6868,74.6573,74.6098,74.5548, 74.488,74.4095,74.3072,74.2441,74.1338, 74.0123,73.8622,73.66,73.5327,73.1129, 72.6872,72.2558,71.8188,71.3763,70.9284 ,70.4752,70.0168,69.5531,69.0844, 68.6107,68.1319,67.6482,67.1597,66.9135 ,66.6662,66.4177,66.1679,65.917,65.6649 ,65.4116,65.1572,64.9015,64.6447, 64.3867,64.1276,63.8672,63.6057,63.3431 ,63.0507,62.7856,62.5194,62.1179, 61.8497,61.5828,61.3436)
FOOTPRINT_POINT_LONGITUDE = (288.981,288.239,287.581,286.922, 286.263,285.604,284.945,284.286,283.628 ,282.969,282.31,281.649,280.741,280.39, 280.374,280.357,280.331,280.314,280.296 ,280.267,280.249,280.231,280.213, 280.195,280.176,280.157,280.138,280.119 ,280.099,280.08,280.06,280.04,280.019, 279.999,279.978,279.957,279.936,279.915 ,279.893,279.872,279.827,279.782, 279.736,279.688,279.639,279.588,279.537 ,279.484,279.428,279.372,279.313, 280.552,282.224,284.097,285.747,287.386 ,289.01,290.821,291.819,293.4,294.962, 296.696,298.778,299.963,299.262,298.595 ,297.957,297.349,296.768,296.214, 295.683,295.176,294.69,294.226,293.781, 293.355,292.946,292.555,292.365,292.179 ,291.996,291.818,291.643,291.472, 291.304,291.14,290.979,290.821,290.667, 290.515,290.367,290.221,290.078,289.924 ,289.787,289.653,289.456,289.329, 289.205,288.981)
ORBIT_NUMBER = 8202
ORBITAL_ECCENTRICITY = 0.579
ORBITAL_INCLINATION = 86.83
ORBITAL_SEMIMAJOR_AXIS = 8864.69
PERIAPSIS_ALTITUDE = 337.13
PERIAPSIS_ARGUMENT_ANGLE = 0.8
PERIAPSIS_TIME = 2010-05-29T13:27:49.000Z
SPACECRAFT_ORIENTATION = (0.0,1.0,0.0)
^MEX_ORIENTATION_DESC = "MEX_ORIENTATION_DESC.TXT"
SPACECRAFT_POINTING_MODE = ACROSSTRACK
^MEX_POINTING_DESC = "MEX_POINTING_DESC.TXT"
RIGHT_ASCENSION = -1e+32
DECLINATION = -1e+32
OFFSET_ANGLE = -0.6
SPACECRAFT_SOLAR_DISTANCE = 2.46615e+08
TARGET_NAME = MARS
/* CAMERA DATA ELEMENTS */
DETECTOR_TEMPERATURE = 18.3705
FOCAL_PLANE_TEMPERATURE = 7.7677
INST_CMPRS_NAME = "DISCRETE COSINE TRANSFORMATION (DCT)"
INST_CMPRS_RATIO = 7.38246
INST_CMPRS_QUALITY = 0
INST_CMPRS_QUANTZ_TBL_ID = 0
INSTRUMENT_TEMPERATURE = 11.234
LENS_TEMPERATURE = 8.1755
MACROPIXEL_SIZE = 2
MISSING_FRAMES = 3
PIXEL_SUBSAMPLING_FLAG = N
SIGNAL_CHAIN_ID = 2
/* RADIOMETRIC DATA ELEMENTS */
BANDWIDTH = 76.0
CENTER_FILTER_WAVELENGTH = 444.0
RADIANCE_OFFSET = 0.222841
RADIANCE_SCALING_FACTOR = 0.000873884
REFLECTANCE_SCALING_FACTOR = 5.46067e-05
MEX:REFLECTANCE_OFFSET = 0.0139247
/* IMAGE OBJECT DEFINITIONS */
OBJECT = IMAGE
  INTERCHANGE_FORMAT = BINARY
  LINES = 7924
  LINE_SAMPLES = 4115
  SAMPLE_TYPE = UNSIGNED_INTEGER
  SAMPLE_BITS = 8
  BANDS = 1
  BAND_STORAGE_TYPE = BAND_SEQUENTIAL
  MAXIMUM = 255
  MEAN = 128.996
  MINIMUM = 1
  STANDARD_DEVIATION = 36.5863
END_OBJECT = IMAGE
/* MAP OBJECT DEFINITIONS */
OBJECT = IMAGE_MAP_PROJECTION
  ^DATA_SET_MAP_PROJECTION_CATALOG= "DSMAP.CAT"
  A_AXIS_RADIUS = 3396.0
  B_AXIS_RADIUS = 3396.0
  C_AXIS_RADIUS = 3396.0
  CENTER_LATITUDE = 0.0
  CENTER_LONGITUDE = 287.0
  COORDINATE_SYSTEM_NAME = PLANETOGRAPHIC
  COORDINATE_SYSTEM_TYPE = "BODY-FIXED ROTATING"
  EASTERNMOST_LONGITUDE = 299.963
  FIRST_STANDARD_PARALLEL = "N/A"
  LINE_FIRST_PIXEL = 1
  LINE_LAST_PIXEL = 7924
  LINE_PROJECTION_OFFSET = 44282.25
  MAP_PROJECTION_ROTATION = 0.0
  MAP_PROJECTION_TYPE = SINUSOIDAL
  MAP_RESOLUTION = 592.713803866667
  MAP_SCALE = 0.1
  MAXIMUM_LATITUDE = 74.68680000000001
  MINIMUM_LATITUDE = 61.3436
  POSITIVE_LONGITUDE_DIRECTION = EAST
  REFERENCE_LATITUDE = "N/A"
  REFERENCE_LONGITUDE = "N/A"
  SAMPLE_FIRST_PIXEL = 1
  SAMPLE_LAST_PIXEL = 4115
  SAMPLE_PROJECTION_OFFSET = 1885.75
  SECOND_STANDARD_PARALLEL = "N/A"
  WESTERNMOST_LONGITUDE = 279.313
END_OBJECT = IMAGE_MAP_PROJECTION
/* The JPEG2000 image data file associated with this label. */
OBJECT = COMPRESSED_FILE
  FILE_NAME = "H8202_0000_BL3.JP2"
  RECORD_TYPE = UNDEFINED
  FILE_RECORDS = UNK
  ENCODING_TYPE = "JP2"
  INTERCHANGE_FORMAT = BINARY
  UNCOMPRESSED_FILE_NAME = "H8202_0000_BL3.IMG"
  REQUIRED_STORAGE_BYTES = "32631950"
  ^DESCRIPTION = "JP2INFO.TXT"
END_OBJECT = COMPRESSED_FILE
END
