PDS_VERSION_ID = PDS3
/* FILE DATA ELEMENTS */
RECORD_TYPE = STREAM
/* POINTERS TO DATA OBJECTS */
^COMPRESSED_FILE = "H8202_0000_IR3.JP2"
/* IDENTIFICATION DATA ELEMENTS */
DATA_SET_ID = "MEX-M-HRSC-5-REFDR-MAPPROJECTED-V3.0"
DATA_SET_NAME = "MARS EXPRESS HRSC MAP PROJECTED REFDR V3.0"
DETECTOR_ID = MEX_HRSC_IR
EVENT_TYPE = "MARS-REGIONAL-MAPPING-Im-Pf-Eo"
INSTRUMENT_HOST_ID = MEX
INSTRUMENT_HOST_NAME = "MARS EXPRESS"
INSTRUMENT_ID = HRSC
INSTRUMENT_NAME = "HIGH RESOLUTION STEREO CAMERA"
MISSION_NAME = "MARS EXPRESS"
MISSION_PHASE_NAME = ME_Phase_20
PROCESSING_LEVEL_ID = 3
PRODUCT_CREATION_TIME = 2016-10-25T11:55:47.000Z
PRODUCT_ID = "H8202_0000_IR3.JP2"
RELEASE_ID = 0090
REVISION_ID = 0000
/* QUALITY DATA ELEMENTS */
DATA_QUALITY_ID = 1
DATA_QUALITY_DESC = "Data calculated based on original SPICE kernels"
/* TIME DATA ELEMENTS */
SPACECRAFT_CLOCK_START_COUNT = "1/0223220608.08271"
SPACECRAFT_CLOCK_STOP_COUNT = "1/0223221565.40700"
START_TIME = 2010-05-29T13:48:45.356Z
STOP_TIME = 2010-05-29T13:57:07.455Z
/* ORBITAL DATA ELEMENTS */
ASCENDING_NODE_LONGITUDE = 60.69
MAXIMUM_RESOLUTION = 124.3
FOOTPRINT_POINT_LATITUDE = (61.3352,61.4157,61.4899,61.5578, 61.6194,61.6747,61.7237,61.7664,61.8027 ,61.8329,61.8567,61.8761,61.9214, 62.2343,62.545,62.8535,63.1597,63.4625, 63.7632,64.0617,64.3576,64.6513,64.9425 ,65.2317,65.5182,65.8026,66.0848, 66.6423,67.1902,67.7299,68.261,68.7842, 69.2986,69.8049,70.3032,70.7936,71.276, 71.7506,72.218,72.6778,73.1303,73.5757, 74.0127,74.4442,74.8034,74.809,74.7983, 74.7775,74.7455,74.712,74.6719,74.5851, 74.5264,74.4609,74.3887,74.3105,74.2248 ,74.1091,74.0095,73.9036,73.7918, 73.6738,73.5499,73.4196,73.2837,73.1422 ,72.9948,72.8279,72.4798,72.1228, 71.7564,71.3807,70.9955,70.6006,70.1961 ,69.7821,69.3585,68.9252,68.4818, 68.0286,67.5651,67.092,66.6085,66.1146, 65.6105,65.096,64.5706,64.3038,64.0344, 63.7623,63.4876,63.2097,62.9294,62.6462 ,62.3602,62.0714,61.7799,61.4854, 61.1882,61.3352)
FOOTPRINT_POINT_LONGITUDE = (289.367,288.542,287.714,286.884, 286.052,285.219,284.383,283.547,282.709 ,281.87,281.028,280.08,279.092,279.034, 278.975,278.914,278.853,278.79,278.725, 278.66,278.593,278.524,278.454,278.383, 278.31,278.236,278.16,278.003,277.839, 277.667,277.489,277.302,277.107,276.903 ,276.689,276.466,276.232,275.986, 275.729,275.459,275.176,274.879,274.566 ,274.239,274.235,276.327,277.816, 279.302,280.779,281.955,283.124,285.152 ,286.299,287.438,288.566,289.684, 290.791,292.158,293.238,294.304,295.357 ,296.395,297.419,298.428,299.422, 300.402,301.367,302.401,301.714,301.045 ,300.395,299.762,299.147,298.549, 297.968,297.404,296.857,296.326,295.811 ,295.311,294.826,294.357,293.902, 293.461,293.034,292.621,292.221,292.026 ,291.834,291.645,291.46,291.277,291.098 ,290.922,290.748,290.578,290.41,290.245 ,290.084,289.367)
ORBIT_NUMBER = 8202
ORBITAL_ECCENTRICITY = 0.579
ORBITAL_INCLINATION = 86.83
ORBITAL_SEMIMAJOR_AXIS = 8864.69
PERIAPSIS_ALTITUDE = 337.13
PERIAPSIS_ARGUMENT_ANGLE = 0.8
PERIAPSIS_TIME = 2010-05-29T13:27:49.000Z
SPACECRAFT_ORIENTATION = (0.0,1.0,0.0)
^MEX_ORIENTATION_DESC = "MEX_ORIENTATION_DESC.TXT"
SPACECRAFT_POINTING_MODE = ACROSSTRACK
^MEX_POINTING_DESC = "MEX_POINTING_DESC.TXT"
RIGHT_ASCENSION = -1e+32
DECLINATION = -1e+32
OFFSET_ANGLE = -0.6
SPACECRAFT_SOLAR_DISTANCE = 2.46615e+08
TARGET_NAME = MARS
/* CAMERA DATA ELEMENTS */
DETECTOR_TEMPERATURE = 17.351
FOCAL_PLANE_TEMPERATURE = 7.7677
INST_CMPRS_NAME = "DISCRETE COSINE TRANSFORMATION (DCT)"
INST_CMPRS_RATIO = 8.78825
INST_CMPRS_QUALITY = 0
INST_CMPRS_QUANTZ_TBL_ID = 0
INSTRUMENT_TEMPERATURE = 11.234
LENS_TEMPERATURE = 8.1755
MACROPIXEL_SIZE = 2
MISSING_FRAMES = 0
PIXEL_SUBSAMPLING_FLAG = N
SIGNAL_CHAIN_ID = 3
/* RADIOMETRIC DATA ELEMENTS */
BANDWIDTH = 81.0
CENTER_FILTER_WAVELENGTH = 955.5
RADIANCE_OFFSET = 0.259481
RADIANCE_SCALING_FACTOR = 0.00222016
REFLECTANCE_SCALING_FACTOR = 0.000291304
MEX:REFLECTANCE_OFFSET = 0.0340461
/* IMAGE OBJECT DEFINITIONS */
OBJECT = IMAGE
  INTERCHANGE_FORMAT = BINARY
  LINES = 7924
  LINE_SAMPLES = 4115
  SAMPLE_TYPE = UNSIGNED_INTEGER
  SAMPLE_BITS = 8
  BANDS = 1
  BAND_STORAGE_TYPE = BAND_SEQUENTIAL
  MAXIMUM = 255
  MEAN = 110.52
  MINIMUM = 5
  STANDARD_DEVIATION = 44.0431
END_OBJECT = IMAGE
/* MAP OBJECT DEFINITIONS */
OBJECT = IMAGE_MAP_PROJECTION
  ^DATA_SET_MAP_PROJECTION_CATALOG= "DSMAP.CAT"
  A_AXIS_RADIUS = 3396.0
  B_AXIS_RADIUS = 3396.0
  C_AXIS_RADIUS = 3396.0
  CENTER_LATITUDE = 0.0
  CENTER_LONGITUDE = 287.0
  COORDINATE_SYSTEM_NAME = PLANETOGRAPHIC
  COORDINATE_SYSTEM_TYPE = "BODY-FIXED ROTATING"
  EASTERNMOST_LONGITUDE = 302.401
  FIRST_STANDARD_PARALLEL = "N/A"
  LINE_FIRST_PIXEL = 1
  LINE_LAST_PIXEL = 7924
  LINE_PROJECTION_OFFSET = 44282.25
  MAP_PROJECTION_ROTATION = 0.0
  MAP_PROJECTION_TYPE = SINUSOIDAL
  MAP_RESOLUTION = 592.713803866667
  MAP_SCALE = 0.1
  MAXIMUM_LATITUDE = 74.809
  MINIMUM_LATITUDE = 61.1882
  POSITIVE_LONGITUDE_DIRECTION = EAST
  REFERENCE_LATITUDE = "N/A"
  REFERENCE_LONGITUDE = "N/A"
  SAMPLE_FIRST_PIXEL = 1
  SAMPLE_LAST_PIXEL = 4115
  SAMPLE_PROJECTION_OFFSET = 1885.75
  SECOND_STANDARD_PARALLEL = "N/A"
  WESTERNMOST_LONGITUDE = 274.235
END_OBJECT = IMAGE_MAP_PROJECTION
/* The JPEG2000 image data file associated with this label. */
OBJECT = COMPRESSED_FILE
  FILE_NAME = "H8202_0000_IR3.JP2"
  RECORD_TYPE = UNDEFINED
  FILE_RECORDS = UNK
  ENCODING_TYPE = "JP2"
  INTERCHANGE_FORMAT = BINARY
  UNCOMPRESSED_FILE_NAME = "H8202_0000_IR3.IMG"
  REQUIRED_STORAGE_BYTES = "32631950"
  ^DESCRIPTION = "JP2INFO.TXT"
END_OBJECT = COMPRESSED_FILE
END
