PDS_VERSION_ID = PDS3
/* FILE DATA ELEMENTS */
RECORD_TYPE = STREAM
/* POINTERS TO DATA OBJECTS */
^COMPRESSED_FILE = "H8203_0000_S13.JP2"
/* IDENTIFICATION DATA ELEMENTS */
DATA_SET_ID = "MEX-M-HRSC-5-REFDR-MAPPROJECTED-V3.0"
DATA_SET_NAME = "MARS EXPRESS HRSC MAP PROJECTED REFDR V3.0"
DETECTOR_ID = MEX_HRSC_S1
EVENT_TYPE = "MARS-REGIONAL-MAPPING-Vo-Im-Pf"
INSTRUMENT_HOST_ID = MEX
INSTRUMENT_HOST_NAME = "MARS EXPRESS"
INSTRUMENT_ID = HRSC
INSTRUMENT_NAME = "HIGH RESOLUTION STEREO CAMERA"
MISSION_NAME = "MARS EXPRESS"
MISSION_PHASE_NAME = ME_Phase_20
PROCESSING_LEVEL_ID = 3
PRODUCT_CREATION_TIME = 2016-10-25T11:55:47.000Z
PRODUCT_ID = "H8203_0000_S13.JP2"
RELEASE_ID = 0090
REVISION_ID = 0000
/* QUALITY DATA ELEMENTS */
DATA_QUALITY_ID = 1
DATA_QUALITY_DESC = "Data calculated based on original SPICE kernels"
/* TIME DATA ELEMENTS */
SPACECRAFT_CLOCK_START_COUNT = "1/0223245598.09061"
SPACECRAFT_CLOCK_STOP_COUNT = "1/0223246510.25257"
START_TIME = 2010-05-29T20:43:53.535Z
STOP_TIME = 2010-05-29T20:55:11.063Z
/* ORBITAL DATA ELEMENTS */
ASCENDING_NODE_LONGITUDE = 60.67
MAXIMUM_RESOLUTION = 94.5
FOOTPRINT_POINT_LATITUDE = (51.113,51.1346,51.1459,51.1467,51.1369 ,51.1163,50.9718,51.4079,51.8477,52.292 ,52.7392,53.1895,53.6427,54.0998, 54.5604,55.0247,55.4884,55.9467,56.3996 ,56.8473,57.2897,57.727,58.1592,58.5867 ,59.0078,59.4243,59.8361,60.2438, 60.6449,61.0423,61.4341,61.8213,62.2039 ,62.5818,62.9553,63.3242,63.6884,64.048 ,64.7544,65.4431,66.1147,66.7691, 67.4067,68.0281,68.6332,69.2223,69.7975 ,70.1381,70.2011,70.2418,70.2572, 70.2643,70.2513,70.2182,70.1716,70.1096 ,70.02,69.9116,69.8012,69.7126,69.577, 69.182,68.6514,68.1035,67.538,66.956, 66.356,65.7382,65.102,64.4476,63.7743, 63.0813,62.3687,62.0053,61.6359,61.2615 ,60.8823,60.4983,60.1088,59.714,59.3134 ,58.9087,58.4982,58.082,57.6605,57.2334 ,56.8008,56.363,55.9191,55.4696,55.0144 ,54.3304,53.8782,53.4292,52.9834, 52.5403,52.1008,51.6635,51.2301,51.113)
FOOTPRINT_POINT_LONGITUDE = (180.968,180.025,179.077,178.125, 177.168,176.204,175.433,175.364,175.293 ,175.22,175.144,175.064,174.981,174.895 ,174.805,174.712,174.616,174.518, 174.417,174.314,174.209,174.101,173.991 ,173.879,173.763,173.645,173.524, 173.401,173.274,173.145,173.012,172.877 ,172.738,172.596,172.45,172.302,172.149 ,171.993,171.67,171.331,170.975,170.601 ,170.209,169.797,169.365,168.91,168.435 ,168.815,170.583,172.35,173.454,175.436 ,176.969,178.713,180.229,181.735, 183.441,185.126,186.584,187.615,189.042 ,190.054,189.532,189.027,188.538, 188.066,187.61,187.171,186.747,186.339, 185.947,185.57,185.208,185.033,184.861, 184.693,184.528,184.367,184.209,184.055 ,183.905,183.757,183.613,183.472, 183.335,183.2,183.069,182.941,182.816, 182.694,182.575,182.404,182.297,182.193 ,182.095,182.0,181.909,181.822,181.738, 180.968)
ORBIT_NUMBER = 8203
ORBITAL_ECCENTRICITY = 0.578
ORBITAL_INCLINATION = 86.84
ORBITAL_SEMIMAJOR_AXIS = 8853.13
PERIAPSIS_ALTITUDE = 337.52
PERIAPSIS_ARGUMENT_ANGLE = 0.62
PERIAPSIS_TIME = 2010-05-29T20:27:23.000Z
SPACECRAFT_ORIENTATION = (0.0,1.0,0.0)
^MEX_ORIENTATION_DESC = "MEX_ORIENTATION_DESC.TXT"
SPACECRAFT_POINTING_MODE = ACROSSTRACK
^MEX_POINTING_DESC = "MEX_POINTING_DESC.TXT"
RIGHT_ASCENSION = -1e+32
DECLINATION = -1e+32
OFFSET_ANGLE = 0.916
SPACECRAFT_SOLAR_DISTANCE = 2.4659e+08
TARGET_NAME = MARS
/* CAMERA DATA ELEMENTS */
DETECTOR_TEMPERATURE = 17.351
FOCAL_PLANE_TEMPERATURE = 7.5638
INST_CMPRS_NAME = "DISCRETE COSINE TRANSFORMATION (DCT)"
INST_CMPRS_RATIO = 16.1342
INST_CMPRS_QUALITY = 0
INST_CMPRS_QUANTZ_TBL_ID = 0
INSTRUMENT_TEMPERATURE = 11.0301
LENS_TEMPERATURE = 7.9716
MACROPIXEL_SIZE = 2
MISSING_FRAMES = 0
PIXEL_SUBSAMPLING_FLAG = N
SIGNAL_CHAIN_ID = 1
/* RADIOMETRIC DATA ELEMENTS */
BANDWIDTH = 180.0
CENTER_FILTER_WAVELENGTH = 677.0
RADIANCE_OFFSET = 1.47293
RADIANCE_SCALING_FACTOR = 0.00966629
REFLECTANCE_SCALING_FACTOR = 0.000306655
MEX:REFLECTANCE_OFFSET = 0.0467274
/* IMAGE OBJECT DEFINITIONS */
OBJECT = IMAGE
  INTERCHANGE_FORMAT = BINARY
  LINES = 22856
  LINE_SAMPLES = 6358
  SAMPLE_TYPE = UNSIGNED_INTEGER
  SAMPLE_BITS = 8
  BANDS = 1
  BAND_STORAGE_TYPE = BAND_SEQUENTIAL
  MAXIMUM = 255
  MEAN = 119.797
  MINIMUM = 1
  STANDARD_DEVIATION = 45.8514
END_OBJECT = IMAGE
/* MAP OBJECT DEFINITIONS */
OBJECT = IMAGE_MAP_PROJECTION
  ^DATA_SET_MAP_PROJECTION_CATALOG= "DSMAP.CAT"
  A_AXIS_RADIUS = 3396.0
  B_AXIS_RADIUS = 3396.0
  C_AXIS_RADIUS = 3396.0
  CENTER_LATITUDE = 0.0
  CENTER_LONGITUDE = 179.0
  COORDINATE_SYSTEM_NAME = PLANETOGRAPHIC
  COORDINATE_SYSTEM_TYPE = "BODY-FIXED ROTATING"
  EASTERNMOST_LONGITUDE = 190.054
  FIRST_STANDARD_PARALLEL = "N/A"
  LINE_FIRST_PIXEL = 1
  LINE_LAST_PIXEL = 22856
  LINE_PROJECTION_OFFSET = 83319.25
  MAP_PROJECTION_ROTATION = 0.0
  MAP_PROJECTION_TYPE = SINUSOIDAL
  MAP_RESOLUTION = 1185.42760773333
  MAP_SCALE = 0.05
  MAXIMUM_LATITUDE = 70.26430000000001
  MINIMUM_LATITUDE = 50.9718
  POSITIVE_LONGITUDE_DIRECTION = EAST
  REFERENCE_LATITUDE = "N/A"
  REFERENCE_LONGITUDE = "N/A"
  SAMPLE_FIRST_PIXEL = 1
  SAMPLE_LAST_PIXEL = 6358
  SAMPLE_PROJECTION_OFFSET = 2616.25
  SECOND_STANDARD_PARALLEL = "N/A"
  WESTERNMOST_LONGITUDE = 168.435
END_OBJECT = IMAGE_MAP_PROJECTION
/* The JPEG2000 image data file associated with this label. */
OBJECT = COMPRESSED_FILE
  FILE_NAME = "H8203_0000_S13.JP2"
  RECORD_TYPE = UNDEFINED
  FILE_RECORDS = UNK
  ENCODING_TYPE = "JP2"
  INTERCHANGE_FORMAT = BINARY
  UNCOMPRESSED_FILE_NAME = "H8203_0000_S13.IMG"
  REQUIRED_STORAGE_BYTES = "145350238"
  ^DESCRIPTION = "JP2INFO.TXT"
END_OBJECT = COMPRESSED_FILE
END
