PDS_VERSION_ID = PDS3
/* FILE DATA ELEMENTS */
RECORD_TYPE = STREAM
/* POINTERS TO DATA OBJECTS */
^COMPRESSED_FILE = "H8212_0000_BL3.JP2"
/* IDENTIFICATION DATA ELEMENTS */
DATA_SET_ID = "MEX-M-HRSC-5-REFDR-MAPPROJECTED-V3.0"
DATA_SET_NAME = "MARS EXPRESS HRSC MAP PROJECTED REFDR V3.0"
DETECTOR_ID = MEX_HRSC_BLUE
EVENT_TYPE = "MARS-REGIONAL-MAPPING-Pf-Eo"
INSTRUMENT_HOST_ID = MEX
INSTRUMENT_HOST_NAME = "MARS EXPRESS"
INSTRUMENT_ID = HRSC
INSTRUMENT_NAME = "HIGH RESOLUTION STEREO CAMERA"
MISSION_NAME = "MARS EXPRESS"
MISSION_PHASE_NAME = ME_Phase_20
PROCESSING_LEVEL_ID = 3
PRODUCT_CREATION_TIME = 2016-10-25T11:55:47.000Z
PRODUCT_ID = "H8212_0000_BL3.JP2"
RELEASE_ID = 0090
REVISION_ID = 0000
/* QUALITY DATA ELEMENTS */
DATA_QUALITY_ID = 1
DATA_QUALITY_DESC = "Data calculated based on original SPICE kernels"
/* TIME DATA ELEMENTS */
SPACECRAFT_CLOCK_START_COUNT = "1/0223472365.07282"
SPACECRAFT_CLOCK_STOP_COUNT = "1/0223473164.19754"
START_TIME = 2010-06-01T11:41:15.531Z
STOP_TIME = 2010-06-01T11:45:25.718Z
/* ORBITAL DATA ELEMENTS */
ASCENDING_NODE_LONGITUDE = 60.5
MAXIMUM_RESOLUTION = 92.8
FOOTPRINT_POINT_LATITUDE = (58.8659,58.8993,58.93,58.9679,58.9923, 59.0089,59.0288,59.0461,59.0607,59.0727 ,59.0822,59.0889,59.0922,59.1223, 59.5077,59.896,60.386,60.7808,61.1793, 61.5807,61.9852,62.3928,62.8038,63.2183 ,63.636,64.0568,64.4811,64.6945,64.9086 ,65.1239,65.34,65.5569,65.7748,65.9935, 66.213,66.4334,66.6549,66.8774,67.1006, 67.3247,67.5499,67.7759,68.0029,68.2308 ,68.4596,68.6893,68.92,69.1518,69.3846, 69.6184,69.7859,69.7797,69.761,69.7373, 69.7059,69.6721,69.6266,69.5662,69.4879 ,69.4076,69.3589,69.3073,69.2301, 69.1658,68.8347,68.6146,68.3954,68.1766 ,67.9585,67.7412,67.5244,67.3082, 67.0927,66.8776,66.6634,66.4499,66.2369 ,66.0246,65.8131,65.6021,65.3919, 65.1822,64.9734,64.7652,64.5575,64.3508 ,63.9392,63.5304,63.1243,62.7205, 62.3198,61.9219,61.5265,61.1338,60.7438 ,60.3567,59.972,59.5898,59.2104, 58.8659)
FOOTPRINT_POINT_LONGITUDE = (344.118,343.523,342.929,342.111, 341.515,341.068,340.471,339.875,339.277 ,338.68,338.081,337.48,337.029,336.32, 336.28,336.241,336.189,336.147,336.103, 336.058,336.011,335.963,335.913,335.862 ,335.809,335.754,335.698,335.669, 335.639,335.609,335.579,335.547,335.516 ,335.483,335.45,335.417,335.382,335.347 ,335.312,335.275,335.238,335.2,335.161, 335.122,335.081,335.04,334.998,334.955, 334.91,334.865,335.424,336.618,338.108, 339.293,340.474,341.503,342.676,343.989 ,345.44,346.737,347.454,348.168,349.163 ,349.921,349.629,349.441,349.258,349.08 ,348.906,348.737,348.573,348.413, 348.257,348.105,347.957,347.812,347.671 ,347.533,347.399,347.268,347.14,347.015 ,346.894,346.775,346.659,346.545, 346.326,346.117,345.916,345.724,345.541 ,345.365,345.196,345.034,344.879,344.73 ,344.586,344.449,344.316,344.118)
ORBIT_NUMBER = 8212
ORBITAL_ECCENTRICITY = 0.578
ORBITAL_INCLINATION = 86.83
ORBITAL_SEMIMAJOR_AXIS = 8854.49
PERIAPSIS_ALTITUDE = 336.68
PERIAPSIS_ARGUMENT_ANGLE = 359.03
PERIAPSIS_TIME = 2010-06-01T11:24:01.000Z
SPACECRAFT_ORIENTATION = (0.0,1.0,0.0)
^MEX_ORIENTATION_DESC = "MEX_ORIENTATION_DESC.TXT"
SPACECRAFT_POINTING_MODE = NADIR
^MEX_POINTING_DESC = "MEX_POINTING_DESC.TXT"
RIGHT_ASCENSION = -1e+32
DECLINATION = -1e+32
OFFSET_ANGLE = -1e+32
SPACECRAFT_SOLAR_DISTANCE = 2.46358e+08
TARGET_NAME = MARS
/* CAMERA DATA ELEMENTS */
DETECTOR_TEMPERATURE = 18.1666
FOCAL_PLANE_TEMPERATURE = 8.3794
INST_CMPRS_NAME = "DISCRETE COSINE TRANSFORMATION (DCT)"
INST_CMPRS_RATIO = 6.94648
INST_CMPRS_QUALITY = 0
INST_CMPRS_QUANTZ_TBL_ID = 0
INSTRUMENT_TEMPERATURE = 11.0301
LENS_TEMPERATURE = 8.7872
MACROPIXEL_SIZE = 2
MISSING_FRAMES = 0
PIXEL_SUBSAMPLING_FLAG = N
SIGNAL_CHAIN_ID = 2
/* RADIOMETRIC DATA ELEMENTS */
BANDWIDTH = 76.0
CENTER_FILTER_WAVELENGTH = 444.0
RADIANCE_OFFSET = 0.226806
RADIANCE_SCALING_FACTOR = 0.000864024
REFLECTANCE_SCALING_FACTOR = 5.38781e-05
MEX:REFLECTANCE_OFFSET = 0.014143
/* IMAGE OBJECT DEFINITIONS */
OBJECT = IMAGE
  INTERCHANGE_FORMAT = BINARY
  LINES = 6472
  LINE_SAMPLES = 3396
  SAMPLE_TYPE = UNSIGNED_INTEGER
  SAMPLE_BITS = 8
  BANDS = 1
  BAND_STORAGE_TYPE = BAND_SEQUENTIAL
  MAXIMUM = 255
  MEAN = 119.982
  MINIMUM = 1
  STANDARD_DEVIATION = 28.993
END_OBJECT = IMAGE
/* MAP OBJECT DEFINITIONS */
OBJECT = IMAGE_MAP_PROJECTION
  ^DATA_SET_MAP_PROJECTION_CATALOG= "DSMAP.CAT"
  A_AXIS_RADIUS = 3396.0
  B_AXIS_RADIUS = 3396.0
  C_AXIS_RADIUS = 3396.0
  CENTER_LATITUDE = 0.0
  CENTER_LONGITUDE = 341.0
  COORDINATE_SYSTEM_NAME = PLANETOGRAPHIC
  COORDINATE_SYSTEM_TYPE = "BODY-FIXED ROTATING"
  EASTERNMOST_LONGITUDE = 349.921
  FIRST_STANDARD_PARALLEL = "N/A"
  LINE_FIRST_PIXEL = 1
  LINE_LAST_PIXEL = 6472
  LINE_PROJECTION_OFFSET = 41363.25
  MAP_PROJECTION_ROTATION = 0.0
  MAP_PROJECTION_TYPE = SINUSOIDAL
  MAP_RESOLUTION = 592.713803866667
  MAP_SCALE = 0.1
  MAXIMUM_LATITUDE = 69.7859
  MINIMUM_LATITUDE = 58.8659
  POSITIVE_LONGITUDE_DIRECTION = EAST
  REFERENCE_LATITUDE = "N/A"
  REFERENCE_LONGITUDE = "N/A"
  SAMPLE_FIRST_PIXEL = 1
  SAMPLE_LAST_PIXEL = 3396
  SAMPLE_PROJECTION_OFFSET = 1466.75
  SECOND_STANDARD_PARALLEL = "N/A"
  WESTERNMOST_LONGITUDE = 334.865
END_OBJECT = IMAGE_MAP_PROJECTION
/* The JPEG2000 image data file associated with this label. */
OBJECT = COMPRESSED_FILE
  FILE_NAME = "H8212_0000_BL3.JP2"
  RECORD_TYPE = UNDEFINED
  FILE_RECORDS = UNK
  ENCODING_TYPE = "JP2"
  INTERCHANGE_FORMAT = BINARY
  UNCOMPRESSED_FILE_NAME = "H8212_0000_BL3.IMG"
  REQUIRED_STORAGE_BYTES = "22002684"
  ^DESCRIPTION = "JP2INFO.TXT"
END_OBJECT = COMPRESSED_FILE
END
