PDS_VERSION_ID = PDS3
/* FILE DATA ELEMENTS */
RECORD_TYPE = STREAM
/* POINTERS TO DATA OBJECTS */
^COMPRESSED_FILE = "H8221_0000_P13.JP2"
/* IDENTIFICATION DATA ELEMENTS */
DATA_SET_ID = "MEX-M-HRSC-5-REFDR-MAPPROJECTED-V3.0"
DATA_SET_NAME = "MARS EXPRESS HRSC MAP PROJECTED REFDR V3.0"
DETECTOR_ID = MEX_HRSC_P1
EVENT_TYPE = "MARS-LOCAL-STEREO-Vo-Im-Ts"
INSTRUMENT_HOST_ID = MEX
INSTRUMENT_HOST_NAME = "MARS EXPRESS"
INSTRUMENT_ID = HRSC
INSTRUMENT_NAME = "HIGH RESOLUTION STEREO CAMERA"
MISSION_NAME = "MARS EXPRESS"
MISSION_PHASE_NAME = ME_Phase_20
PROCESSING_LEVEL_ID = 3
PRODUCT_CREATION_TIME = 2016-10-25T11:55:47.000Z
PRODUCT_ID = "H8221_0000_P13.JP2"
RELEASE_ID = 0090
REVISION_ID = 0000
/* QUALITY DATA ELEMENTS */
DATA_QUALITY_ID = 1
DATA_QUALITY_DESC = "Data calculated based on original SPICE kernels"
/* TIME DATA ELEMENTS */
SPACECRAFT_CLOCK_START_COUNT = "1/0223698754.09051"
SPACECRAFT_CLOCK_STOP_COUNT = "1/0223699195.36856"
START_TIME = 2010-06-04T02:35:11.384Z
STOP_TIME = 2010-06-04T02:38:43.639Z
/* ORBITAL DATA ELEMENTS */
ASCENDING_NODE_LONGITUDE = 60.32
MAXIMUM_RESOLUTION = 75.9
FOOTPRINT_POINT_LATITUDE = (44.3069,44.3233,44.3383,44.3519, 44.3643,44.3752,44.3859,44.3941,44.4008 ,44.4085,44.4126,44.352,44.5934,44.9174 ,45.1617,45.4891,45.7357,45.9838, 46.3169,46.568,46.82,47.0738,47.3288, 47.6708,48.015,48.3616,48.6231,48.8858, 49.0616,49.2383,49.4158,49.5937,49.7721 ,49.9513,50.1311,50.3113,50.4922, 50.6736,50.8561,51.0391,51.2227,51.4067 ,51.5912,51.8698,52.0558,52.241,52.4255 ,52.6097,52.793,52.9757,53.1125,53.1092 ,53.1006,53.0884,53.0748,53.0576, 53.0379,53.0117,52.9887,52.9595,52.9315 ,52.8967,52.8407,52.5731,52.3942, 52.2143,52.0335,51.8523,51.6704,51.3973 ,51.2163,51.0356,50.8554,50.6755, 50.4966,50.3182,50.1404,49.9631,49.7867 ,49.6109,49.4353,49.2602,48.9121, 48.5659,48.2222,47.966,47.7106,47.4562, 47.2038,46.868,46.5343,46.2037,45.8744, 45.6292,45.304,45.0615,44.7394,44.4994, 44.2607,44.3069)
FOOTPRINT_POINT_LONGITUDE = (141.038,140.692,140.346,140.0,139.654, 139.309,138.922,138.577,138.233,137.717 ,137.287,136.984,136.967,136.945, 136.928,136.904,136.886,136.867,136.842 ,136.823,136.804,136.784,136.764, 136.736,136.708,136.679,136.657,136.634 ,136.619,136.603,136.588,136.572, 136.556,136.539,136.523,136.506,136.489 ,136.472,136.454,136.437,136.419, 136.401,136.382,136.354,136.335,136.316 ,136.296,136.277,136.257,136.237, 136.424,136.899,137.579,138.19,138.733, 139.275,139.818,140.428,140.904,141.446 ,141.921,142.464,143.236,143.165, 143.118,143.072,143.026,142.981,142.936 ,142.869,142.826,142.783,142.741,142.7, 142.66,142.62,142.58,142.542,142.503, 142.466,142.429,142.393,142.321,142.253 ,142.186,142.137,142.09,142.044,141.998 ,141.939,141.882,141.826,141.772, 141.733,141.681,141.643,141.595,141.559 ,141.524,141.038)
ORBIT_NUMBER = 8221
ORBITAL_ECCENTRICITY = 0.579
ORBITAL_INCLINATION = 86.81
ORBITAL_SEMIMAJOR_AXIS = 8859.47
PERIAPSIS_ALTITUDE = 335.83
PERIAPSIS_ARGUMENT_ANGLE = 357.5
PERIAPSIS_TIME = 2010-06-04T02:21:00.000Z
SPACECRAFT_ORIENTATION = (0.0,1.0,0.0)
^MEX_ORIENTATION_DESC = "MEX_ORIENTATION_DESC.TXT"
SPACECRAFT_POINTING_MODE = ACROSSTRACK
^MEX_POINTING_DESC = "MEX_POINTING_DESC.TXT"
RIGHT_ASCENSION = -1e+32
DECLINATION = -1e+32
OFFSET_ANGLE = -0.4
SPACECRAFT_SOLAR_DISTANCE = 2.46117e+08
TARGET_NAME = MARS
/* CAMERA DATA ELEMENTS */
DETECTOR_TEMPERATURE = 17.1471
FOCAL_PLANE_TEMPERATURE = 8.1755
INST_CMPRS_NAME = "DISCRETE COSINE TRANSFORMATION (DCT)"
INST_CMPRS_RATIO = 13.8317
INST_CMPRS_QUALITY = 0
INST_CMPRS_QUANTZ_TBL_ID = 0
INSTRUMENT_TEMPERATURE = 11.0301
LENS_TEMPERATURE = 8.3794
MACROPIXEL_SIZE = 2
MISSING_FRAMES = 0
PIXEL_SUBSAMPLING_FLAG = N
SIGNAL_CHAIN_ID = 3
/* RADIOMETRIC DATA ELEMENTS */
BANDWIDTH = 174.0
CENTER_FILTER_WAVELENGTH = 675.0
RADIANCE_OFFSET = 1.16719
RADIANCE_SCALING_FACTOR = 0.00766682
REFLECTANCE_SCALING_FACTOR = 0.000249793
MEX:REFLECTANCE_OFFSET = 0.0380282
/* IMAGE OBJECT DEFINITIONS */
OBJECT = IMAGE
  INTERCHANGE_FORMAT = BINARY
  LINES = 10476
  LINE_SAMPLES = 4395
  SAMPLE_TYPE = UNSIGNED_INTEGER
  SAMPLE_BITS = 8
  BANDS = 1
  BAND_STORAGE_TYPE = BAND_SEQUENTIAL
  MAXIMUM = 255
  MEAN = 103.242
  MINIMUM = 1
  STANDARD_DEVIATION = 26.031
END_OBJECT = IMAGE
/* MAP OBJECT DEFINITIONS */
OBJECT = IMAGE_MAP_PROJECTION
  ^DATA_SET_MAP_PROJECTION_CATALOG= "DSMAP.CAT"
  A_AXIS_RADIUS = 3396.0
  B_AXIS_RADIUS = 3396.0
  C_AXIS_RADIUS = 3396.0
  CENTER_LATITUDE = 0.0
  CENTER_LONGITUDE = 139.0
  COORDINATE_SYSTEM_NAME = PLANETOGRAPHIC
  COORDINATE_SYSTEM_TYPE = "BODY-FIXED ROTATING"
  EASTERNMOST_LONGITUDE = 143.236
  FIRST_STANDARD_PARALLEL = "N/A"
  LINE_FIRST_PIXEL = 1
  LINE_LAST_PIXEL = 10476
  LINE_PROJECTION_OFFSET = 62955.25
  MAP_PROJECTION_ROTATION = 0.0
  MAP_PROJECTION_TYPE = SINUSOIDAL
  MAP_RESOLUTION = 1185.42760773333
  MAP_SCALE = 0.05
  MAXIMUM_LATITUDE = 53.1125
  MINIMUM_LATITUDE = 44.2607
  POSITIVE_LONGITUDE_DIRECTION = EAST
  REFERENCE_LATITUDE = "N/A"
  REFERENCE_LONGITUDE = "N/A"
  SAMPLE_FIRST_PIXEL = 1
  SAMPLE_LAST_PIXEL = 4395
  SAMPLE_PROJECTION_OFFSET = 1668.25
  SECOND_STANDARD_PARALLEL = "N/A"
  WESTERNMOST_LONGITUDE = 136.237
END_OBJECT = IMAGE_MAP_PROJECTION
/* The JPEG2000 image data file associated with this label. */
OBJECT = COMPRESSED_FILE
  FILE_NAME = "H8221_0000_P13.JP2"
  RECORD_TYPE = UNDEFINED
  FILE_RECORDS = UNK
  ENCODING_TYPE = "JP2"
  INTERCHANGE_FORMAT = BINARY
  UNCOMPRESSED_FILE_NAME = "H8221_0000_P13.IMG"
  REQUIRED_STORAGE_BYTES = "46068390"
  ^DESCRIPTION = "JP2INFO.TXT"
END_OBJECT = COMPRESSED_FILE
END
