PDS_VERSION_ID = PDS3
/* FILE DATA ELEMENTS */
RECORD_TYPE = STREAM
/* POINTERS TO DATA OBJECTS */
^COMPRESSED_FILE = "H8234_0000_RE3.JP2"
/* IDENTIFICATION DATA ELEMENTS */
DATA_SET_ID = "MEX-M-HRSC-5-REFDR-MAPPROJECTED-V3.0"
DATA_SET_NAME = "MARS EXPRESS HRSC MAP PROJECTED REFDR V3.0"
DETECTOR_ID = MEX_HRSC_RED
EVENT_TYPE = "MARS-REGIONAL-MAPPING-Vo-Te-Fl"
INSTRUMENT_HOST_ID = MEX
INSTRUMENT_HOST_NAME = "MARS EXPRESS"
INSTRUMENT_ID = HRSC
INSTRUMENT_NAME = "HIGH RESOLUTION STEREO CAMERA"
MISSION_NAME = "MARS EXPRESS"
MISSION_PHASE_NAME = ME_Phase_20
PROCESSING_LEVEL_ID = 3
PRODUCT_CREATION_TIME = 2016-10-25T11:55:47.000Z
PRODUCT_ID = "H8234_0000_RE3.JP2"
RELEASE_ID = 0090
REVISION_ID = 0000
/* QUALITY DATA ELEMENTS */
DATA_QUALITY_ID = 1
DATA_QUALITY_DESC = "Data calculated based on original SPICE kernels"
/* TIME DATA ELEMENTS */
SPACECRAFT_CLOCK_START_COUNT = "1/0224026140.08231"
SPACECRAFT_CLOCK_STOP_COUNT = "1/0224026904.61428"
START_TIME = 2010-06-07T21:29:17.119Z
STOP_TIME = 2010-06-07T21:34:23.891Z
/* ORBITAL DATA ELEMENTS */
ASCENDING_NODE_LONGITUDE = 60.07
MAXIMUM_RESOLUTION = 134.4
FOOTPRINT_POINT_LATITUDE = (44.6911,44.7014,44.7105,44.7195, 44.7228,44.7242,45.1741,45.5988,46.1699 ,46.7459,47.3259,47.9131,48.5072, 49.1088,49.7174,50.0251,50.3348,50.6464 ,50.9602,51.2763,51.5941,51.9145, 52.2374,52.5621,52.8889,53.2178,53.5502 ,53.8842,54.2204,54.5591,54.9,55.2432, 55.5894,55.938,56.2891,56.6428,56.9991, 57.3576,57.7187,58.0834,58.4505,58.8203 ,59.1929,59.5682,59.9467,60.3275, 60.7117,61.2927,61.3571,61.3522,61.339, 61.3172,61.3014,61.2833,61.2512,61.2036 ,61.1744,61.1306,60.7496,60.3715,59.996 ,59.6228,59.2524,58.8846,58.5192, 58.1558,57.7955,57.4378,57.0825,56.7295 ,56.379,56.0312,55.6856,55.3421,55.0012 ,54.6626,54.3265,53.9923,53.6607, 53.3311,53.0037,52.6783,52.3552,52.034, 51.7153,51.3987,51.0836,50.7712,50.4613 ,49.6929,49.0877,48.4882,47.8958, 47.3089,46.728,46.2975,45.8711,45.4475, 44.8886,44.6911)
FOOTPRINT_POINT_LONGITUDE = (250.366,249.779,249.119,248.203, 247.616,247.027,246.829,246.802,246.764 ,246.727,246.69,246.652,246.613,246.573 ,246.532,246.511,246.489,246.468, 246.445,246.422,246.399,246.375,246.351 ,246.327,246.302,246.276,246.25,246.223 ,246.196,246.168,246.14,246.111,246.081 ,246.051,246.02,245.989,245.956,245.923 ,245.889,245.855,245.819,245.783, 245.745,245.707,245.667,245.627,245.585 ,245.521,246.42,247.082,248.154,249.306 ,249.963,250.62,251.605,252.834,253.489 ,254.335,254.193,254.057,253.926,253.8, 253.679,253.562,253.449,253.34,253.235, 253.134,253.036,252.942,252.85,252.762, 252.677,252.594,252.515,252.437,252.363 ,252.29,252.22,252.152,252.086,252.022, 251.96,251.899,251.841,251.784,251.728, 251.675,251.623,251.498,251.405,251.316 ,251.23,251.148,251.07,251.014,250.96, 250.907,250.841,250.366)
ORBIT_NUMBER = 8234
ORBITAL_ECCENTRICITY = 0.58
ORBITAL_INCLINATION = 86.81
ORBITAL_SEMIMAJOR_AXIS = 8873.39
PERIAPSIS_ALTITUDE = 333.97
PERIAPSIS_ARGUMENT_ANGLE = 355.23
PERIAPSIS_TIME = 2010-06-07T21:16:41.000Z
SPACECRAFT_ORIENTATION = (0.0,1.0,0.0)
^MEX_ORIENTATION_DESC = "MEX_ORIENTATION_DESC.TXT"
SPACECRAFT_POINTING_MODE = NADIR
^MEX_POINTING_DESC = "MEX_POINTING_DESC.TXT"
RIGHT_ASCENSION = -1e+32
DECLINATION = -1e+32
OFFSET_ANGLE = -1e+32
SPACECRAFT_SOLAR_DISTANCE = 2.45752e+08
TARGET_NAME = MARS
/* CAMERA DATA ELEMENTS */
DETECTOR_TEMPERATURE = 18.5744
FOCAL_PLANE_TEMPERATURE = 7.7677
INST_CMPRS_NAME = "DISCRETE COSINE TRANSFORMATION (DCT)"
INST_CMPRS_RATIO = 8.90953
INST_CMPRS_QUALITY = 0
INST_CMPRS_QUANTZ_TBL_ID = 0
INSTRUMENT_TEMPERATURE = 11.0301
LENS_TEMPERATURE = 8.3794
MACROPIXEL_SIZE = 4
MISSING_FRAMES = 0
PIXEL_SUBSAMPLING_FLAG = N
SIGNAL_CHAIN_ID = 2
/* RADIOMETRIC DATA ELEMENTS */
BANDWIDTH = 48.0
CENTER_FILTER_WAVELENGTH = 748.0
RADIANCE_OFFSET = 0.242506
RADIANCE_SCALING_FACTOR = 0.00485512
REFLECTANCE_SCALING_FACTOR = 0.000669142
MEX:REFLECTANCE_OFFSET = 0.0334226
/* IMAGE OBJECT DEFINITIONS */
OBJECT = IMAGE
  INTERCHANGE_FORMAT = BINARY
  LINES = 9868
  LINE_SAMPLES = 2898
  SAMPLE_TYPE = UNSIGNED_INTEGER
  SAMPLE_BITS = 8
  BANDS = 1
  BAND_STORAGE_TYPE = BAND_SEQUENTIAL
  MAXIMUM = 255
  MEAN = 91.6959
  MINIMUM = 1
  STANDARD_DEVIATION = 16.5036
END_OBJECT = IMAGE
/* MAP OBJECT DEFINITIONS */
OBJECT = IMAGE_MAP_PROJECTION
  ^DATA_SET_MAP_PROJECTION_CATALOG= "DSMAP.CAT"
  A_AXIS_RADIUS = 3396.0
  B_AXIS_RADIUS = 3396.0
  C_AXIS_RADIUS = 3396.0
  CENTER_LATITUDE = 0.0
  CENTER_LONGITUDE = 249.0
  COORDINATE_SYSTEM_NAME = PLANETOGRAPHIC
  COORDINATE_SYSTEM_TYPE = "BODY-FIXED ROTATING"
  EASTERNMOST_LONGITUDE = 254.335
  FIRST_STANDARD_PARALLEL = "N/A"
  LINE_FIRST_PIXEL = 1
  LINE_LAST_PIXEL = 9868
  LINE_PROJECTION_OFFSET = 36369.625
  MAP_PROJECTION_ROTATION = 0.0
  MAP_PROJECTION_TYPE = SINUSOIDAL
  MAP_RESOLUTION = 592.713803866667
  MAP_SCALE = 0.1
  MAXIMUM_LATITUDE = 61.3571
  MINIMUM_LATITUDE = 44.6911
  POSITIVE_LONGITUDE_DIRECTION = EAST
  REFERENCE_LATITUDE = "N/A"
  REFERENCE_LONGITUDE = "N/A"
  SAMPLE_FIRST_PIXEL = 1
  SAMPLE_LAST_PIXEL = 2898
  SAMPLE_PROJECTION_OFFSET = 1157.625
  SECOND_STANDARD_PARALLEL = "N/A"
  WESTERNMOST_LONGITUDE = 245.521
END_OBJECT = IMAGE_MAP_PROJECTION
/* The JPEG2000 image data file associated with this label. */
OBJECT = COMPRESSED_FILE
  FILE_NAME = "H8234_0000_RE3.JP2"
  RECORD_TYPE = UNDEFINED
  FILE_RECORDS = UNK
  ENCODING_TYPE = "JP2"
  INTERCHANGE_FORMAT = BINARY
  UNCOMPRESSED_FILE_NAME = "H8234_0000_RE3.IMG"
  REQUIRED_STORAGE_BYTES = "28620648"
  ^DESCRIPTION = "JP2INFO.TXT"
END_OBJECT = COMPRESSED_FILE
END
