PDS_VERSION_ID = PDS3
/* FILE DATA ELEMENTS */
RECORD_TYPE = STREAM
/* POINTERS TO DATA OBJECTS */
^COMPRESSED_FILE = "H8240_0000_S13.JP2"
/* IDENTIFICATION DATA ELEMENTS */
DATA_SET_ID = "MEX-M-HRSC-5-REFDR-MAPPROJECTED-V3.0"
DATA_SET_NAME = "MARS EXPRESS HRSC MAP PROJECTED REFDR V3.0"
DETECTOR_ID = MEX_HRSC_S1
EVENT_TYPE = "MARS-REGIONAL-MAPPING-Im-Pf-Eo"
INSTRUMENT_HOST_ID = MEX
INSTRUMENT_HOST_NAME = "MARS EXPRESS"
INSTRUMENT_ID = HRSC
INSTRUMENT_NAME = "HIGH RESOLUTION STEREO CAMERA"
MISSION_NAME = "MARS EXPRESS"
MISSION_PHASE_NAME = ME_Phase_20
PROCESSING_LEVEL_ID = 3
PRODUCT_CREATION_TIME = 2016-10-25T11:55:47.000Z
PRODUCT_ID = "H8240_0000_S13.JP2"
RELEASE_ID = 0090
REVISION_ID = 0000
/* QUALITY DATA ELEMENTS */
DATA_QUALITY_ID = 1
DATA_QUALITY_DESC = "Data calculated based on original SPICE kernels"
/* TIME DATA ELEMENTS */
SPACECRAFT_CLOCK_START_COUNT = "1/0224177181.07293"
SPACECRAFT_CLOCK_STOP_COUNT = "1/0224177788.06142"
START_TIME = 2010-06-09T15:29:45.709Z
STOP_TIME = 2010-06-09T15:36:28.832Z
/* ORBITAL DATA ELEMENTS */
ASCENDING_NODE_LONGITUDE = 59.96
MAXIMUM_RESOLUTION = 84.5
FOOTPRINT_POINT_LATITUDE = (41.4523,41.4664,41.479,41.4972,41.5137 ,41.5205,41.5214,41.5207,41.5184, 41.4204,41.9084,42.4002,42.8971,43.399, 43.9054,44.4177,44.9312,45.4513,45.9768 ,46.5066,46.9086,47.1762,47.4467, 47.7183,47.9909,48.2644,48.5395,48.8161 ,49.094,49.3728,49.6488,49.9347,50.2176 ,50.5012,50.786,51.0727,51.3602,51.6487 ,51.9383,52.2302,52.6715,52.9653,53.41, 53.707,54.0065,54.3063,54.6072,55.1451, 55.1577,55.1614,55.1607,55.1523,55.1386 ,55.1177,55.0793,55.0586,55.0294, 54.9909,54.9415,54.8789,54.8043,54.4206 ,53.9328,53.4976,53.2084,52.92,52.6332, 52.3471,52.0621,51.7778,51.4944,51.2117 ,50.9305,50.6504,50.3712,50.0929, 49.8157,49.54,49.2659,48.9919,48.7191, 48.4471,48.177,47.908,47.6398,47.3734, 47.1075,46.5796,46.185,45.665,45.149, 44.6376,44.2556,43.7507,43.2511,42.7557 ,42.2645,41.7782,41.4143,41.4523)
FOOTPRINT_POINT_LONGITUDE = (356.967,356.611,356.255,355.633, 354.788,354.077,353.721,353.365,353.008 ,352.643,352.595,352.545,352.494, 352.441,352.386,352.328,352.268,352.205 ,352.141,352.073,352.021,351.984, 351.947,351.91,351.871,351.832,351.792, 351.751,351.709,351.666,351.62,351.577, 351.531,351.483,351.434,351.385,351.334 ,351.281,351.228,351.173,351.089,351.03 ,350.939,350.876,350.812,350.745, 350.677,350.552,351.399,351.966,352.815 ,353.567,354.317,355.066,356.095, 356.562,357.122,357.774,358.518,359.354 ,360.222,359.878,359.931,359.793, 359.704,359.618,359.533,359.451,359.37, 359.292,359.216,359.142,359.069,358.999 ,358.93,358.862,358.797,358.732,358.67, 358.609,358.549,358.491,358.434,358.379 ,358.325,358.272,358.22,358.12,358.048, 357.956,357.868,357.784,357.724,357.646 ,357.571,357.5,357.432,357.366,357.319, 356.967)
ORBIT_NUMBER = 8240
ORBITAL_ECCENTRICITY = 0.579
ORBITAL_INCLINATION = 86.82
ORBITAL_SEMIMAJOR_AXIS = 8856.33
PERIAPSIS_ALTITUDE = 334.23
PERIAPSIS_ARGUMENT_ANGLE = 354.2
PERIAPSIS_TIME = 2010-06-09T15:14:41.000Z
SPACECRAFT_ORIENTATION = (0.0,1.0,0.0)
^MEX_ORIENTATION_DESC = "MEX_ORIENTATION_DESC.TXT"
SPACECRAFT_POINTING_MODE = NADIR
^MEX_POINTING_DESC = "MEX_POINTING_DESC.TXT"
RIGHT_ASCENSION = -1e+32
DECLINATION = -1e+32
OFFSET_ANGLE = -1e+32
SPACECRAFT_SOLAR_DISTANCE = 2.45577e+08
TARGET_NAME = MARS
/* CAMERA DATA ELEMENTS */
DETECTOR_TEMPERATURE = 17.1471
FOCAL_PLANE_TEMPERATURE = 7.5638
INST_CMPRS_NAME = "DISCRETE COSINE TRANSFORMATION (DCT)"
INST_CMPRS_RATIO = 10.5699
INST_CMPRS_QUALITY = 0
INST_CMPRS_QUANTZ_TBL_ID = 0
INSTRUMENT_TEMPERATURE = 10.8262
LENS_TEMPERATURE = 8.1755
MACROPIXEL_SIZE = 2
MISSING_FRAMES = 0
PIXEL_SUBSAMPLING_FLAG = N
SIGNAL_CHAIN_ID = 1
/* RADIOMETRIC DATA ELEMENTS */
BANDWIDTH = 180.0
CENTER_FILTER_WAVELENGTH = 677.0
RADIANCE_OFFSET = 1.06064
RADIANCE_SCALING_FACTOR = 0.0119235
REFLECTANCE_SCALING_FACTOR = 0.000375164
MEX:REFLECTANCE_OFFSET = 0.0333722
/* IMAGE OBJECT DEFINITIONS */
OBJECT = IMAGE
  INTERCHANGE_FORMAT = BINARY
  LINES = 16318
  LINE_SAMPLES = 5074
  SAMPLE_TYPE = UNSIGNED_INTEGER
  SAMPLE_BITS = 8
  BANDS = 1
  BAND_STORAGE_TYPE = BAND_SEQUENTIAL
  MAXIMUM = 200
  MEAN = 61.6708
  MINIMUM = 1
  STANDARD_DEVIATION = 19.6677
END_OBJECT = IMAGE
/* MAP OBJECT DEFINITIONS */
OBJECT = IMAGE_MAP_PROJECTION
  ^DATA_SET_MAP_PROJECTION_CATALOG= "DSMAP.CAT"
  A_AXIS_RADIUS = 3396.0
  B_AXIS_RADIUS = 3396.0
  C_AXIS_RADIUS = 3396.0
  CENTER_LATITUDE = 0.0
  CENTER_LONGITUDE = 355.0
  COORDINATE_SYSTEM_NAME = PLANETOGRAPHIC
  COORDINATE_SYSTEM_TYPE = "BODY-FIXED ROTATING"
  EASTERNMOST_LONGITUDE = 0.222
  FIRST_STANDARD_PARALLEL = "N/A"
  LINE_FIRST_PIXEL = 1
  LINE_LAST_PIXEL = 16318
  LINE_PROJECTION_OFFSET = 65393.75
  MAP_PROJECTION_ROTATION = 0.0
  MAP_PROJECTION_TYPE = SINUSOIDAL
  MAP_RESOLUTION = 1185.42760773333
  MAP_SCALE = 0.05
  MAXIMUM_LATITUDE = 55.1614
  MINIMUM_LATITUDE = 41.4143
  POSITIVE_LONGITUDE_DIRECTION = EAST
  REFERENCE_LATITUDE = "N/A"
  REFERENCE_LONGITUDE = "N/A"
  SAMPLE_FIRST_PIXEL = 1
  SAMPLE_LAST_PIXEL = 5074
  SAMPLE_PROJECTION_OFFSET = 2145.75
  SECOND_STANDARD_PARALLEL = "N/A"
  WESTERNMOST_LONGITUDE = -9.448
END_OBJECT = IMAGE_MAP_PROJECTION
/* The JPEG2000 image data file associated with this label. */
OBJECT = COMPRESSED_FILE
  FILE_NAME = "H8240_0000_S13.JP2"
  RECORD_TYPE = UNDEFINED
  FILE_RECORDS = UNK
  ENCODING_TYPE = "JP2"
  INTERCHANGE_FORMAT = BINARY
  UNCOMPRESSED_FILE_NAME = "H8240_0000_S13.IMG"
  REQUIRED_STORAGE_BYTES = "82822902"
  ^DESCRIPTION = "JP2INFO.TXT"
END_OBJECT = COMPRESSED_FILE
END
