PDS_VERSION_ID = PDS3
/* FILE DATA ELEMENTS */
RECORD_TYPE = STREAM
/* POINTERS TO DATA OBJECTS */
^COMPRESSED_FILE = "H8241_0000_GR3.JP2"
/* IDENTIFICATION DATA ELEMENTS */
DATA_SET_ID = "MEX-M-HRSC-5-REFDR-MAPPROJECTED-V3.0"
DATA_SET_NAME = "MARS EXPRESS HRSC MAP PROJECTED REFDR V3.0"
DETECTOR_ID = MEX_HRSC_GREEN
EVENT_TYPE = "MARS-REGIONAL-MAPPING-Vo-Te-Fl"
INSTRUMENT_HOST_ID = MEX
INSTRUMENT_HOST_NAME = "MARS EXPRESS"
INSTRUMENT_ID = HRSC
INSTRUMENT_NAME = "HIGH RESOLUTION STEREO CAMERA"
MISSION_NAME = "MARS EXPRESS"
MISSION_PHASE_NAME = ME_Phase_20
PROCESSING_LEVEL_ID = 3
PRODUCT_CREATION_TIME = 2016-10-25T11:55:47.000Z
PRODUCT_ID = "H8241_0000_GR3.JP2"
RELEASE_ID = 0090
REVISION_ID = 0000
/* QUALITY DATA ELEMENTS */
DATA_QUALITY_ID = 1
DATA_QUALITY_DESC = "Data calculated based on original SPICE kernels"
/* TIME DATA ELEMENTS */
SPACECRAFT_CLOCK_START_COUNT = "1/0224202413.07299"
SPACECRAFT_CLOCK_STOP_COUNT = "1/0224203208.61825"
START_TIME = 2010-06-09T22:28:48.137Z
STOP_TIME = 2010-06-09T22:35:28.977Z
/* ORBITAL DATA ELEMENTS */
ASCENDING_NODE_LONGITUDE = 59.94
MAXIMUM_RESOLUTION = 148
FOOTPRINT_POINT_LATITUDE = (44.2049,44.2268,44.2367,44.2487, 44.2503,44.2463,44.8404,45.4411,46.0488 ,46.6652,47.2894,47.9216,48.5625, 49.2124,49.5406,49.8709,50.2039,50.5386 ,50.8756,51.2153,51.557,51.9013,52.2477 ,52.5966,52.9477,53.3015,53.6575, 54.0164,54.3776,54.7411,55.2845,55.6442 ,56.002,56.3577,56.7116,57.0635,57.4135 ,57.7616,58.1077,58.4517,58.7943, 59.1347,59.4733,59.81,60.1449,60.478, 60.8092,61.1386,61.1809,61.1768,61.1679 ,61.1521,61.1245,61.0986,61.0594, 61.0025,60.9584,60.9032,60.8153,60.1767 ,59.8542,59.5296,59.203,58.8743,58.5434 ,58.2104,57.8753,57.538,57.1987,56.8571 ,56.5135,56.1678,55.8198,55.4698, 55.1175,54.7631,54.4065,53.8732,53.5206 ,53.1702,52.8217,52.4761,52.1322,51.791 ,51.4513,51.1142,50.7789,50.4458, 50.1152,49.7862,49.1349,48.492,47.8569, 47.2299,46.6108,45.9992,45.3956,44.7995 ,44.2103,44.2049)
FOOTPRINT_POINT_LONGITUDE = (254.294,253.42,252.879,251.755,251.088 ,250.524,250.478,250.43,250.377,250.323 ,250.267,250.209,250.15,250.089,250.058 ,250.026,249.994,249.961,249.927, 249.892,249.857,249.82,249.783,249.745, 249.707,249.666,249.626,249.584,249.541 ,249.497,249.429,249.384,249.337,249.29 ,249.242,249.194,249.145,249.096, 249.045,248.993,248.942,248.889,248.836 ,248.781,248.726,248.67,248.613,248.556 ,249.445,250.548,251.347,252.244, 253.339,254.133,255.124,256.312,257.101 ,257.987,259.198,258.917,258.781, 258.648,258.517,258.389,258.264,258.142 ,258.022,257.905,257.79,257.678,257.568 ,257.46,257.355,257.252,257.151,257.052 ,256.955,256.815,256.726,256.639, 256.555,256.474,256.396,256.319,256.246 ,256.174,256.105,256.038,255.973,255.91 ,255.789,255.674,255.566,255.464, 255.366,255.274,255.185,255.102,255.023 ,254.294)
ORBIT_NUMBER = 8241
ORBITAL_ECCENTRICITY = 0.58
ORBITAL_INCLINATION = 86.81
ORBITAL_SEMIMAJOR_AXIS = 8872.64
PERIAPSIS_ALTITUDE = 333.45
PERIAPSIS_ARGUMENT_ANGLE = 354.03
PERIAPSIS_TIME = 2010-06-09T22:14:23.000Z
SPACECRAFT_ORIENTATION = (0.0,1.0,0.0)
^MEX_ORIENTATION_DESC = "MEX_ORIENTATION_DESC.TXT"
SPACECRAFT_POINTING_MODE = NADIR
^MEX_POINTING_DESC = "MEX_POINTING_DESC.TXT"
RIGHT_ASCENSION = -1e+32
DECLINATION = -1e+32
OFFSET_ANGLE = -1e+32
SPACECRAFT_SOLAR_DISTANCE = 2.45548e+08
TARGET_NAME = MARS
/* CAMERA DATA ELEMENTS */
DETECTOR_TEMPERATURE = 18.1666
FOCAL_PLANE_TEMPERATURE = 6.7482
INST_CMPRS_NAME = "DISCRETE COSINE TRANSFORMATION (DCT)"
INST_CMPRS_RATIO = 10.7792
INST_CMPRS_QUALITY = 0
INST_CMPRS_QUANTZ_TBL_ID = 0
INSTRUMENT_TEMPERATURE = 11.0301
LENS_TEMPERATURE = 8.1755
MACROPIXEL_SIZE = 4
MISSING_FRAMES = 0
PIXEL_SUBSAMPLING_FLAG = N
SIGNAL_CHAIN_ID = 2
/* RADIOMETRIC DATA ELEMENTS */
BANDWIDTH = 88.0
CENTER_FILTER_WAVELENGTH = 538.0
RADIANCE_OFFSET = 0.305019
RADIANCE_SCALING_FACTOR = 0.00478461
REFLECTANCE_SCALING_FACTOR = 0.000248374
MEX:REFLECTANCE_OFFSET = 0.0158338
/* IMAGE OBJECT DEFINITIONS */
OBJECT = IMAGE
  INTERCHANGE_FORMAT = BINARY
  LINES = 10074
  LINE_SAMPLES = 2952
  SAMPLE_TYPE = UNSIGNED_INTEGER
  SAMPLE_BITS = 8
  BANDS = 1
  BAND_STORAGE_TYPE = BAND_SEQUENTIAL
  MAXIMUM = 255
  MEAN = 100.465
  MINIMUM = 1
  STANDARD_DEVIATION = 16.4527
END_OBJECT = IMAGE
/* MAP OBJECT DEFINITIONS */
OBJECT = IMAGE_MAP_PROJECTION
  ^DATA_SET_MAP_PROJECTION_CATALOG= "DSMAP.CAT"
  A_AXIS_RADIUS = 3396.0
  B_AXIS_RADIUS = 3396.0
  C_AXIS_RADIUS = 3396.0
  CENTER_LATITUDE = 0.0
  CENTER_LONGITUDE = 253.0
  COORDINATE_SYSTEM_NAME = PLANETOGRAPHIC
  COORDINATE_SYSTEM_TYPE = "BODY-FIXED ROTATING"
  EASTERNMOST_LONGITUDE = 259.198
  FIRST_STANDARD_PARALLEL = "N/A"
  LINE_FIRST_PIXEL = 1
  LINE_LAST_PIXEL = 10074
  LINE_PROJECTION_OFFSET = 36249.375
  MAP_PROJECTION_ROTATION = 0.0
  MAP_PROJECTION_TYPE = SINUSOIDAL
  MAP_RESOLUTION = 592.713803866667
  MAP_SCALE = 0.1
  MAXIMUM_LATITUDE = 61.1809
  MINIMUM_LATITUDE = 44.2049
  POSITIVE_LONGITUDE_DIRECTION = EAST
  REFERENCE_LATITUDE = "N/A"
  REFERENCE_LONGITUDE = "N/A"
  SAMPLE_FIRST_PIXEL = 1
  SAMPLE_LAST_PIXEL = 2952
  SAMPLE_PROJECTION_OFFSET = 1233.375
  SECOND_STANDARD_PARALLEL = "N/A"
  WESTERNMOST_LONGITUDE = 248.556
END_OBJECT = IMAGE_MAP_PROJECTION
/* The JPEG2000 image data file associated with this label. */
OBJECT = COMPRESSED_FILE
  FILE_NAME = "H8241_0000_GR3.JP2"
  RECORD_TYPE = UNDEFINED
  FILE_RECORDS = UNK
  ENCODING_TYPE = "JP2"
  INTERCHANGE_FORMAT = BINARY
  UNCOMPRESSED_FILE_NAME = "H8241_0000_GR3.IMG"
  REQUIRED_STORAGE_BYTES = "29762064"
  ^DESCRIPTION = "JP2INFO.TXT"
END_OBJECT = COMPRESSED_FILE
END
