PDS_VERSION_ID = PDS3
/* FILE DATA ELEMENTS */
RECORD_TYPE = STREAM
/* POINTERS TO DATA OBJECTS */
^COMPRESSED_FILE = "H8247_0000_GR3.JP2"
/* IDENTIFICATION DATA ELEMENTS */
DATA_SET_ID = "MEX-M-HRSC-5-REFDR-MAPPROJECTED-V3.0"
DATA_SET_NAME = "MARS EXPRESS HRSC MAP PROJECTED REFDR V3.0"
DETECTOR_ID = MEX_HRSC_GREEN
EVENT_TYPE = "MARS-REGIONAL-MAPPING-Im-Pf-Eo"
INSTRUMENT_HOST_ID = MEX
INSTRUMENT_HOST_NAME = "MARS EXPRESS"
INSTRUMENT_ID = HRSC
INSTRUMENT_NAME = "HIGH RESOLUTION STEREO CAMERA"
MISSION_NAME = "MARS EXPRESS"
MISSION_PHASE_NAME = ME_Phase_20
PROCESSING_LEVEL_ID = 3
PRODUCT_CREATION_TIME = 2016-10-25T11:55:47.000Z
PRODUCT_ID = "H8247_0000_GR3.JP2"
RELEASE_ID = 0090
REVISION_ID = 0000
/* QUALITY DATA ELEMENTS */
DATA_QUALITY_ID = 1
DATA_QUALITY_DESC = "Data calculated based on original SPICE kernels"
/* TIME DATA ELEMENTS */
SPACECRAFT_CLOCK_START_COUNT = "1/0224353456.08274"
SPACECRAFT_CLOCK_STOP_COUNT = "1/0224354086.50188"
START_TIME = 2010-06-11T16:26:03.524Z
STOP_TIME = 2010-06-11T16:31:15.364Z
/* ORBITAL DATA ELEMENTS */
ASCENDING_NODE_LONGITUDE = 59.82
MAXIMUM_RESOLUTION = 141.8
FOOTPRINT_POINT_LATITUDE = (41.2164,41.2338,41.2431,41.2514, 41.2574,41.2632,41.2655,41.2651,41.2509 ,41.7309,42.2161,42.8447,43.3413, 43.8429,44.3497,44.8626,45.3809,45.9045 ,46.4338,46.7007,46.9692,47.2391, 47.5105,47.7833,48.0576,48.3336,48.611, 48.8901,49.1707,49.4527,49.7362,50.0214 ,50.3087,50.5974,50.8878,51.1796, 51.4734,51.7688,52.0658,52.3647,52.6654 ,52.9678,53.272,53.578,53.8856,54.1953, 54.5067,54.8201,55.1104,55.1135,55.1135 ,55.1101,55.1038,55.0958,55.077,55.1059 ,55.0249,54.9972,54.9693,54.9384, 54.9007,54.5921,54.2848,53.9794,53.6755 ,53.3735,53.0728,52.7739,52.4766, 52.1808,51.8868,51.5942,51.3032,51.014, 50.7262,50.4399,50.1552,49.8718,49.5904 ,49.3104,49.032,48.7547,48.4789,48.2048 ,47.9319,47.6606,47.3907,47.1222, 46.8552,46.3252,45.8009,45.2823,44.7686 ,44.26,43.7571,43.2594,42.7663,42.1422, 41.6603,41.2164)
FOOTPRINT_POINT_LONGITUDE = (360.972,360.331,359.917,359.466, 359.052,358.45,357.961,357.319,356.897, 356.863,356.827,356.781,356.743,356.704 ,356.664,356.622,356.579,356.535,356.49 ,356.466,356.443,356.418,356.394, 356.369,356.343,356.317,356.291,356.264 ,356.236,356.208,356.18,356.151,356.121 ,356.091,356.061,356.029,355.998, 355.965,355.931,355.898,355.863,355.828 ,355.792,355.755,355.717,355.679, 355.639,355.599,355.561,356.148,356.815 ,357.405,357.995,358.51,359.393,360.036 ,361.01,361.67,362.256,362.843,363.453, 363.367,363.283,363.202,363.123,363.046 ,362.972,362.899,362.828,362.759, 362.693,362.628,362.564,362.503,362.443 ,362.384,362.327,362.272,362.217, 362.165,362.113,362.063,362.014,361.966 ,361.919,361.874,361.83,361.786,361.743 ,361.662,361.584,361.509,361.438,361.37 ,361.305,361.243,361.183,361.11,361.056 ,360.972)
ORBIT_NUMBER = 8247
ORBITAL_ECCENTRICITY = 0.579
ORBITAL_INCLINATION = 86.82
ORBITAL_SEMIMAJOR_AXIS = 8856.4
PERIAPSIS_ALTITUDE = 333.69
PERIAPSIS_ARGUMENT_ANGLE = 352.99
PERIAPSIS_TIME = 2010-06-11T16:12:19.000Z
SPACECRAFT_ORIENTATION = (0.0,1.0,0.0)
^MEX_ORIENTATION_DESC = "MEX_ORIENTATION_DESC.TXT"
SPACECRAFT_POINTING_MODE = NADIR
^MEX_POINTING_DESC = "MEX_POINTING_DESC.TXT"
RIGHT_ASCENSION = -1e+32
DECLINATION = -1e+32
OFFSET_ANGLE = -1e+32
SPACECRAFT_SOLAR_DISTANCE = 2.45369e+08
TARGET_NAME = MARS
/* CAMERA DATA ELEMENTS */
DETECTOR_TEMPERATURE = 18.1666
FOCAL_PLANE_TEMPERATURE = 7.7677
INST_CMPRS_NAME = "DISCRETE COSINE TRANSFORMATION (DCT)"
INST_CMPRS_RATIO = 10.9411
INST_CMPRS_QUALITY = 0
INST_CMPRS_QUANTZ_TBL_ID = 0
INSTRUMENT_TEMPERATURE = 12.0496
LENS_TEMPERATURE = 8.1755
MACROPIXEL_SIZE = 4
MISSING_FRAMES = 1
PIXEL_SUBSAMPLING_FLAG = N
SIGNAL_CHAIN_ID = 2
/* RADIOMETRIC DATA ELEMENTS */
BANDWIDTH = 88.0
CENTER_FILTER_WAVELENGTH = 538.0
RADIANCE_OFFSET = 0.394199
RADIANCE_SCALING_FACTOR = 0.00317608
REFLECTANCE_SCALING_FACTOR = 0.000164633
MEX:REFLECTANCE_OFFSET = 0.0204334
/* IMAGE OBJECT DEFINITIONS */
OBJECT = IMAGE
  INTERCHANGE_FORMAT = BINARY
  LINES = 8244
  LINE_SAMPLES = 2596
  SAMPLE_TYPE = UNSIGNED_INTEGER
  SAMPLE_BITS = 8
  BANDS = 1
  BAND_STORAGE_TYPE = BAND_SEQUENTIAL
  MAXIMUM = 255
  MEAN = 90.9092
  MINIMUM = 1
  STANDARD_DEVIATION = 22.6101
END_OBJECT = IMAGE
/* MAP OBJECT DEFINITIONS */
OBJECT = IMAGE_MAP_PROJECTION
  ^DATA_SET_MAP_PROJECTION_CATALOG= "DSMAP.CAT"
  A_AXIS_RADIUS = 3396.0
  B_AXIS_RADIUS = 3396.0
  C_AXIS_RADIUS = 3396.0
  CENTER_LATITUDE = 0.0
  CENTER_LONGITUDE = 359.0
  COORDINATE_SYSTEM_NAME = PLANETOGRAPHIC
  COORDINATE_SYSTEM_TYPE = "BODY-FIXED ROTATING"
  EASTERNMOST_LONGITUDE = 3.453
  FIRST_STANDARD_PARALLEL = "N/A"
  LINE_FIRST_PIXEL = 1
  LINE_LAST_PIXEL = 8244
  LINE_PROJECTION_OFFSET = 32666.375
  MAP_PROJECTION_ROTATION = 0.0
  MAP_PROJECTION_TYPE = SINUSOIDAL
  MAP_RESOLUTION = 592.713803866667
  MAP_SCALE = 0.1
  MAXIMUM_LATITUDE = 55.1135
  MINIMUM_LATITUDE = 41.2164
  POSITIVE_LONGITUDE_DIRECTION = EAST
  REFERENCE_LATITUDE = "N/A"
  REFERENCE_LONGITUDE = "N/A"
  SAMPLE_FIRST_PIXEL = 1
  SAMPLE_LAST_PIXEL = 2596
  SAMPLE_PROJECTION_OFFSET = 1137.875
  SECOND_STANDARD_PARALLEL = "N/A"
  WESTERNMOST_LONGITUDE = -4.439
END_OBJECT = IMAGE_MAP_PROJECTION
/* The JPEG2000 image data file associated with this label. */
OBJECT = COMPRESSED_FILE
  FILE_NAME = "H8247_0000_GR3.JP2"
  RECORD_TYPE = UNDEFINED
  FILE_RECORDS = UNK
  ENCODING_TYPE = "JP2"
  INTERCHANGE_FORMAT = BINARY
  UNCOMPRESSED_FILE_NAME = "H8247_0000_GR3.IMG"
  REQUIRED_STORAGE_BYTES = "21422192"
  ^DESCRIPTION = "JP2INFO.TXT"
END_OBJECT = COMPRESSED_FILE
END
