PDS_VERSION_ID = PDS3
/* FILE DATA ELEMENTS */
RECORD_TYPE = STREAM
/* POINTERS TO DATA OBJECTS */
^COMPRESSED_FILE = "H8247_0000_ND3.JP2"
/* IDENTIFICATION DATA ELEMENTS */
DATA_SET_ID = "MEX-M-HRSC-5-REFDR-MAPPROJECTED-V3.0"
DATA_SET_NAME = "MARS EXPRESS HRSC MAP PROJECTED REFDR V3.0"
DETECTOR_ID = MEX_HRSC_NADIR
EVENT_TYPE = "MARS-REGIONAL-MAPPING-Im-Pf-Eo"
INSTRUMENT_HOST_ID = MEX
INSTRUMENT_HOST_NAME = "MARS EXPRESS"
INSTRUMENT_ID = HRSC
INSTRUMENT_NAME = "HIGH RESOLUTION STEREO CAMERA"
MISSION_NAME = "MARS EXPRESS"
MISSION_PHASE_NAME = ME_Phase_20
PROCESSING_LEVEL_ID = 3
PRODUCT_CREATION_TIME = 2016-10-25T11:55:47.000Z
PRODUCT_ID = "H8247_0000_ND3.JP2"
RELEASE_ID = 0090
REVISION_ID = 0000
/* QUALITY DATA ELEMENTS */
DATA_QUALITY_ID = 1
DATA_QUALITY_DESC = "Data calculated based on original SPICE kernels"
/* TIME DATA ELEMENTS */
SPACECRAFT_CLOCK_START_COUNT = "1/0224353456.08274"
SPACECRAFT_CLOCK_STOP_COUNT = "1/0224354086.50188"
START_TIME = 2010-06-11T16:25:46.022Z
STOP_TIME = 2010-06-11T16:30:44.991Z
/* ORBITAL DATA ELEMENTS */
ASCENDING_NODE_LONGITUDE = 59.82
MAXIMUM_RESOLUTION = 33.3
FOOTPRINT_POINT_LATITUDE = (41.2226,41.2328,41.2412,41.2468,41.248 ,41.2466,41.4875,41.9726,42.4629, 42.8343,43.3337,43.8384,44.3481,44.8639 ,45.3851,45.9122,46.1782,46.4456, 46.7143,46.9845,47.2564,47.5296,47.8045 ,48.0809,48.359,48.6387,48.9199,49.2026 ,49.4871,49.7731,50.0609,50.3504, 50.6413,50.9342,51.229,51.5254,51.8234, 52.1233,52.4253,52.7288,53.034,53.3413, 53.6506,53.9615,54.2743,54.5893,54.9059 ,55.1165,55.1161,55.1126,55.1041, 55.0939,55.0788,55.0644,55.0401,55.0171 ,54.9946,54.9624,54.9278,54.6156, 54.3049,53.9961,53.689,53.3834,53.0799, 52.778,52.4776,52.1791,51.8824,51.587, 51.2934,51.0012,50.7111,50.4226,50.1357 ,49.8501,49.5661,49.2838,49.0028, 48.7236,48.4458,48.1696,47.8948,47.6215 ,47.3498,47.0796,46.8107,46.5435, 46.0131,45.4878,44.9686,44.4552,43.9469 ,43.4441,43.0701,42.5757,42.0868,41.723 ,41.2425,41.2226)
FOOTPRINT_POINT_LONGITUDE = (360.221,359.674,359.049,358.308, 357.878,357.213,356.908,356.874,356.839 ,356.813,356.776,356.738,356.699, 356.659,356.618,356.576,356.554,356.531 ,356.509,356.486,356.463,356.439, 356.415,356.39,356.365,356.34,356.314, 356.288,356.261,356.233,356.206,356.177 ,356.149,356.119,356.089,356.059, 356.027,355.995,355.963,355.93,355.896, 355.862,355.826,355.79,355.754,355.716, 355.678,356.26,356.945,357.552,358.31, 358.914,359.595,360.124,360.879,361.483 ,362.01,362.689,363.33,363.245,363.164, 363.084,363.007,362.932,362.86,362.789, 362.72,362.653,362.588,362.525,362.463, 362.403,362.344,362.287,362.232,362.178 ,362.125,362.074,362.024,361.975, 361.928,361.881,361.836,361.792,361.749 ,361.706,361.665,361.625,361.548, 361.473,361.403,361.336,361.271,361.209 ,361.165,361.108,361.053,361.014, 360.962,360.221)
ORBIT_NUMBER = 8247
ORBITAL_ECCENTRICITY = 0.579
ORBITAL_INCLINATION = 86.82
ORBITAL_SEMIMAJOR_AXIS = 8856.4
PERIAPSIS_ALTITUDE = 333.69
PERIAPSIS_ARGUMENT_ANGLE = 352.99
PERIAPSIS_TIME = 2010-06-11T16:12:19.000Z
SPACECRAFT_ORIENTATION = (0.0,1.0,0.0)
^MEX_ORIENTATION_DESC = "MEX_ORIENTATION_DESC.TXT"
SPACECRAFT_POINTING_MODE = NADIR
^MEX_POINTING_DESC = "MEX_POINTING_DESC.TXT"
RIGHT_ASCENSION = -1e+32
DECLINATION = -1e+32
OFFSET_ANGLE = -1e+32
SPACECRAFT_SOLAR_DISTANCE = 2.45369e+08
TARGET_NAME = MARS
/* CAMERA DATA ELEMENTS */
DETECTOR_TEMPERATURE = 18.1666
FOCAL_PLANE_TEMPERATURE = 7.7677
INST_CMPRS_NAME = "DISCRETE COSINE TRANSFORMATION (DCT)"
INST_CMPRS_RATIO = 6.62228
INST_CMPRS_QUALITY = 0
INST_CMPRS_QUANTZ_TBL_ID = 0
INSTRUMENT_TEMPERATURE = 12.0496
LENS_TEMPERATURE = 8.1755
MACROPIXEL_SIZE = 1
MISSING_FRAMES = 0
PIXEL_SUBSAMPLING_FLAG = N
SIGNAL_CHAIN_ID = 0
/* RADIOMETRIC DATA ELEMENTS */
BANDWIDTH = 177.0
CENTER_FILTER_WAVELENGTH = 677.5
RADIANCE_OFFSET = 0.82009
RADIANCE_SCALING_FACTOR = 0.0113507
REFLECTANCE_SCALING_FACTOR = 0.000363031
MEX:REFLECTANCE_OFFSET = 0.026229
/* IMAGE OBJECT DEFINITIONS */
OBJECT = IMAGE
  INTERCHANGE_FORMAT = BINARY
  LINES = 32976
  LINE_SAMPLES = 10381
  SAMPLE_TYPE = UNSIGNED_INTEGER
  SAMPLE_BITS = 8
  BANDS = 1
  BAND_STORAGE_TYPE = BAND_SEQUENTIAL
  MAXIMUM = 255
  MEAN = 76.1548
  MINIMUM = 1
  STANDARD_DEVIATION = 28.5713
END_OBJECT = IMAGE
/* MAP OBJECT DEFINITIONS */
OBJECT = IMAGE_MAP_PROJECTION
  ^DATA_SET_MAP_PROJECTION_CATALOG= "DSMAP.CAT"
  A_AXIS_RADIUS = 3396.0
  B_AXIS_RADIUS = 3396.0
  C_AXIS_RADIUS = 3396.0
  CENTER_LATITUDE = 0.0
  CENTER_LONGITUDE = 359.0
  COORDINATE_SYSTEM_NAME = PLANETOGRAPHIC
  COORDINATE_SYSTEM_TYPE = "BODY-FIXED ROTATING"
  EASTERNMOST_LONGITUDE = 3.33
  FIRST_STANDARD_PARALLEL = "N/A"
  LINE_FIRST_PIXEL = 1
  LINE_LAST_PIXEL = 32976
  LINE_PROJECTION_OFFSET = 130667.0
  MAP_PROJECTION_ROTATION = 0.0
  MAP_PROJECTION_TYPE = SINUSOIDAL
  MAP_RESOLUTION = 2370.85521546667
  MAP_SCALE = 0.025
  MAXIMUM_LATITUDE = 55.1165
  MINIMUM_LATITUDE = 41.2226
  POSITIVE_LONGITUDE_DIRECTION = EAST
  REFERENCE_LATITUDE = "N/A"
  REFERENCE_LONGITUDE = "N/A"
  SAMPLE_FIRST_PIXEL = 1
  SAMPLE_LAST_PIXEL = 10381
  SAMPLE_PROJECTION_OFFSET = 4553.0
  SECOND_STANDARD_PARALLEL = "N/A"
  WESTERNMOST_LONGITUDE = -4.322
END_OBJECT = IMAGE_MAP_PROJECTION
/* The JPEG2000 image data file associated with this label. */
OBJECT = COMPRESSED_FILE
  FILE_NAME = "H8247_0000_ND3.JP2"
  RECORD_TYPE = UNDEFINED
  FILE_RECORDS = UNK
  ENCODING_TYPE = "JP2"
  INTERCHANGE_FORMAT = BINARY
  UNCOMPRESSED_FILE_NAME = "H8247_0000_ND3.IMG"
  REQUIRED_STORAGE_BYTES = "342354999"
  ^DESCRIPTION = "JP2INFO.TXT"
END_OBJECT = COMPRESSED_FILE
END
