PDS_VERSION_ID = PDS3
/* FILE DATA ELEMENTS */
RECORD_TYPE = STREAM
/* POINTERS TO DATA OBJECTS */
^COMPRESSED_FILE = "H8247_0000_RE3.JP2"
/* IDENTIFICATION DATA ELEMENTS */
DATA_SET_ID = "MEX-M-HRSC-5-REFDR-MAPPROJECTED-V3.0"
DATA_SET_NAME = "MARS EXPRESS HRSC MAP PROJECTED REFDR V3.0"
DETECTOR_ID = MEX_HRSC_RED
EVENT_TYPE = "MARS-REGIONAL-MAPPING-Im-Pf-Eo"
INSTRUMENT_HOST_ID = MEX
INSTRUMENT_HOST_NAME = "MARS EXPRESS"
INSTRUMENT_ID = HRSC
INSTRUMENT_NAME = "HIGH RESOLUTION STEREO CAMERA"
MISSION_NAME = "MARS EXPRESS"
MISSION_PHASE_NAME = ME_Phase_20
PROCESSING_LEVEL_ID = 3
PRODUCT_CREATION_TIME = 2016-10-25T11:55:47.000Z
PRODUCT_ID = "H8247_0000_RE3.JP2"
RELEASE_ID = 0090
REVISION_ID = 0000
/* QUALITY DATA ELEMENTS */
DATA_QUALITY_ID = 1
DATA_QUALITY_DESC = "Data calculated based on original SPICE kernels"
/* TIME DATA ELEMENTS */
SPACECRAFT_CLOCK_START_COUNT = "1/0224353456.08274"
SPACECRAFT_CLOCK_STOP_COUNT = "1/0224354086.50188"
START_TIME = 2010-06-11T16:24:32.388Z
STOP_TIME = 2010-06-11T16:28:44.014Z
/* ORBITAL DATA ELEMENTS */
ASCENDING_NODE_LONGITUDE = 59.82
MAXIMUM_RESOLUTION = 126.2
FOOTPRINT_POINT_LATITUDE = (41.1885,41.1949,41.1984,41.2027, 41.2044,41.2058,41.2815,41.638,41.9976, 42.4811,42.8472,43.3405,43.7136,44.2158 ,44.7237,45.2377,45.7573,46.1517, 46.4157,46.6814,46.949,47.2179,47.6245, 47.897,48.1718,48.4478,48.725,49.1465, 49.426,49.7099,49.9954,50.2823,50.5716, 50.8621,51.1544,51.4483,51.7441,52.0422 ,52.3422,52.6435,52.9473,53.2525, 53.5598,53.8693,54.1806,54.494,54.8094, 55.1265,55.1462,55.1442,55.1403,55.1348 ,55.1256,55.1168,54.8545,55.0961, 55.0756,55.0517,55.0191,54.7056,54.3938 ,54.0836,53.7753,53.4695,53.1655,52.863 ,52.5625,52.2637,51.9665,51.6716, 51.3783,51.0871,50.7972,50.509,50.2221, 49.9371,49.6537,49.3722,49.0929,48.815, 48.5383,48.2633,47.99,47.7182,47.4474, 47.1782,46.7778,46.5134,45.8562,45.3376 ,44.8245,44.3169,43.8156,43.32,42.8293, 42.4645,41.9823,41.6243,41.2676, 41.1885)
FOOTPRINT_POINT_LONGITUDE = (360.228,359.691,359.322,358.718, 358.349,357.812,357.093,357.073,357.052 ,357.023,357.001,356.971,356.948, 356.916,356.884,356.85,356.816,356.79, 356.772,356.754,356.735,356.716,356.688 ,356.668,356.648,356.628,356.608, 356.576,356.556,356.534,356.512,356.489 ,356.466,356.443,356.42,356.396,356.371 ,356.346,356.321,356.295,356.269, 356.242,356.215,356.187,356.159,356.13, 356.1,356.071,356.826,357.395,357.901, 358.405,359.036,359.54,359.94,360.485, 361.241,361.997,362.838,362.765,362.694 ,362.625,362.558,362.493,362.43,362.368 ,362.309,362.251,362.194,362.139, 362.086,362.034,361.983,361.934,361.886 ,361.839,361.793,361.748,361.705, 361.663,361.622,361.581,361.542,361.504 ,361.466,361.429,361.376,361.342, 361.259,361.196,361.136,361.079,361.024 ,360.971,360.921,360.885,360.838, 360.804,360.771,360.228)
ORBIT_NUMBER = 8247
ORBITAL_ECCENTRICITY = 0.579
ORBITAL_INCLINATION = 86.82
ORBITAL_SEMIMAJOR_AXIS = 8856.4
PERIAPSIS_ALTITUDE = 333.69
PERIAPSIS_ARGUMENT_ANGLE = 352.99
PERIAPSIS_TIME = 2010-06-11T16:12:19.000Z
SPACECRAFT_ORIENTATION = (0.0,1.0,0.0)
^MEX_ORIENTATION_DESC = "MEX_ORIENTATION_DESC.TXT"
SPACECRAFT_POINTING_MODE = NADIR
^MEX_POINTING_DESC = "MEX_POINTING_DESC.TXT"
RIGHT_ASCENSION = -1e+32
DECLINATION = -1e+32
OFFSET_ANGLE = -1e+32
SPACECRAFT_SOLAR_DISTANCE = 2.45369e+08
TARGET_NAME = MARS
/* CAMERA DATA ELEMENTS */
DETECTOR_TEMPERATURE = 18.3705
FOCAL_PLANE_TEMPERATURE = 7.7677
INST_CMPRS_NAME = "DISCRETE COSINE TRANSFORMATION (DCT)"
INST_CMPRS_RATIO = 12.1902
INST_CMPRS_QUALITY = 0
INST_CMPRS_QUANTZ_TBL_ID = 0
INSTRUMENT_TEMPERATURE = 12.0496
LENS_TEMPERATURE = 8.1755
MACROPIXEL_SIZE = 4
MISSING_FRAMES = 0
PIXEL_SUBSAMPLING_FLAG = N
SIGNAL_CHAIN_ID = 2
/* RADIOMETRIC DATA ELEMENTS */
BANDWIDTH = 48.0
CENTER_FILTER_WAVELENGTH = 748.0
RADIANCE_OFFSET = 0.253283
RADIANCE_SCALING_FACTOR = 0.00318891
REFLECTANCE_SCALING_FACTOR = 0.000438131
MEX:REFLECTANCE_OFFSET = 0.0347991
/* IMAGE OBJECT DEFINITIONS */
OBJECT = IMAGE
  INTERCHANGE_FORMAT = BINARY
  LINES = 8244
  LINE_SAMPLES = 2596
  SAMPLE_TYPE = UNSIGNED_INTEGER
  SAMPLE_BITS = 8
  BANDS = 1
  BAND_STORAGE_TYPE = BAND_SEQUENTIAL
  MAXIMUM = 255
  MEAN = 73.946
  MINIMUM = 1
  STANDARD_DEVIATION = 30.4173
END_OBJECT = IMAGE
/* MAP OBJECT DEFINITIONS */
OBJECT = IMAGE_MAP_PROJECTION
  ^DATA_SET_MAP_PROJECTION_CATALOG= "DSMAP.CAT"
  A_AXIS_RADIUS = 3396.0
  B_AXIS_RADIUS = 3396.0
  C_AXIS_RADIUS = 3396.0
  CENTER_LATITUDE = 0.0
  CENTER_LONGITUDE = 359.0
  COORDINATE_SYSTEM_NAME = PLANETOGRAPHIC
  COORDINATE_SYSTEM_TYPE = "BODY-FIXED ROTATING"
  EASTERNMOST_LONGITUDE = 2.838
  FIRST_STANDARD_PARALLEL = "N/A"
  LINE_FIRST_PIXEL = 1
  LINE_LAST_PIXEL = 8244
  LINE_PROJECTION_OFFSET = 32666.375
  MAP_PROJECTION_ROTATION = 0.0
  MAP_PROJECTION_TYPE = SINUSOIDAL
  MAP_RESOLUTION = 592.713803866667
  MAP_SCALE = 0.1
  MAXIMUM_LATITUDE = 55.1462
  MINIMUM_LATITUDE = 41.1885
  POSITIVE_LONGITUDE_DIRECTION = EAST
  REFERENCE_LATITUDE = "N/A"
  REFERENCE_LONGITUDE = "N/A"
  SAMPLE_FIRST_PIXEL = 1
  SAMPLE_LAST_PIXEL = 2596
  SAMPLE_PROJECTION_OFFSET = 1137.875
  SECOND_STANDARD_PARALLEL = "N/A"
  WESTERNMOST_LONGITUDE = -3.929
END_OBJECT = IMAGE_MAP_PROJECTION
/* The JPEG2000 image data file associated with this label. */
OBJECT = COMPRESSED_FILE
  FILE_NAME = "H8247_0000_RE3.JP2"
  RECORD_TYPE = UNDEFINED
  FILE_RECORDS = UNK
  ENCODING_TYPE = "JP2"
  INTERCHANGE_FORMAT = BINARY
  UNCOMPRESSED_FILE_NAME = "H8247_0000_RE3.IMG"
  REQUIRED_STORAGE_BYTES = "21422192"
  ^DESCRIPTION = "JP2INFO.TXT"
END_OBJECT = COMPRESSED_FILE
END
