PDS_VERSION_ID = PDS3
/* FILE DATA ELEMENTS */
RECORD_TYPE = STREAM
/* POINTERS TO DATA OBJECTS */
^COMPRESSED_FILE = "H8249_0000_RE3.JP2"
/* IDENTIFICATION DATA ELEMENTS */
DATA_SET_ID = "MEX-M-HRSC-5-REFDR-MAPPROJECTED-V3.0"
DATA_SET_NAME = "MARS EXPRESS HRSC MAP PROJECTED REFDR V3.0"
DETECTOR_ID = MEX_HRSC_RED
EVENT_TYPE = "MARS-REGIONAL-MAPPING-Gl-Pf"
INSTRUMENT_HOST_ID = MEX
INSTRUMENT_HOST_NAME = "MARS EXPRESS"
INSTRUMENT_ID = HRSC
INSTRUMENT_NAME = "HIGH RESOLUTION STEREO CAMERA"
MISSION_NAME = "MARS EXPRESS"
MISSION_PHASE_NAME = ME_Phase_20
PROCESSING_LEVEL_ID = 3
PRODUCT_CREATION_TIME = 2016-10-25T11:55:47.000Z
PRODUCT_ID = "H8249_0000_RE3.JP2"
RELEASE_ID = 0090
REVISION_ID = 0000
/* QUALITY DATA ELEMENTS */
DATA_QUALITY_ID = 1
DATA_QUALITY_DESC = "Data calculated based on original SPICE kernels"
/* TIME DATA ELEMENTS */
SPACECRAFT_CLOCK_START_COUNT = "1/0224403841.07283"
SPACECRAFT_CLOCK_STOP_COUNT = "1/0224404383.56965"
START_TIME = 2010-06-12T06:24:18.031Z
STOP_TIME = 2010-06-12T06:27:31.850Z
/* ORBITAL DATA ELEMENTS */
ASCENDING_NODE_LONGITUDE = 59.78
MAXIMUM_RESOLUTION = 135.7
FOOTPRINT_POINT_LATITUDE = (42.1337,42.138,42.1419,42.1453,42.149, 42.1516,42.1553,42.1569,42.1579,42.1583 ,42.1584,42.158,42.3281,42.7072,43.089, 43.474,43.8628,44.2543,44.65,45.0493, 45.4518,45.8576,46.2673,46.5777,46.7854 ,46.9935,47.2027,47.4135,47.7312, 47.9439,48.1579,48.4805,48.6966,48.9142 ,49.1325,49.3517,49.5718,49.7933, 50.0159,50.2398,50.4643,50.6901,50.9171 ,51.1448,51.3736,51.6038,51.835,52.0672 ,52.3007,52.5353,52.7708,52.9439, 52.9442,52.943,52.9405,52.9334,52.9227, 52.9081,52.895,52.8747,52.8669,52.7251, 52.4923,52.2603,52.0285,51.7986,51.5692 ,51.3408,51.1136,50.7746,50.5503, 50.3264,50.1039,49.8826,49.6619,49.4426 ,49.1154,48.8984,48.6821,48.4674, 48.2533,48.0404,47.7226,47.5115,47.3018 ,46.9889,46.7808,46.5747,46.1638, 45.8583,45.4543,45.0536,44.656,44.2619, 43.8713,43.4843,43.1958,42.8143,42.4359 ,42.1337)
FOOTPRINT_POINT_LONGITUDE = (156.069,155.787,155.506,155.225, 154.873,154.592,154.065,153.714,153.433 ,153.152,152.871,152.588,152.395, 152.372,152.348,152.324,152.3,152.275, 152.249,152.222,152.195,152.168,152.14, 152.118,152.103,152.089,152.074,152.059 ,152.035,152.02,152.004,151.98,151.964, 151.947,151.93,151.913,151.896,151.879, 151.861,151.843,151.825,151.807,151.788 ,151.769,151.75,151.731,151.711,151.691 ,151.671,151.651,151.63,151.84,152.243, 152.701,153.16,153.902,154.702,155.502, 156.073,156.815,157.334,157.725,157.679 ,157.635,157.591,157.548,157.506, 157.464,157.424,157.365,157.326,157.289 ,157.252,157.216,157.18,157.146,157.095 ,157.062,157.029,156.997,156.966, 156.936,156.891,156.862,156.833,156.791 ,156.764,156.737,156.685,156.647, 156.598,156.551,156.505,156.461,156.418 ,156.377,156.347,156.308,156.271, 156.069)
ORBIT_NUMBER = 8249
ORBITAL_ECCENTRICITY = 0.579
ORBITAL_INCLINATION = 86.82
ORBITAL_SEMIMAJOR_AXIS = 8855.01
PERIAPSIS_ALTITUDE = 333.68
PERIAPSIS_ARGUMENT_ANGLE = 352.69
PERIAPSIS_TIME = 2010-06-12T06:11:43.000Z
SPACECRAFT_ORIENTATION = (0.0,1.0,0.0)
^MEX_ORIENTATION_DESC = "MEX_ORIENTATION_DESC.TXT"
SPACECRAFT_POINTING_MODE = NADIR
^MEX_POINTING_DESC = "MEX_POINTING_DESC.TXT"
RIGHT_ASCENSION = -1e+32
DECLINATION = -1e+32
OFFSET_ANGLE = -1e+32
SPACECRAFT_SOLAR_DISTANCE = 2.45308e+08
TARGET_NAME = MARS
/* CAMERA DATA ELEMENTS */
DETECTOR_TEMPERATURE = 18.3705
FOCAL_PLANE_TEMPERATURE = 7.7677
INST_CMPRS_NAME = "DISCRETE COSINE TRANSFORMATION (DCT)"
INST_CMPRS_RATIO = 14.4954
INST_CMPRS_QUALITY = 0
INST_CMPRS_QUANTZ_TBL_ID = 0
INSTRUMENT_TEMPERATURE = 10.8262
LENS_TEMPERATURE = 8.1755
MACROPIXEL_SIZE = 4
MISSING_FRAMES = 0
PIXEL_SUBSAMPLING_FLAG = N
SIGNAL_CHAIN_ID = 2
/* RADIOMETRIC DATA ELEMENTS */
BANDWIDTH = 48.0
CENTER_FILTER_WAVELENGTH = 748.0
RADIANCE_OFFSET = 0.390204
RADIANCE_SCALING_FACTOR = 0.00298925
REFLECTANCE_SCALING_FACTOR = 0.000410497
MEX:REFLECTANCE_OFFSET = 0.0535844
/* IMAGE OBJECT DEFINITIONS */
OBJECT = IMAGE
  INTERCHANGE_FORMAT = BINARY
  LINES = 6383
  LINE_SAMPLES = 2477
  SAMPLE_TYPE = UNSIGNED_INTEGER
  SAMPLE_BITS = 8
  BANDS = 1
  BAND_STORAGE_TYPE = BAND_SEQUENTIAL
  MAXIMUM = 255
  MEAN = 94.6331
  MINIMUM = 1
  STANDARD_DEVIATION = 26.7748
END_OBJECT = IMAGE
/* MAP OBJECT DEFINITIONS */
OBJECT = IMAGE_MAP_PROJECTION
  ^DATA_SET_MAP_PROJECTION_CATALOG= "DSMAP.CAT"
  A_AXIS_RADIUS = 3396.0
  B_AXIS_RADIUS = 3396.0
  C_AXIS_RADIUS = 3396.0
  CENTER_LATITUDE = 0.0
  CENTER_LONGITUDE = 154.0
  COORDINATE_SYSTEM_NAME = PLANETOGRAPHIC
  COORDINATE_SYSTEM_TYPE = "BODY-FIXED ROTATING"
  EASTERNMOST_LONGITUDE = 157.725
  FIRST_STANDARD_PARALLEL = "N/A"
  LINE_FIRST_PIXEL = 1
  LINE_LAST_PIXEL = 6383
  LINE_PROJECTION_OFFSET = 31370.125
  MAP_PROJECTION_ROTATION = 0.0
  MAP_PROJECTION_TYPE = SINUSOIDAL
  MAP_RESOLUTION = 592.713803866667
  MAP_SCALE = 0.1
  MAXIMUM_LATITUDE = 52.9442
  MINIMUM_LATITUDE = 42.1337
  POSITIVE_LONGITUDE_DIRECTION = EAST
  REFERENCE_LATITUDE = "N/A"
  REFERENCE_LONGITUDE = "N/A"
  SAMPLE_FIRST_PIXEL = 1
  SAMPLE_LAST_PIXEL = 2477
  SAMPLE_PROJECTION_OFFSET = 982.625
  SECOND_STANDARD_PARALLEL = "N/A"
  WESTERNMOST_LONGITUDE = 151.63
END_OBJECT = IMAGE_MAP_PROJECTION
/* The JPEG2000 image data file associated with this label. */
OBJECT = COMPRESSED_FILE
  FILE_NAME = "H8249_0000_RE3.JP2"
  RECORD_TYPE = UNDEFINED
  FILE_RECORDS = UNK
  ENCODING_TYPE = "JP2"
  INTERCHANGE_FORMAT = BINARY
  UNCOMPRESSED_FILE_NAME = "H8249_0000_RE3.IMG"
  REQUIRED_STORAGE_BYTES = "15830507"
  ^DESCRIPTION = "JP2INFO.TXT"
END_OBJECT = COMPRESSED_FILE
END
