PDS_VERSION_ID = PDS3
/* FILE DATA ELEMENTS */
RECORD_TYPE = STREAM
/* POINTERS TO DATA OBJECTS */
^COMPRESSED_FILE = "H8249_0000_S13.JP2"
/* IDENTIFICATION DATA ELEMENTS */
DATA_SET_ID = "MEX-M-HRSC-5-REFDR-MAPPROJECTED-V3.0"
DATA_SET_NAME = "MARS EXPRESS HRSC MAP PROJECTED REFDR V3.0"
DETECTOR_ID = MEX_HRSC_S1
EVENT_TYPE = "MARS-REGIONAL-MAPPING-Gl-Pf"
INSTRUMENT_HOST_ID = MEX
INSTRUMENT_HOST_NAME = "MARS EXPRESS"
INSTRUMENT_ID = HRSC
INSTRUMENT_NAME = "HIGH RESOLUTION STEREO CAMERA"
MISSION_NAME = "MARS EXPRESS"
MISSION_PHASE_NAME = ME_Phase_20
PROCESSING_LEVEL_ID = 3
PRODUCT_CREATION_TIME = 2016-10-25T11:55:47.000Z
PRODUCT_ID = "H8249_0000_S13.JP2"
RELEASE_ID = 0090
REVISION_ID = 0000
/* QUALITY DATA ELEMENTS */
DATA_QUALITY_ID = 1
DATA_QUALITY_DESC = "Data calculated based on original SPICE kernels"
/* TIME DATA ELEMENTS */
SPACECRAFT_CLOCK_START_COUNT = "1/0224403841.07283"
SPACECRAFT_CLOCK_STOP_COUNT = "1/0224404383.56965"
START_TIME = 2010-06-12T06:27:45.080Z
STOP_TIME = 2010-06-12T06:33:04.323Z
/* ORBITAL DATA ELEMENTS */
ASCENDING_NODE_LONGITUDE = 59.78
MAXIMUM_RESOLUTION = 90.8
FOOTPRINT_POINT_LATITUDE = (42.2116,42.2279,42.2423,42.2549,42.263 ,42.275,42.2815,42.286,42.2885,42.2891, 42.2877,42.2845,42.3978,42.8234,43.0373 ,43.3598,43.5754,43.7921,44.1189, 44.3376,44.5575,44.7786,44.9998,45.2224 ,45.4455,45.6692,45.8941,46.1197, 46.3463,46.5739,46.8011,47.0272,47.2518 ,47.4751,47.6971,47.9182,48.1379, 48.3565,48.5736,48.7895,49.0042,49.4301 ,49.851,50.2672,50.6789,51.086,51.4881, 51.8855,52.2785,52.6673,52.9012,52.9109 ,52.9153,52.9134,52.9063,52.8944, 52.8759,52.8454,52.8069,52.7461,52.6921 ,52.6518,52.3332,51.9551,51.572,51.184, 50.7911,50.3934,49.9907,49.5834,49.1709 ,48.753,48.3307,48.117,47.9023,47.6861, 47.4689,47.2505,47.0305,46.8094,46.4749 ,46.2511,46.0277,45.8049,45.5832, 45.3624,45.1424,44.9228,44.7045,44.4866 ,44.2696,44.0532,43.8376,43.6231, 43.4093,43.1965,42.878,42.4566,42.1418, 42.2116)
FOOTPRINT_POINT_LONGITUDE = (156.467,156.079,155.692,155.305, 155.014,154.482,154.095,153.708,153.32, 152.932,152.544,152.155,151.738,151.691 ,151.666,151.629,151.604,151.578, 151.538,151.511,151.484,151.456,151.428 ,151.399,151.37,151.34,151.309,151.278, 151.247,151.215,151.182,151.15,151.117, 151.083,151.05,151.016,150.982,150.947, 150.912,150.877,150.842,150.77,150.697, 150.623,150.547,150.47,150.392,150.312, 150.231,150.148,150.269,150.966,151.661 ,152.355,153.048,153.74,154.43,155.293, 156.155,157.188,158.046,158.561,158.938 ,158.828,158.721,158.615,158.511, 158.409,158.309,158.211,158.114,158.019 ,157.926,157.88,157.834,157.79,157.745, 157.701,157.657,157.614,157.55,157.508, 157.466,157.426,157.386,157.347,157.309 ,157.272,157.235,157.199,157.163, 157.129,157.095,157.061,157.028,156.996 ,156.949,156.888,156.844,156.467)
ORBIT_NUMBER = 8249
ORBITAL_ECCENTRICITY = 0.579
ORBITAL_INCLINATION = 86.82
ORBITAL_SEMIMAJOR_AXIS = 8855.01
PERIAPSIS_ALTITUDE = 333.68
PERIAPSIS_ARGUMENT_ANGLE = 352.69
PERIAPSIS_TIME = 2010-06-12T06:11:43.000Z
SPACECRAFT_ORIENTATION = (0.0,1.0,0.0)
^MEX_ORIENTATION_DESC = "MEX_ORIENTATION_DESC.TXT"
SPACECRAFT_POINTING_MODE = NADIR
^MEX_POINTING_DESC = "MEX_POINTING_DESC.TXT"
RIGHT_ASCENSION = -1e+32
DECLINATION = -1e+32
OFFSET_ANGLE = -1e+32
SPACECRAFT_SOLAR_DISTANCE = 2.45308e+08
TARGET_NAME = MARS
/* CAMERA DATA ELEMENTS */
DETECTOR_TEMPERATURE = 16.3315
FOCAL_PLANE_TEMPERATURE = 7.7677
INST_CMPRS_NAME = "DISCRETE COSINE TRANSFORMATION (DCT)"
INST_CMPRS_RATIO = 10.3919
INST_CMPRS_QUALITY = 0
INST_CMPRS_QUANTZ_TBL_ID = 0
INSTRUMENT_TEMPERATURE = 10.8262
LENS_TEMPERATURE = 8.1755
MACROPIXEL_SIZE = 2
MISSING_FRAMES = 0
PIXEL_SUBSAMPLING_FLAG = N
SIGNAL_CHAIN_ID = 1
/* RADIOMETRIC DATA ELEMENTS */
BANDWIDTH = 180.0
CENTER_FILTER_WAVELENGTH = 677.0
RADIANCE_OFFSET = 1.55949
RADIANCE_SCALING_FACTOR = 0.00990738
REFLECTANCE_SCALING_FACTOR = 0.000311043
MEX:REFLECTANCE_OFFSET = 0.0489605
/* IMAGE OBJECT DEFINITIONS */
OBJECT = IMAGE
  INTERCHANGE_FORMAT = BINARY
  LINES = 12766
  LINE_SAMPLES = 4953
  SAMPLE_TYPE = UNSIGNED_INTEGER
  SAMPLE_BITS = 8
  BANDS = 1
  BAND_STORAGE_TYPE = BAND_SEQUENTIAL
  MAXIMUM = 255
  MEAN = 103.238
  MINIMUM = 1
  STANDARD_DEVIATION = 28.3274
END_OBJECT = IMAGE
/* MAP OBJECT DEFINITIONS */
OBJECT = IMAGE_MAP_PROJECTION
  ^DATA_SET_MAP_PROJECTION_CATALOG= "DSMAP.CAT"
  A_AXIS_RADIUS = 3396.0
  B_AXIS_RADIUS = 3396.0
  C_AXIS_RADIUS = 3396.0
  CENTER_LATITUDE = 0.0
  CENTER_LONGITUDE = 154.0
  COORDINATE_SYSTEM_NAME = PLANETOGRAPHIC
  COORDINATE_SYSTEM_TYPE = "BODY-FIXED ROTATING"
  EASTERNMOST_LONGITUDE = 158.938
  FIRST_STANDARD_PARALLEL = "N/A"
  LINE_FIRST_PIXEL = 1
  LINE_LAST_PIXEL = 12766
  LINE_PROJECTION_OFFSET = 62740.75
  MAP_PROJECTION_ROTATION = 0.0
  MAP_PROJECTION_TYPE = SINUSOIDAL
  MAP_RESOLUTION = 1185.42760773333
  MAP_SCALE = 0.05
  MAXIMUM_LATITUDE = 52.9153
  MINIMUM_LATITUDE = 42.1418
  POSITIVE_LONGITUDE_DIRECTION = EAST
  REFERENCE_LATITUDE = "N/A"
  REFERENCE_LONGITUDE = "N/A"
  SAMPLE_FIRST_PIXEL = 1
  SAMPLE_LAST_PIXEL = 4953
  SAMPLE_PROJECTION_OFFSET = 1965.75
  SECOND_STANDARD_PARALLEL = "N/A"
  WESTERNMOST_LONGITUDE = 150.148
END_OBJECT = IMAGE_MAP_PROJECTION
/* The JPEG2000 image data file associated with this label. */
OBJECT = COMPRESSED_FILE
  FILE_NAME = "H8249_0000_S13.JP2"
  RECORD_TYPE = UNDEFINED
  FILE_RECORDS = UNK
  ENCODING_TYPE = "JP2"
  INTERCHANGE_FORMAT = BINARY
  UNCOMPRESSED_FILE_NAME = "H8249_0000_S13.IMG"
  REQUIRED_STORAGE_BYTES = "63254763"
  ^DESCRIPTION = "JP2INFO.TXT"
END_OBJECT = COMPRESSED_FILE
END
