PDS_VERSION_ID = PDS3
/* FILE DATA ELEMENTS */
RECORD_TYPE = STREAM
/* POINTERS TO DATA OBJECTS */
^COMPRESSED_FILE = "H8252_0000_BL3.JP2"
/* IDENTIFICATION DATA ELEMENTS */
DATA_SET_ID = "MEX-M-HRSC-5-REFDR-MAPPROJECTED-V3.0"
DATA_SET_NAME = "MARS EXPRESS HRSC MAP PROJECTED REFDR V3.0"
DETECTOR_ID = MEX_HRSC_BLUE
EVENT_TYPE = "MARS-REGIONAL-MAPPING-Vo-Im-Pf"
INSTRUMENT_HOST_ID = MEX
INSTRUMENT_HOST_NAME = "MARS EXPRESS"
INSTRUMENT_ID = HRSC
INSTRUMENT_NAME = "HIGH RESOLUTION STEREO CAMERA"
MISSION_NAME = "MARS EXPRESS"
MISSION_PHASE_NAME = ME_Phase_20
PROCESSING_LEVEL_ID = 3
PRODUCT_CREATION_TIME = 2016-10-25T11:55:47.000Z
PRODUCT_ID = "H8252_0000_BL3.JP2"
RELEASE_ID = 0090
REVISION_ID = 0000
/* QUALITY DATA ELEMENTS */
DATA_QUALITY_ID = 1
DATA_QUALITY_DESC = "Data calculated based on original SPICE kernels"
/* TIME DATA ELEMENTS */
SPACECRAFT_CLOCK_START_COUNT = "1/0224479358.09057"
SPACECRAFT_CLOCK_STOP_COUNT = "1/0224480027.55374"
START_TIME = 2010-06-13T03:23:53.230Z
STOP_TIME = 2010-06-13T03:28:58.440Z
/* ORBITAL DATA ELEMENTS */
ASCENDING_NODE_LONGITUDE = 59.73
MAXIMUM_RESOLUTION = 137.7
FOOTPRINT_POINT_LATITUDE = (41.0107,41.0205,41.0271,41.0333, 41.0359,41.0349,41.4247,41.9282,42.4364 ,42.9509,43.4707,43.997,44.5291,45.0671 ,45.6115,46.1621,46.4396,46.719,47.0, 47.2825,47.5668,47.8529,48.1405,48.4297 ,48.7208,49.0138,49.3087,49.605,49.9034 ,50.2037,50.5055,50.8092,51.1148, 51.4222,51.732,52.0436,52.3568,52.6723, 52.9899,53.3094,53.6308,53.9546,54.2803 ,54.608,54.9378,55.2697,55.6083,55.6097 ,55.6085,55.6025,55.5939,55.5837, 55.5709,55.5491,55.5225,55.494,55.4683, 55.4247,55.0961,54.7696,54.4454,54.1227 ,53.8021,53.4831,53.1664,52.8516, 52.5384,52.2272,51.918,51.6104,51.3045, 51.0007,50.6988,50.3985,50.1,49.803, 49.5078,49.2144,48.9226,48.6324,48.3441 ,48.0575,47.7726,47.489,47.2071,46.927, 46.6483,46.3711,46.0958,45.822,45.2783, 44.7408,44.2096,43.6838,43.164,42.6498, 42.1412,41.638,41.1405,41.0107)
FOOTPRINT_POINT_LONGITUDE = (208.939,208.393,207.92,207.265,206.683 ,205.844,205.484,205.449,205.414, 205.378,205.34,205.302,205.262,205.221, 205.179,205.135,205.113,205.09,205.067, 205.043,205.019,204.995,204.97,204.945, 204.919,204.893,204.866,204.839,204.811 ,204.783,204.754,204.725,204.695, 204.665,204.634,204.602,204.57,204.537, 204.503,204.469,204.434,204.398,204.361 ,204.324,204.285,204.246,204.49,205.143 ,205.652,206.447,207.098,207.675, 208.252,209.045,209.837,210.558,211.133 ,211.947,211.857,211.77,211.687,211.605 ,211.526,211.449,211.375,211.303, 211.233,211.165,211.098,211.034,210.971 ,210.91,210.851,210.794,210.738,210.683 ,210.63,210.578,210.528,210.479,210.431 ,210.384,210.339,210.295,210.252,210.21 ,210.168,210.128,210.089,210.051, 209.978,209.907,209.841,209.777,209.716 ,209.657,209.602,209.548,209.497, 208.939)
ORBIT_NUMBER = 8252
ORBITAL_ECCENTRICITY = 0.579
ORBITAL_INCLINATION = 86.84
ORBITAL_SEMIMAJOR_AXIS = 8855.43
PERIAPSIS_ALTITUDE = 332.98
PERIAPSIS_ARGUMENT_ANGLE = 352.13
PERIAPSIS_TIME = 2010-06-13T03:10:30.000Z
SPACECRAFT_ORIENTATION = (0.0,1.0,0.0)
^MEX_ORIENTATION_DESC = "MEX_ORIENTATION_DESC.TXT"
SPACECRAFT_POINTING_MODE = NADIR
^MEX_POINTING_DESC = "MEX_POINTING_DESC.TXT"
RIGHT_ASCENSION = -1e+32
DECLINATION = -1e+32
OFFSET_ANGLE = -1e+32
SPACECRAFT_SOLAR_DISTANCE = 2.45216e+08
TARGET_NAME = MARS
/* CAMERA DATA ELEMENTS */
DETECTOR_TEMPERATURE = 18.1666
FOCAL_PLANE_TEMPERATURE = 7.7677
INST_CMPRS_NAME = "DISCRETE COSINE TRANSFORMATION (DCT)"
INST_CMPRS_RATIO = 13.2653
INST_CMPRS_QUALITY = 0
INST_CMPRS_QUANTZ_TBL_ID = 0
INSTRUMENT_TEMPERATURE = 11.0301
LENS_TEMPERATURE = 8.1755
MACROPIXEL_SIZE = 4
MISSING_FRAMES = 0
PIXEL_SUBSAMPLING_FLAG = N
SIGNAL_CHAIN_ID = 2
/* RADIOMETRIC DATA ELEMENTS */
BANDWIDTH = 76.0
CENTER_FILTER_WAVELENGTH = 444.0
RADIANCE_OFFSET = 0.27889
RADIANCE_SCALING_FACTOR = 0.000758125
REFLECTANCE_SCALING_FACTOR = 4.68375e-05
MEX:REFLECTANCE_OFFSET = 0.01723
/* IMAGE OBJECT DEFINITIONS */
OBJECT = IMAGE
  INTERCHANGE_FORMAT = BINARY
  LINES = 8656
  LINE_SAMPLES = 2687
  SAMPLE_TYPE = UNSIGNED_INTEGER
  SAMPLE_BITS = 8
  BANDS = 1
  BAND_STORAGE_TYPE = BAND_SEQUENTIAL
  MAXIMUM = 255
  MEAN = 125.702
  MINIMUM = 1
  STANDARD_DEVIATION = 40.8717
END_OBJECT = IMAGE
/* MAP OBJECT DEFINITIONS */
OBJECT = IMAGE_MAP_PROJECTION
  ^DATA_SET_MAP_PROJECTION_CATALOG= "DSMAP.CAT"
  A_AXIS_RADIUS = 3396.0
  B_AXIS_RADIUS = 3396.0
  C_AXIS_RADIUS = 3396.0
  CENTER_LATITUDE = 0.0
  CENTER_LONGITUDE = 208.0
  COORDINATE_SYSTEM_NAME = PLANETOGRAPHIC
  COORDINATE_SYSTEM_TYPE = "BODY-FIXED ROTATING"
  EASTERNMOST_LONGITUDE = 211.947
  FIRST_STANDARD_PARALLEL = "N/A"
  LINE_FIRST_PIXEL = 1
  LINE_LAST_PIXEL = 8656
  LINE_PROJECTION_OFFSET = 32956.625
  MAP_PROJECTION_ROTATION = 0.0
  MAP_PROJECTION_TYPE = SINUSOIDAL
  MAP_RESOLUTION = 592.713803866667
  MAP_SCALE = 0.1
  MAXIMUM_LATITUDE = 55.6097
  MINIMUM_LATITUDE = 41.0107
  POSITIVE_LONGITUDE_DIRECTION = EAST
  REFERENCE_LATITUDE = "N/A"
  REFERENCE_LONGITUDE = "N/A"
  SAMPLE_FIRST_PIXEL = 1
  SAMPLE_LAST_PIXEL = 2687
  SAMPLE_PROJECTION_OFFSET = 1332.375
  SECOND_STANDARD_PARALLEL = "N/A"
  WESTERNMOST_LONGITUDE = 204.246
END_OBJECT = IMAGE_MAP_PROJECTION
/* The JPEG2000 image data file associated with this label. */
OBJECT = COMPRESSED_FILE
  FILE_NAME = "H8252_0000_BL3.JP2"
  RECORD_TYPE = UNDEFINED
  FILE_RECORDS = UNK
  ENCODING_TYPE = "JP2"
  INTERCHANGE_FORMAT = BINARY
  UNCOMPRESSED_FILE_NAME = "H8252_0000_BL3.IMG"
  REQUIRED_STORAGE_BYTES = "23280168"
  ^DESCRIPTION = "JP2INFO.TXT"
END_OBJECT = COMPRESSED_FILE
END
