PDS_VERSION_ID = PDS3
/* FILE DATA ELEMENTS */
RECORD_TYPE = STREAM
/* POINTERS TO DATA OBJECTS */
^COMPRESSED_FILE = "H8252_0000_GR3.JP2"
/* IDENTIFICATION DATA ELEMENTS */
DATA_SET_ID = "MEX-M-HRSC-5-REFDR-MAPPROJECTED-V3.0"
DATA_SET_NAME = "MARS EXPRESS HRSC MAP PROJECTED REFDR V3.0"
DETECTOR_ID = MEX_HRSC_GREEN
EVENT_TYPE = "MARS-REGIONAL-MAPPING-Vo-Im-Pf"
INSTRUMENT_HOST_ID = MEX
INSTRUMENT_HOST_NAME = "MARS EXPRESS"
INSTRUMENT_ID = HRSC
INSTRUMENT_NAME = "HIGH RESOLUTION STEREO CAMERA"
MISSION_NAME = "MARS EXPRESS"
MISSION_PHASE_NAME = ME_Phase_20
PROCESSING_LEVEL_ID = 3
PRODUCT_CREATION_TIME = 2016-10-25T11:55:47.000Z
PRODUCT_ID = "H8252_0000_GR3.JP2"
RELEASE_ID = 0090
REVISION_ID = 0000
/* QUALITY DATA ELEMENTS */
DATA_QUALITY_ID = 1
DATA_QUALITY_DESC = "Data calculated based on original SPICE kernels"
/* TIME DATA ELEMENTS */
SPACECRAFT_CLOCK_START_COUNT = "1/0224479358.09057"
SPACECRAFT_CLOCK_STOP_COUNT = "1/0224480027.55374"
START_TIME = 2010-06-13T03:24:27.863Z
STOP_TIME = 2010-06-13T03:30:00.376Z
/* ORBITAL DATA ELEMENTS */
ASCENDING_NODE_LONGITUDE = 59.73
MAXIMUM_RESOLUTION = 144.1
FOOTPRINT_POINT_LATITUDE = (41.0104,41.0278,41.0438,41.0508, 41.0562,41.0581,41.057,41.0425,41.5446, 42.0516,42.5641,43.0826,43.6064,44.136, 44.6714,45.2133,45.7611,46.315,46.5942, 46.8751,47.1577,47.4419,47.7279,48.0156 ,48.3047,48.5955,48.888,49.1821,49.4784 ,49.7763,50.0757,50.3772,50.6805, 50.9855,51.2924,51.6013,51.9119,52.2244 ,52.5386,52.8549,53.1732,53.4934, 53.8154,54.1395,54.4656,54.794,55.1243, 55.6133,55.618,55.616,55.6105,55.6005, 55.5882,55.5748,55.5563,55.5256,55.4924 ,55.4583,55.429,55.2298,54.9037,54.5807 ,54.2586,53.9397,53.6212,53.3048, 52.9902,52.6771,52.3661,52.0568,51.7492 ,51.4434,51.139,50.8367,50.5359,50.2367 ,49.9394,49.6438,49.3496,49.057,48.7665 ,48.4774,48.1899,47.904,47.6194,47.3364 ,47.0552,46.7755,46.4974,46.2209, 45.6721,45.1292,44.5918,44.0606,43.5351 ,43.0151,42.5003,41.9911,41.4874, 41.0104)
FOOTPRINT_POINT_LONGITUDE = (209.543,208.893,208.092,207.595, 206.985,206.489,205.839,205.411,205.374 ,205.336,205.297,205.256,205.214, 205.171,205.126,205.08,205.032,204.982, 204.957,204.931,204.905,204.878,204.851 ,204.823,204.794,204.765,204.736, 204.706,204.676,204.644,204.613,204.58, 204.547,204.513,204.479,204.443,204.407 ,204.371,204.333,204.295,204.255, 204.215,204.174,204.132,204.089,204.045 ,204.0,203.932,204.859,205.712,206.331, 207.027,207.644,208.183,208.8,209.648, 210.417,211.108,211.646,212.16,212.069, 211.976,211.888,211.8,211.718,211.637, 211.559,211.483,211.409,211.338,211.268 ,211.2,211.134,211.07,211.007,210.946, 210.887,210.83,210.774,210.719,210.666, 210.614,210.564,210.514,210.466,210.42, 210.374,210.33,210.286,210.244,210.162, 210.084,210.01,209.94,209.872,209.808, 209.746,209.687,209.631,209.543)
ORBIT_NUMBER = 8252
ORBITAL_ECCENTRICITY = 0.579
ORBITAL_INCLINATION = 86.84
ORBITAL_SEMIMAJOR_AXIS = 8855.43
PERIAPSIS_ALTITUDE = 332.98
PERIAPSIS_ARGUMENT_ANGLE = 352.13
PERIAPSIS_TIME = 2010-06-13T03:10:30.000Z
SPACECRAFT_ORIENTATION = (0.0,1.0,0.0)
^MEX_ORIENTATION_DESC = "MEX_ORIENTATION_DESC.TXT"
SPACECRAFT_POINTING_MODE = NADIR
^MEX_POINTING_DESC = "MEX_POINTING_DESC.TXT"
RIGHT_ASCENSION = -1e+32
DECLINATION = -1e+32
OFFSET_ANGLE = -1e+32
SPACECRAFT_SOLAR_DISTANCE = 2.45216e+08
TARGET_NAME = MARS
/* CAMERA DATA ELEMENTS */
DETECTOR_TEMPERATURE = 18.1666
FOCAL_PLANE_TEMPERATURE = 7.7677
INST_CMPRS_NAME = "DISCRETE COSINE TRANSFORMATION (DCT)"
INST_CMPRS_RATIO = 14.1885
INST_CMPRS_QUALITY = 0
INST_CMPRS_QUANTZ_TBL_ID = 0
INSTRUMENT_TEMPERATURE = 11.0301
LENS_TEMPERATURE = 8.1755
MACROPIXEL_SIZE = 4
MISSING_FRAMES = 0
PIXEL_SUBSAMPLING_FLAG = N
SIGNAL_CHAIN_ID = 2
/* RADIOMETRIC DATA ELEMENTS */
BANDWIDTH = 88.0
CENTER_FILTER_WAVELENGTH = 538.0
RADIANCE_OFFSET = 0.567253
RADIANCE_SCALING_FACTOR = 0.0023893
REFLECTANCE_SCALING_FACTOR = 0.000123696
MEX:REFLECTANCE_OFFSET = 0.0293671
/* IMAGE OBJECT DEFINITIONS */
OBJECT = IMAGE
  INTERCHANGE_FORMAT = BINARY
  LINES = 8656
  LINE_SAMPLES = 2687
  SAMPLE_TYPE = UNSIGNED_INTEGER
  SAMPLE_BITS = 8
  BANDS = 1
  BAND_STORAGE_TYPE = BAND_SEQUENTIAL
  MAXIMUM = 255
  MEAN = 136.032
  MINIMUM = 1
  STANDARD_DEVIATION = 33.9657
END_OBJECT = IMAGE
/* MAP OBJECT DEFINITIONS */
OBJECT = IMAGE_MAP_PROJECTION
  ^DATA_SET_MAP_PROJECTION_CATALOG= "DSMAP.CAT"
  A_AXIS_RADIUS = 3396.0
  B_AXIS_RADIUS = 3396.0
  C_AXIS_RADIUS = 3396.0
  CENTER_LATITUDE = 0.0
  CENTER_LONGITUDE = 208.0
  COORDINATE_SYSTEM_NAME = PLANETOGRAPHIC
  COORDINATE_SYSTEM_TYPE = "BODY-FIXED ROTATING"
  EASTERNMOST_LONGITUDE = 212.16
  FIRST_STANDARD_PARALLEL = "N/A"
  LINE_FIRST_PIXEL = 1
  LINE_LAST_PIXEL = 8656
  LINE_PROJECTION_OFFSET = 32956.625
  MAP_PROJECTION_ROTATION = 0.0
  MAP_PROJECTION_TYPE = SINUSOIDAL
  MAP_RESOLUTION = 592.713803866667
  MAP_SCALE = 0.1
  MAXIMUM_LATITUDE = 55.618
  MINIMUM_LATITUDE = 41.0104
  POSITIVE_LONGITUDE_DIRECTION = EAST
  REFERENCE_LATITUDE = "N/A"
  REFERENCE_LONGITUDE = "N/A"
  SAMPLE_FIRST_PIXEL = 1
  SAMPLE_LAST_PIXEL = 2687
  SAMPLE_PROJECTION_OFFSET = 1332.375
  SECOND_STANDARD_PARALLEL = "N/A"
  WESTERNMOST_LONGITUDE = 203.932
END_OBJECT = IMAGE_MAP_PROJECTION
/* The JPEG2000 image data file associated with this label. */
OBJECT = COMPRESSED_FILE
  FILE_NAME = "H8252_0000_GR3.JP2"
  RECORD_TYPE = UNDEFINED
  FILE_RECORDS = UNK
  ENCODING_TYPE = "JP2"
  INTERCHANGE_FORMAT = BINARY
  UNCOMPRESSED_FILE_NAME = "H8252_0000_GR3.IMG"
  REQUIRED_STORAGE_BYTES = "23280168"
  ^DESCRIPTION = "JP2INFO.TXT"
END_OBJECT = COMPRESSED_FILE
END
