PDS_VERSION_ID = PDS3
/* FILE DATA ELEMENTS */
RECORD_TYPE = STREAM
/* POINTERS TO DATA OBJECTS */
^COMPRESSED_FILE = "H8253_0000_S23.JP2"
/* IDENTIFICATION DATA ELEMENTS */
DATA_SET_ID = "MEX-M-HRSC-5-REFDR-MAPPROJECTED-V3.0"
DATA_SET_NAME = "MARS EXPRESS HRSC MAP PROJECTED REFDR V3.0"
DETECTOR_ID = MEX_HRSC_S2
EVENT_TYPE = "MARS-LOCAL-COLOR-Pf-Ts"
INSTRUMENT_HOST_ID = MEX
INSTRUMENT_HOST_NAME = "MARS EXPRESS"
INSTRUMENT_ID = HRSC
INSTRUMENT_NAME = "HIGH RESOLUTION STEREO CAMERA"
MISSION_NAME = "MARS EXPRESS"
MISSION_PHASE_NAME = ME_Phase_20
PROCESSING_LEVEL_ID = 3
PRODUCT_CREATION_TIME = 2016-10-25T11:55:47.000Z
PRODUCT_ID = "H8253_0000_S23.JP2"
RELEASE_ID = 0090
REVISION_ID = 0000
/* QUALITY DATA ELEMENTS */
DATA_QUALITY_ID = 1
DATA_QUALITY_DESC = "Data calculated based on original SPICE kernels"
/* TIME DATA ELEMENTS */
SPACECRAFT_CLOCK_START_COUNT = "1/0224504626.09052"
SPACECRAFT_CLOCK_STOP_COUNT = "1/0224505116.57963"
START_TIME = 2010-06-13T10:23:48.727Z
STOP_TIME = 2010-06-13T10:25:52.863Z
/* ORBITAL DATA ELEMENTS */
ASCENDING_NODE_LONGITUDE = 59.7
MAXIMUM_RESOLUTION = 75.6
FOOTPRINT_POINT_LATITUDE = (45.8486,45.8517,45.8554,45.8585,45.861 ,45.8628,45.8642,45.8649,45.8652, 45.8649,45.864,45.8625,45.8613,45.8589, 45.9632,46.2198,46.4132,46.672,46.9329, 47.2604,47.5238,47.7891,48.0562,48.2568 ,48.4593,48.7297,49.0703,49.3443, 49.6892,49.8981,50.1772,50.3874,50.5991 ,50.8824,51.0246,51.1674,51.3107, 51.4539,51.5982,51.8147,51.9604,52.1057 ,52.2518,52.3983,52.6189,52.7662, 52.9122,52.9136,52.9139,52.9138,52.9133 ,52.9125,52.9117,52.9103,52.9087, 52.9069,52.9046,52.902,52.8991,52.8959, 52.8926,52.8877,52.8824,52.8741,52.8693 ,52.8639,52.8582,52.8522,52.8458, 52.8372,52.6918,52.5462,52.4006,52.1838 ,52.039,51.8952,51.7513,51.5373,51.3945 ,51.182,51.0401,50.7585,50.4785,50.2694 ,49.9231,49.6475,49.3739,49.1696, 48.8312,48.4951,48.2276,47.9624,47.5662 ,47.3695,47.0435,46.7843,46.5267,46.27, 46.0152,45.8486)
FOOTPRINT_POINT_LONGITUDE = (108.493,108.232,107.885,107.539, 107.193,106.849,106.505,106.162,105.821 ,105.48,105.139,104.799,104.587,104.247 ,104.039,104.026,104.016,104.003, 103.989,103.973,103.959,103.945,103.931 ,103.92,103.909,103.894,103.876,103.861 ,103.842,103.83,103.814,103.802,103.79, 103.774,103.765,103.757,103.749,103.74, 103.732,103.719,103.71,103.701,103.693, 103.684,103.67,103.661,103.652,104.122, 104.359,104.595,104.95,105.186,105.423, 105.659,105.896,106.133,106.37,106.607, 106.845,107.083,107.322,107.62,107.918, 108.337,108.577,108.817,109.057,109.298 ,109.539,109.802,109.769,109.737, 109.705,109.658,109.627,109.596,109.566 ,109.522,109.493,109.45,109.421,109.366 ,109.312,109.272,109.208,109.158, 109.109,109.073,109.014,108.958,108.913 ,108.87,108.807,108.777,108.727,108.688 ,108.65,108.612,108.576,108.493)
ORBIT_NUMBER = 8253
ORBITAL_ECCENTRICITY = 0.579
ORBITAL_INCLINATION = 86.82
ORBITAL_SEMIMAJOR_AXIS = 8861.18
PERIAPSIS_ALTITUDE = 332.5
PERIAPSIS_ARGUMENT_ANGLE = 351.95
PERIAPSIS_TIME = 2010-06-13T10:10:11.000Z
SPACECRAFT_ORIENTATION = (0.0,1.0,0.0)
^MEX_ORIENTATION_DESC = "MEX_ORIENTATION_DESC.TXT"
SPACECRAFT_POINTING_MODE = ACROSSTRACK
^MEX_POINTING_DESC = "MEX_POINTING_DESC.TXT"
RIGHT_ASCENSION = -1e+32
DECLINATION = -1e+32
OFFSET_ANGLE = -0.687
SPACECRAFT_SOLAR_DISTANCE = 2.45185e+08
TARGET_NAME = MARS
/* CAMERA DATA ELEMENTS */
DETECTOR_TEMPERATURE = 18.5744
FOCAL_PLANE_TEMPERATURE = 7.9716
INST_CMPRS_NAME = "DISCRETE COSINE TRANSFORMATION (DCT)"
INST_CMPRS_RATIO = 15.4057
INST_CMPRS_QUALITY = 0
INST_CMPRS_QUANTZ_TBL_ID = 0
INSTRUMENT_TEMPERATURE = 11.0301
LENS_TEMPERATURE = 8.3794
MACROPIXEL_SIZE = 2
MISSING_FRAMES = 0
PIXEL_SUBSAMPLING_FLAG = N
SIGNAL_CHAIN_ID = 1
/* RADIOMETRIC DATA ELEMENTS */
BANDWIDTH = 178.0
CENTER_FILTER_WAVELENGTH = 679.0
RADIANCE_OFFSET = 1.55787
RADIANCE_SCALING_FACTOR = 0.00501276
REFLECTANCE_SCALING_FACTOR = 0.000159585
MEX:REFLECTANCE_OFFSET = 0.0495959
/* IMAGE OBJECT DEFINITIONS */
OBJECT = IMAGE
  INTERCHANGE_FORMAT = BINARY
  LINES = 4189
  LINE_SAMPLES = 2529
  SAMPLE_TYPE = UNSIGNED_INTEGER
  SAMPLE_BITS = 8
  BANDS = 1
  BAND_STORAGE_TYPE = BAND_SEQUENTIAL
  MAXIMUM = 255
  MEAN = 115.719
  MINIMUM = 3
  STANDARD_DEVIATION = 32.6926
END_OBJECT = IMAGE
/* MAP OBJECT DEFINITIONS */
OBJECT = IMAGE_MAP_PROJECTION
  ^DATA_SET_MAP_PROJECTION_CATALOG= "DSMAP.CAT"
  A_AXIS_RADIUS = 3396.0
  B_AXIS_RADIUS = 3396.0
  C_AXIS_RADIUS = 3396.0
  CENTER_LATITUDE = 0.0
  CENTER_LONGITUDE = 106.0
  COORDINATE_SYSTEM_NAME = PLANETOGRAPHIC
  COORDINATE_SYSTEM_TYPE = "BODY-FIXED ROTATING"
  EASTERNMOST_LONGITUDE = 109.802
  FIRST_STANDARD_PARALLEL = "N/A"
  LINE_FIRST_PIXEL = 1
  LINE_LAST_PIXEL = 4189
  LINE_PROJECTION_OFFSET = 31371.75
  MAP_PROJECTION_ROTATION = 0.0
  MAP_PROJECTION_TYPE = SINUSOIDAL
  MAP_RESOLUTION = 592.713803866667
  MAP_SCALE = 0.1
  MAXIMUM_LATITUDE = 52.9139
  MINIMUM_LATITUDE = 45.8486
  POSITIVE_LONGITUDE_DIRECTION = EAST
  REFERENCE_LATITUDE = "N/A"
  REFERENCE_LONGITUDE = "N/A"
  SAMPLE_FIRST_PIXEL = 1
  SAMPLE_LAST_PIXEL = 2529
  SAMPLE_PROJECTION_OFFSET = 994.25
  SECOND_STANDARD_PARALLEL = "N/A"
  WESTERNMOST_LONGITUDE = 103.652
END_OBJECT = IMAGE_MAP_PROJECTION
/* The JPEG2000 image data file associated with this label. */
OBJECT = COMPRESSED_FILE
  FILE_NAME = "H8253_0000_S23.JP2"
  RECORD_TYPE = UNDEFINED
  FILE_RECORDS = UNK
  ENCODING_TYPE = "JP2"
  INTERCHANGE_FORMAT = BINARY
  UNCOMPRESSED_FILE_NAME = "H8253_0000_S23.IMG"
  REQUIRED_STORAGE_BYTES = "10614213"
  ^DESCRIPTION = "JP2INFO.TXT"
END_OBJECT = COMPRESSED_FILE
END
