PDS_VERSION_ID = PDS3
/* FILE DATA ELEMENTS */
RECORD_TYPE = STREAM
/* POINTERS TO DATA OBJECTS */
^COMPRESSED_FILE = "H8259_0000_P23.JP2"
/* IDENTIFICATION DATA ELEMENTS */
DATA_SET_ID = "MEX-M-HRSC-5-REFDR-MAPPROJECTED-V3.0"
DATA_SET_NAME = "MARS EXPRESS HRSC MAP PROJECTED REFDR V3.0"
DETECTOR_ID = MEX_HRSC_P2
EVENT_TYPE = "MARS-REGIONAL-MAPPING-Vo-Im-Pf"
INSTRUMENT_HOST_ID = MEX
INSTRUMENT_HOST_NAME = "MARS EXPRESS"
INSTRUMENT_ID = HRSC
INSTRUMENT_NAME = "HIGH RESOLUTION STEREO CAMERA"
MISSION_NAME = "MARS EXPRESS"
MISSION_PHASE_NAME = ME_Phase_20
PROCESSING_LEVEL_ID = 3
PRODUCT_CREATION_TIME = 2016-10-25T11:55:47.000Z
PRODUCT_ID = "H8259_0000_P23.JP2"
RELEASE_ID = 0090
REVISION_ID = 0000
/* QUALITY DATA ELEMENTS */
DATA_QUALITY_ID = 1
DATA_QUALITY_DESC = "Data calculated based on original SPICE kernels"
/* TIME DATA ELEMENTS */
SPACECRAFT_CLOCK_START_COUNT = "1/0224655654.09137"
SPACECRAFT_CLOCK_STOP_COUNT = "1/0224656374.03369"
START_TIME = 2010-06-15T04:21:27.887Z
STOP_TIME = 2010-06-15T04:25:58.738Z
/* ORBITAL DATA ELEMENTS */
ASCENDING_NODE_LONGITUDE = 59.59
MAXIMUM_RESOLUTION = 72.4
FOOTPRINT_POINT_LATITUDE = (42.9409,42.9527,42.9583,42.9654, 42.9686,42.9713,42.9725,43.1538,43.6376 ,44.1262,44.6205,44.9947,45.4976, 46.0066,46.5214,47.0417,47.568,47.8334, 48.1001,48.3682,48.638,48.9095,49.1826, 49.4572,49.7332,50.0109,50.2902,50.571, 50.8538,51.1381,51.4238,51.7116,52.0011 ,52.2922,52.5849,52.8796,53.1758, 53.4741,53.774,54.0761,54.3794,54.6855, 54.9927,55.3019,55.7704,56.2424,56.5595 ,56.8786,57.0106,57.01,57.0055,56.9997, 56.9864,56.9757,56.9568,56.9331,56.9074 ,56.884,56.8484,56.5333,56.2196,55.9085 ,55.5988,55.2904,54.9835,54.679,54.3769 ,54.0761,53.7777,53.4814,53.1861, 52.8924,52.6003,52.3099,52.0214,51.734, 51.4483,51.1645,50.8822,50.6014,50.3225 ,50.0449,49.7691,49.4947,49.2218, 48.9503,48.6806,48.4121,48.1451,47.8795 ,47.353,46.8321,46.3167,45.8074,45.3031 ,44.8037,44.3106,43.8219,43.3383, 42.9409)
FOOTPRINT_POINT_LONGITUDE = (213.585,212.901,212.499,211.857, 211.456,210.934,210.291,209.385,209.351 ,209.316,209.28,209.253,209.215,209.176 ,209.136,209.095,209.053,209.031, 209.009,208.987,208.964,208.941,208.917 ,208.893,208.869,208.844,208.819, 208.794,208.768,208.741,208.714,208.687 ,208.659,208.631,208.602,208.572, 208.542,208.512,208.48,208.448,208.416, 208.383,208.349,208.315,208.261,208.207 ,208.17,208.132,208.657,209.587,210.284 ,210.824,211.75,212.29,213.06,213.907, 214.677,215.293,216.091,216.003,215.917 ,215.834,215.753,215.674,215.597, 215.523,215.451,215.381,215.314,215.249 ,215.185,215.122,215.061,215.002, 214.945,214.889,214.834,214.781,214.729 ,214.678,214.629,214.581,214.535, 214.489,214.444,214.401,214.358,214.317 ,214.277,214.237,214.161,214.088, 214.019,213.953,213.889,213.828,213.771 ,213.715,213.662,213.585)
ORBIT_NUMBER = 8259
ORBITAL_ECCENTRICITY = 0.579
ORBITAL_INCLINATION = 86.84
ORBITAL_SEMIMAJOR_AXIS = 8855.76
PERIAPSIS_ALTITUDE = 332.4
PERIAPSIS_ARGUMENT_ANGLE = 350.91
PERIAPSIS_TIME = 2010-06-15T04:07:52.000Z
SPACECRAFT_ORIENTATION = (0.0,1.0,0.0)
^MEX_ORIENTATION_DESC = "MEX_ORIENTATION_DESC.TXT"
SPACECRAFT_POINTING_MODE = NADIR
^MEX_POINTING_DESC = "MEX_POINTING_DESC.TXT"
RIGHT_ASCENSION = -1e+32
DECLINATION = -1e+32
OFFSET_ANGLE = -1e+32
SPACECRAFT_SOLAR_DISTANCE = 2.44998e+08
TARGET_NAME = MARS
/* CAMERA DATA ELEMENTS */
DETECTOR_TEMPERATURE = 18.3705
FOCAL_PLANE_TEMPERATURE = 7.7677
INST_CMPRS_NAME = "DISCRETE COSINE TRANSFORMATION (DCT)"
INST_CMPRS_RATIO = 7.32373
INST_CMPRS_QUALITY = 0
INST_CMPRS_QUANTZ_TBL_ID = 0
INSTRUMENT_TEMPERATURE = 10.8262
LENS_TEMPERATURE = 8.3794
MACROPIXEL_SIZE = 2
MISSING_FRAMES = 0
PIXEL_SUBSAMPLING_FLAG = N
SIGNAL_CHAIN_ID = 3
/* RADIOMETRIC DATA ELEMENTS */
BANDWIDTH = 177.0
CENTER_FILTER_WAVELENGTH = 676.5
RADIANCE_OFFSET = 1.48799
RADIANCE_SCALING_FACTOR = 0.0138101
REFLECTANCE_SCALING_FACTOR = 0.000439516
MEX:REFLECTANCE_OFFSET = 0.0473563
/* IMAGE OBJECT DEFINITIONS */
OBJECT = IMAGE
  INTERCHANGE_FORMAT = BINARY
  LINES = 8321
  LINE_SAMPLES = 2881
  SAMPLE_TYPE = UNSIGNED_INTEGER
  SAMPLE_BITS = 8
  BANDS = 1
  BAND_STORAGE_TYPE = BAND_SEQUENTIAL
  MAXIMUM = 255
  MEAN = 97.9337
  MINIMUM = 1
  STANDARD_DEVIATION = 18.794
END_OBJECT = IMAGE
/* MAP OBJECT DEFINITIONS */
OBJECT = IMAGE_MAP_PROJECTION
  ^DATA_SET_MAP_PROJECTION_CATALOG= "DSMAP.CAT"
  A_AXIS_RADIUS = 3396.0
  B_AXIS_RADIUS = 3396.0
  C_AXIS_RADIUS = 3396.0
  CENTER_LATITUDE = 0.0
  CENTER_LONGITUDE = 212.0
  COORDINATE_SYSTEM_NAME = PLANETOGRAPHIC
  COORDINATE_SYSTEM_TYPE = "BODY-FIXED ROTATING"
  EASTERNMOST_LONGITUDE = 216.091
  FIRST_STANDARD_PARALLEL = "N/A"
  LINE_FIRST_PIXEL = 1
  LINE_LAST_PIXEL = 8321
  LINE_PROJECTION_OFFSET = 33794.25
  MAP_PROJECTION_ROTATION = 0.0
  MAP_PROJECTION_TYPE = SINUSOIDAL
  MAP_RESOLUTION = 592.713803866667
  MAP_SCALE = 0.1
  MAXIMUM_LATITUDE = 57.0106
  MINIMUM_LATITUDE = 42.9409
  POSITIVE_LONGITUDE_DIRECTION = EAST
  REFERENCE_LATITUDE = "N/A"
  REFERENCE_LONGITUDE = "N/A"
  SAMPLE_FIRST_PIXEL = 1
  SAMPLE_LAST_PIXEL = 2881
  SAMPLE_PROJECTION_OFFSET = 1397.25
  SECOND_STANDARD_PARALLEL = "N/A"
  WESTERNMOST_LONGITUDE = 208.132
END_OBJECT = IMAGE_MAP_PROJECTION
/* The JPEG2000 image data file associated with this label. */
OBJECT = COMPRESSED_FILE
  FILE_NAME = "H8259_0000_P23.JP2"
  RECORD_TYPE = UNDEFINED
  FILE_RECORDS = UNK
  ENCODING_TYPE = "JP2"
  INTERCHANGE_FORMAT = BINARY
  UNCOMPRESSED_FILE_NAME = "H8259_0000_P23.IMG"
  REQUIRED_STORAGE_BYTES = "23995849"
  ^DESCRIPTION = "JP2INFO.TXT"
END_OBJECT = COMPRESSED_FILE
END
