PDS_VERSION_ID = PDS3
/* FILE DATA ELEMENTS */
RECORD_TYPE = STREAM
/* POINTERS TO DATA OBJECTS */
^COMPRESSED_FILE = "H8272_0000_IR3.JP2"
/* IDENTIFICATION DATA ELEMENTS */
DATA_SET_ID = "MEX-M-HRSC-5-REFDR-MAPPROJECTED-V3.0"
DATA_SET_NAME = "MARS EXPRESS HRSC MAP PROJECTED REFDR V3.0"
DETECTOR_ID = MEX_HRSC_IR
EVENT_TYPE = "MARS-REGIONAL-MAPPING-Fl-Eo-Ot"
INSTRUMENT_HOST_ID = MEX
INSTRUMENT_HOST_NAME = "MARS EXPRESS"
INSTRUMENT_ID = HRSC
INSTRUMENT_NAME = "HIGH RESOLUTION STEREO CAMERA"
MISSION_NAME = "MARS EXPRESS"
MISSION_PHASE_NAME = ME_Phase_20
PROCESSING_LEVEL_ID = 3
PRODUCT_CREATION_TIME = 2016-10-25T11:55:47.000Z
PRODUCT_ID = "H8272_0000_IR3.JP2"
RELEASE_ID = 0090
REVISION_ID = 0000
/* QUALITY DATA ELEMENTS */
DATA_QUALITY_ID = 1
DATA_QUALITY_DESC = "Data calculated based on original SPICE kernels"
/* TIME DATA ELEMENTS */
SPACECRAFT_CLOCK_START_COUNT = "1/0224982868.08232"
SPACECRAFT_CLOCK_STOP_COUNT = "1/0224983604.63237"
START_TIME = 2010-06-18T23:17:27.646Z
STOP_TIME = 2010-06-18T23:25:39.575Z
/* ORBITAL DATA ELEMENTS */
ASCENDING_NODE_LONGITUDE = 59.34
MAXIMUM_RESOLUTION = 159.7
FOOTPRINT_POINT_LATITUDE = (35.9431,35.9616,35.9693,35.9703, 35.9675,36.1895,36.7879,37.3934,38.0067 ,38.6271,39.2554,39.8914,40.5347,41.186 ,41.515,41.8457,42.1783,42.5127,42.8493 ,43.1884,43.5292,43.8719,44.2168, 44.5641,44.9133,45.265,45.6185,45.9745, 46.3319,46.6916,47.0537,47.4184,47.7855 ,48.1539,48.5252,48.898,49.2737,49.6514 ,50.0318,50.4138,50.7988,51.3726, 51.7503,52.1243,52.4939,53.1579,53.1738 ,53.1822,53.1846,53.181,53.1717,53.1448 ,53.1167,53.0816,53.0492,53.0177, 52.9715,52.9188,52.6954,52.3412,51.9832 ,51.6207,51.2542,50.8834,50.5089, 49.9478,49.5755,49.2051,48.8368,48.47, 48.1053,47.7427,47.3819,47.0234,46.6669 ,46.3115,45.9586,45.6079,45.2588, 44.9115,44.5662,44.223,43.8815,43.5421, 43.205,42.8692,42.5355,42.2042,41.8745, 41.5467,40.8966,40.2533,39.6181,38.9901 ,38.3686,37.7552,37.1483,36.549,35.9561 ,35.9431)
FOOTPRINT_POINT_LONGITUDE = (323.298,322.386,321.626,321.133, 320.525,319.66,319.606,319.549,319.49, 319.429,319.364,319.298,319.228,319.154 ,319.116,319.078,319.038,318.997, 318.956,318.913,318.869,318.825,318.778 ,318.731,318.683,318.634,318.583, 318.531,318.477,318.422,318.365,318.307 ,318.247,318.185,318.122,318.057,317.99 ,317.92,317.849,317.775,317.7,317.583, 317.504,317.423,317.341,317.189,318.001 ,318.729,319.456,320.18,320.904,322.079 ,322.891,323.703,324.333,324.873, 325.591,326.31,326.823,326.715,326.609, 326.504,326.401,326.3,326.2,326.055, 325.963,325.874,325.787,325.704,325.623 ,325.544,325.468,325.394,325.322, 325.253,325.186,325.121,325.058,324.996 ,324.937,324.879,324.823,324.768, 324.716,324.664,324.614,324.566,324.518 ,324.473,324.385,324.301,324.223, 324.148,324.078,324.011,323.947,323.887 ,323.83,323.298)
ORBIT_NUMBER = 8272
ORBITAL_ECCENTRICITY = 0.579
ORBITAL_INCLINATION = 86.84
ORBITAL_SEMIMAJOR_AXIS = 8849.75
PERIAPSIS_ALTITUDE = 331.66
PERIAPSIS_ARGUMENT_ANGLE = 348.67
PERIAPSIS_TIME = 2010-06-18T23:02:48.000Z
SPACECRAFT_ORIENTATION = (0.0,1.0,0.0)
^MEX_ORIENTATION_DESC = "MEX_ORIENTATION_DESC.TXT"
SPACECRAFT_POINTING_MODE = NADIR
^MEX_POINTING_DESC = "MEX_POINTING_DESC.TXT"
RIGHT_ASCENSION = -1e+32
DECLINATION = -1e+32
OFFSET_ANGLE = -1e+32
SPACECRAFT_SOLAR_DISTANCE = 2.44579e+08
TARGET_NAME = MARS
/* CAMERA DATA ELEMENTS */
DETECTOR_TEMPERATURE = 17.1471
FOCAL_PLANE_TEMPERATURE = 7.5638
INST_CMPRS_NAME = "DISCRETE COSINE TRANSFORMATION (DCT)"
INST_CMPRS_RATIO = 12.7704
INST_CMPRS_QUALITY = 0
INST_CMPRS_QUANTZ_TBL_ID = 0
INSTRUMENT_TEMPERATURE = 9.195
LENS_TEMPERATURE = 7.9716
MACROPIXEL_SIZE = 4
MISSING_FRAMES = 0
PIXEL_SUBSAMPLING_FLAG = N
SIGNAL_CHAIN_ID = 2
/* RADIOMETRIC DATA ELEMENTS */
BANDWIDTH = 81.0
CENTER_FILTER_WAVELENGTH = 955.5
RADIANCE_OFFSET = 0.170459
RADIANCE_SCALING_FACTOR = 0.00255008
REFLECTANCE_SCALING_FACTOR = 0.000329092
MEX:REFLECTANCE_OFFSET = 0.021998
/* IMAGE OBJECT DEFINITIONS */
OBJECT = IMAGE
  INTERCHANGE_FORMAT = BINARY
  LINES = 10244
  LINE_SAMPLES = 2780
  SAMPLE_TYPE = UNSIGNED_INTEGER
  SAMPLE_BITS = 8
  BANDS = 1
  BAND_STORAGE_TYPE = BAND_SEQUENTIAL
  MAXIMUM = 255
  MEAN = 69.2291
  MINIMUM = 1
  STANDARD_DEVIATION = 19.2006
END_OBJECT = IMAGE
/* MAP OBJECT DEFINITIONS */
OBJECT = IMAGE_MAP_PROJECTION
  ^DATA_SET_MAP_PROJECTION_CATALOG= "DSMAP.CAT"
  A_AXIS_RADIUS = 3396.0
  B_AXIS_RADIUS = 3396.0
  C_AXIS_RADIUS = 3396.0
  CENTER_LATITUDE = 0.0
  CENTER_LONGITUDE = 322.0
  COORDINATE_SYSTEM_NAME = PLANETOGRAPHIC
  COORDINATE_SYSTEM_TYPE = "BODY-FIXED ROTATING"
  EASTERNMOST_LONGITUDE = 326.823
  FIRST_STANDARD_PARALLEL = "N/A"
  LINE_FIRST_PIXEL = 1
  LINE_LAST_PIXEL = 10244
  LINE_PROJECTION_OFFSET = 31518.875
  MAP_PROJECTION_ROTATION = 0.0
  MAP_PROJECTION_TYPE = SINUSOIDAL
  MAP_RESOLUTION = 592.713803866667
  MAP_SCALE = 0.1
  MAXIMUM_LATITUDE = 53.1846
  MINIMUM_LATITUDE = 35.9431
  POSITIVE_LONGITUDE_DIRECTION = EAST
  REFERENCE_LATITUDE = "N/A"
  REFERENCE_LONGITUDE = "N/A"
  SAMPLE_FIRST_PIXEL = 1
  SAMPLE_LAST_PIXEL = 2780
  SAMPLE_PROJECTION_OFFSET = 1333.125
  SECOND_STANDARD_PARALLEL = "N/A"
  WESTERNMOST_LONGITUDE = 317.189
END_OBJECT = IMAGE_MAP_PROJECTION
/* The JPEG2000 image data file associated with this label. */
OBJECT = COMPRESSED_FILE
  FILE_NAME = "H8272_0000_IR3.JP2"
  RECORD_TYPE = UNDEFINED
  FILE_RECORDS = UNK
  ENCODING_TYPE = "JP2"
  INTERCHANGE_FORMAT = BINARY
  UNCOMPRESSED_FILE_NAME = "H8272_0000_IR3.IMG"
  REQUIRED_STORAGE_BYTES = "28500560"
  ^DESCRIPTION = "JP2INFO.TXT"
END_OBJECT = COMPRESSED_FILE
END
