PDS_VERSION_ID = PDS3
/* FILE DATA ELEMENTS */
RECORD_TYPE = STREAM
/* POINTERS TO DATA OBJECTS */
^COMPRESSED_FILE = "H8298_0000_GR3.JP2"
/* IDENTIFICATION DATA ELEMENTS */
DATA_SET_ID = "MEX-M-HRSC-5-REFDR-MAPPROJECTED-V3.0"
DATA_SET_NAME = "MARS EXPRESS HRSC MAP PROJECTED REFDR V3.0"
DETECTOR_ID = MEX_HRSC_GREEN
EVENT_TYPE = "MARS-REGIONAL-MAPPING-Gl-Pf"
INSTRUMENT_HOST_ID = MEX
INSTRUMENT_HOST_NAME = "MARS EXPRESS"
INSTRUMENT_ID = HRSC
INSTRUMENT_NAME = "HIGH RESOLUTION STEREO CAMERA"
MISSION_NAME = "MARS EXPRESS"
MISSION_PHASE_NAME = ME_Phase_20
PROCESSING_LEVEL_ID = 3
PRODUCT_CREATION_TIME = 2016-10-25T11:55:47.000Z
PRODUCT_ID = "H8298_0000_GR3.JP2"
RELEASE_ID = 0090
REVISION_ID = 0000
/* QUALITY DATA ELEMENTS */
DATA_QUALITY_ID = 1
DATA_QUALITY_DESC = "Data calculated based on original SPICE kernels"
/* TIME DATA ELEMENTS */
SPACECRAFT_CLOCK_START_COUNT = "1/0225637502.09050"
SPACECRAFT_CLOCK_STOP_COUNT = "1/0225638268.41796"
START_TIME = 2010-06-26T13:06:50.352Z
STOP_TIME = 2010-06-26T13:13:29.110Z
/* ORBITAL DATA ELEMENTS */
ASCENDING_NODE_LONGITUDE = 58.83
MAXIMUM_RESOLUTION = 142.3
FOOTPRINT_POINT_LATITUDE = (32.891,32.9028,32.912,32.9184,32.9223, 32.9236,33.297,33.8693,34.2486,34.6262, 35.0021,35.3761,35.7483,36.1188,36.4875 ,36.8545,37.2197,37.5831,37.9449, 38.3049,38.6632,39.0197,39.3745,39.7276 ,40.079,40.4287,40.7767,41.1229,41.4675 ,41.8104,42.1517,42.4912,42.8291, 43.1654,43.4999,43.8328,44.164,44.4937, 45.1481,45.7961,46.4377,47.0729,47.7019 ,48.3246,48.9412,49.5517,50.1089, 50.1061,50.0973,50.0873,50.0743,50.0581 ,50.039,50.0074,49.9808,49.9471,49.9137 ,49.877,49.5543,48.9594,48.3578,47.7496 ,47.1348,46.5131,45.8847,45.2495, 44.6074,43.9584,43.6313,43.3025,42.9719 ,42.6395,42.3054,41.9696,41.6319, 41.2925,40.9514,40.6084,40.2637,39.9172 ,39.5689,39.2188,38.8669,38.5132, 38.1577,37.8003,37.4412,37.0803,36.718, 36.3533,35.9866,35.6182,35.2482,34.8762 ,34.5024,34.1269,33.7494,33.3702, 32.9891,32.891)
FOOTPRINT_POINT_LONGITUDE = (184.789,184.237,183.688,183.143, 182.601,182.094,181.82,181.785,181.762, 181.738,181.714,181.69,181.666,181.641, 181.617,181.592,181.567,181.542,181.516 ,181.491,181.465,181.439,181.413, 181.386,181.359,181.333,181.305,181.278 ,181.251,181.223,181.195,181.166, 181.138,181.109,181.08,181.051,181.021, 180.992,180.932,180.87,180.808,180.745, 180.681,180.615,180.548,180.481,180.417 ,181.491,182.283,182.859,183.436, 184.014,184.592,185.39,185.972,186.627, 187.21,187.796,188.112,187.965,187.822, 187.684,187.549,187.419,187.294,187.172 ,187.053,186.939,186.883,186.828, 186.774,186.72,186.668,186.617,186.566, 186.516,186.467,186.419,186.371,186.325 ,186.279,186.234,186.189,186.146, 186.103,186.061,186.019,185.979,185.937 ,185.898,185.86,185.823,185.786,185.75, 185.714,185.679,185.644,185.61,185.577, 184.789)
ORBIT_NUMBER = 8298
ORBITAL_ECCENTRICITY = 0.579
ORBITAL_INCLINATION = 86.83
ORBITAL_SEMIMAJOR_AXIS = 8846.69
PERIAPSIS_ALTITUDE = 330.06
PERIAPSIS_ARGUMENT_ANGLE = 344.16
PERIAPSIS_TIME = 2010-06-26T12:52:58.000Z
SPACECRAFT_ORIENTATION = (0.0,1.0,0.0)
^MEX_ORIENTATION_DESC = "MEX_ORIENTATION_DESC.TXT"
SPACECRAFT_POINTING_MODE = ACROSSTRACK
^MEX_POINTING_DESC = "MEX_POINTING_DESC.TXT"
RIGHT_ASCENSION = -1e+32
DECLINATION = -1e+32
OFFSET_ANGLE = -1.078
SPACECRAFT_SOLAR_DISTANCE = 2.43687e+08
TARGET_NAME = MARS
/* CAMERA DATA ELEMENTS */
DETECTOR_TEMPERATURE = 18.1666
FOCAL_PLANE_TEMPERATURE = 8.1755
INST_CMPRS_NAME = "DISCRETE COSINE TRANSFORMATION (DCT)"
INST_CMPRS_RATIO = 16.2122
INST_CMPRS_QUALITY = 0
INST_CMPRS_QUANTZ_TBL_ID = 0
INSTRUMENT_TEMPERATURE = 11.0301
LENS_TEMPERATURE = 8.5833
MACROPIXEL_SIZE = 4
MISSING_FRAMES = 0
PIXEL_SUBSAMPLING_FLAG = N
SIGNAL_CHAIN_ID = 2
/* RADIOMETRIC DATA ELEMENTS */
BANDWIDTH = 88.0
CENTER_FILTER_WAVELENGTH = 538.0
RADIANCE_OFFSET = 0.527072
RADIANCE_SCALING_FACTOR = 0.0035194
REFLECTANCE_SCALING_FACTOR = 0.000179936
MEX:REFLECTANCE_OFFSET = 0.0269476
/* IMAGE OBJECT DEFINITIONS */
OBJECT = IMAGE
  INTERCHANGE_FORMAT = BINARY
  LINES = 10210
  LINE_SAMPLES = 2866
  SAMPLE_TYPE = UNSIGNED_INTEGER
  SAMPLE_BITS = 8
  BANDS = 1
  BAND_STORAGE_TYPE = BAND_SEQUENTIAL
  MAXIMUM = 255
  MEAN = 112.182
  MINIMUM = 1
  STANDARD_DEVIATION = 25.192
END_OBJECT = IMAGE
/* MAP OBJECT DEFINITIONS */
OBJECT = IMAGE_MAP_PROJECTION
  ^DATA_SET_MAP_PROJECTION_CATALOG= "DSMAP.CAT"
  A_AXIS_RADIUS = 3396.0
  B_AXIS_RADIUS = 3396.0
  C_AXIS_RADIUS = 3396.0
  CENTER_LATITUDE = 0.0
  CENTER_LONGITUDE = 184.0
  COORDINATE_SYSTEM_NAME = PLANETOGRAPHIC
  COORDINATE_SYSTEM_TYPE = "BODY-FIXED ROTATING"
  EASTERNMOST_LONGITUDE = 188.112
  FIRST_STANDARD_PARALLEL = "N/A"
  LINE_FIRST_PIXEL = 1
  LINE_LAST_PIXEL = 10210
  LINE_PROJECTION_OFFSET = 29697.125
  MAP_PROJECTION_ROTATION = 0.0
  MAP_PROJECTION_TYPE = SINUSOIDAL
  MAP_RESOLUTION = 592.713803866667
  MAP_SCALE = 0.1
  MAXIMUM_LATITUDE = 50.1089
  MINIMUM_LATITUDE = 32.891
  POSITIVE_LONGITUDE_DIRECTION = EAST
  REFERENCE_LATITUDE = "N/A"
  REFERENCE_LONGITUDE = "N/A"
  SAMPLE_FIRST_PIXEL = 1
  SAMPLE_LAST_PIXEL = 2866
  SAMPLE_PROJECTION_OFFSET = 1326.875
  SECOND_STANDARD_PARALLEL = "N/A"
  WESTERNMOST_LONGITUDE = 180.417
END_OBJECT = IMAGE_MAP_PROJECTION
/* The JPEG2000 image data file associated with this label. */
OBJECT = COMPRESSED_FILE
  FILE_NAME = "H8298_0000_GR3.JP2"
  RECORD_TYPE = UNDEFINED
  FILE_RECORDS = UNK
  ENCODING_TYPE = "JP2"
  INTERCHANGE_FORMAT = BINARY
  UNCOMPRESSED_FILE_NAME = "H8298_0000_GR3.IMG"
  REQUIRED_STORAGE_BYTES = "29284788"
  ^DESCRIPTION = "JP2INFO.TXT"
END_OBJECT = COMPRESSED_FILE
END
