PDS_VERSION_ID = PDS3
/* FILE DATA ELEMENTS */
RECORD_TYPE = STREAM
/* POINTERS TO DATA OBJECTS */
^COMPRESSED_FILE = "H8298_0000_ND3.JP2"
/* IDENTIFICATION DATA ELEMENTS */
DATA_SET_ID = "MEX-M-HRSC-5-REFDR-MAPPROJECTED-V3.0"
DATA_SET_NAME = "MARS EXPRESS HRSC MAP PROJECTED REFDR V3.0"
DETECTOR_ID = MEX_HRSC_NADIR
EVENT_TYPE = "MARS-REGIONAL-MAPPING-Gl-Pf"
INSTRUMENT_HOST_ID = MEX
INSTRUMENT_HOST_NAME = "MARS EXPRESS"
INSTRUMENT_ID = HRSC
INSTRUMENT_NAME = "HIGH RESOLUTION STEREO CAMERA"
MISSION_NAME = "MARS EXPRESS"
MISSION_PHASE_NAME = ME_Phase_20
PROCESSING_LEVEL_ID = 3
PRODUCT_CREATION_TIME = 2016-10-25T11:55:47.000Z
PRODUCT_ID = "H8298_0000_ND3.JP2"
RELEASE_ID = 0090
REVISION_ID = 0000
/* QUALITY DATA ELEMENTS */
DATA_QUALITY_ID = 1
DATA_QUALITY_DESC = "Data calculated based on original SPICE kernels"
/* TIME DATA ELEMENTS */
SPACECRAFT_CLOCK_START_COUNT = "1/0225637502.09050"
SPACECRAFT_CLOCK_STOP_COUNT = "1/0225638268.41796"
START_TIME = 2010-06-26T13:06:32.836Z
STOP_TIME = 2010-06-26T13:12:53.822Z
/* ORBITAL DATA ELEMENTS */
ASCENDING_NODE_LONGITUDE = 58.83
MAXIMUM_RESOLUTION = 34.7
FOOTPRINT_POINT_LATITUDE = (32.8948,32.9026,32.9079,32.9105, 32.9106,32.9101,33.2799,33.6527,34.0286 ,34.4054,34.7806,35.1542,35.5263, 35.8967,36.2656,36.6329,36.9985,37.3627 ,37.7252,38.0862,38.4456,38.8034, 39.1597,39.5144,39.8675,40.2191,40.5692 ,40.9177,41.2647,41.6101,41.954,42.2964 ,42.6373,42.9766,43.3145,43.6508, 43.9856,44.319,44.6508,45.31,45.9633, 46.6108,47.2525,47.8883,48.5185,49.143, 49.7619,50.1068,50.1063,50.1028,50.0908 ,50.0795,50.0652,50.0477,50.0189, 49.9907,49.9625,49.9311,49.8938,49.29, 48.6802,48.0642,47.4421,46.8137,46.1792 ,45.5384,44.8913,44.2379,43.5781, 43.2459,42.912,42.5765,42.2395,41.9008, 41.5605,41.2186,40.8751,40.5299,40.1832 ,39.8348,39.4848,39.1332,38.7799,38.425 ,38.0684,37.7103,37.3504,36.989,36.6259 ,36.2611,35.8947,35.5267,35.157,34.7857 ,34.4127,34.038,33.6637,33.2924,32.9241 ,32.8948)
FOOTPRINT_POINT_LONGITUDE = (184.683,184.11,183.541,182.976,182.415 ,181.867,181.845,181.824,181.801, 181.779,181.756,181.733,181.71,181.687, 181.664,181.64,181.616,181.592,181.568, 181.544,181.519,181.494,181.469,181.444 ,181.419,181.393,181.368,181.342, 181.315,181.289,181.262,181.236,181.209 ,181.181,181.154,181.126,181.098,181.07 ,181.042,180.984,180.926,180.866, 180.806,180.745,180.682,180.619,180.554 ,180.811,181.4,181.991,182.95,183.542, 184.134,184.728,185.547,186.218,186.816 ,187.417,188.056,187.909,187.767, 187.629,187.496,187.367,187.243,187.122 ,187.005,186.892,186.783,186.729, 186.677,186.625,186.575,186.525,186.476 ,186.428,186.381,186.334,186.288, 186.243,186.199,186.156,186.113,186.071 ,186.03,185.989,185.949,185.911,185.871 ,185.833,185.798,185.761,185.725, 185.691,185.656,185.623,185.59,185.558, 185.527,184.683)
ORBIT_NUMBER = 8298
ORBITAL_ECCENTRICITY = 0.579
ORBITAL_INCLINATION = 86.83
ORBITAL_SEMIMAJOR_AXIS = 8846.69
PERIAPSIS_ALTITUDE = 330.06
PERIAPSIS_ARGUMENT_ANGLE = 344.16
PERIAPSIS_TIME = 2010-06-26T12:52:58.000Z
SPACECRAFT_ORIENTATION = (0.0,1.0,0.0)
^MEX_ORIENTATION_DESC = "MEX_ORIENTATION_DESC.TXT"
SPACECRAFT_POINTING_MODE = ACROSSTRACK
^MEX_POINTING_DESC = "MEX_POINTING_DESC.TXT"
RIGHT_ASCENSION = -1e+32
DECLINATION = -1e+32
OFFSET_ANGLE = -1.078
SPACECRAFT_SOLAR_DISTANCE = 2.43687e+08
TARGET_NAME = MARS
/* CAMERA DATA ELEMENTS */
DETECTOR_TEMPERATURE = 18.1666
FOCAL_PLANE_TEMPERATURE = 8.1755
INST_CMPRS_NAME = "DISCRETE COSINE TRANSFORMATION (DCT)"
INST_CMPRS_RATIO = 6.7785
INST_CMPRS_QUALITY = 0
INST_CMPRS_QUANTZ_TBL_ID = 0
INSTRUMENT_TEMPERATURE = 11.0301
LENS_TEMPERATURE = 8.5833
MACROPIXEL_SIZE = 1
MISSING_FRAMES = 0
PIXEL_SUBSAMPLING_FLAG = N
SIGNAL_CHAIN_ID = 0
/* RADIOMETRIC DATA ELEMENTS */
BANDWIDTH = 177.0
CENTER_FILTER_WAVELENGTH = 677.5
RADIANCE_OFFSET = 1.34807
RADIANCE_SCALING_FACTOR = 0.0137059
REFLECTANCE_SCALING_FACTOR = 0.000432367
MEX:REFLECTANCE_OFFSET = 0.0425263
/* IMAGE OBJECT DEFINITIONS */
OBJECT = IMAGE
  INTERCHANGE_FORMAT = BINARY
  LINES = 40839
  LINE_SAMPLES = 11461
  SAMPLE_TYPE = UNSIGNED_INTEGER
  SAMPLE_BITS = 8
  BANDS = 1
  BAND_STORAGE_TYPE = BAND_SEQUENTIAL
  MAXIMUM = 255
  MEAN = 103.489
  MINIMUM = 1
  STANDARD_DEVIATION = 22.7782
END_OBJECT = IMAGE
/* MAP OBJECT DEFINITIONS */
OBJECT = IMAGE_MAP_PROJECTION
  ^DATA_SET_MAP_PROJECTION_CATALOG= "DSMAP.CAT"
  A_AXIS_RADIUS = 3396.0
  B_AXIS_RADIUS = 3396.0
  C_AXIS_RADIUS = 3396.0
  CENTER_LATITUDE = 0.0
  CENTER_LONGITUDE = 184.0
  COORDINATE_SYSTEM_NAME = PLANETOGRAPHIC
  COORDINATE_SYSTEM_TYPE = "BODY-FIXED ROTATING"
  EASTERNMOST_LONGITUDE = 188.056
  FIRST_STANDARD_PARALLEL = "N/A"
  LINE_FIRST_PIXEL = 1
  LINE_LAST_PIXEL = 40839
  LINE_PROJECTION_OFFSET = 118790.0
  MAP_PROJECTION_ROTATION = 0.0
  MAP_PROJECTION_TYPE = SINUSOIDAL
  MAP_RESOLUTION = 2370.85521546667
  MAP_SCALE = 0.025
  MAXIMUM_LATITUDE = 50.1068
  MINIMUM_LATITUDE = 32.8948
  POSITIVE_LONGITUDE_DIRECTION = EAST
  REFERENCE_LATITUDE = "N/A"
  REFERENCE_LONGITUDE = "N/A"
  SAMPLE_FIRST_PIXEL = 1
  SAMPLE_LAST_PIXEL = 11461
  SAMPLE_PROJECTION_OFFSET = 5309.0
  SECOND_STANDARD_PARALLEL = "N/A"
  WESTERNMOST_LONGITUDE = 180.554
END_OBJECT = IMAGE_MAP_PROJECTION
/* The JPEG2000 image data file associated with this label. */
OBJECT = COMPRESSED_FILE
  FILE_NAME = "H8298_0000_ND3.JP2"
  RECORD_TYPE = UNDEFINED
  FILE_RECORDS = UNK
  ENCODING_TYPE = "JP2"
  INTERCHANGE_FORMAT = BINARY
  UNCOMPRESSED_FILE_NAME = "H8298_0000_ND3.IMG"
  REQUIRED_STORAGE_BYTES = "468090162"
  ^DESCRIPTION = "JP2INFO.TXT"
END_OBJECT = COMPRESSED_FILE
END
