PDS_VERSION_ID = PDS3
/* FILE DATA ELEMENTS */
RECORD_TYPE = STREAM
/* POINTERS TO DATA OBJECTS */
^COMPRESSED_FILE = "H8301_0000_P23.JP2"
/* IDENTIFICATION DATA ELEMENTS */
DATA_SET_ID = "MEX-M-HRSC-5-REFDR-MAPPROJECTED-V3.0"
DATA_SET_NAME = "MARS EXPRESS HRSC MAP PROJECTED REFDR V3.0"
DETECTOR_ID = MEX_HRSC_P2
EVENT_TYPE = "MARS-REGIONAL-MAPPING-Vo"
INSTRUMENT_HOST_ID = MEX
INSTRUMENT_HOST_NAME = "MARS EXPRESS"
INSTRUMENT_ID = HRSC
INSTRUMENT_NAME = "HIGH RESOLUTION STEREO CAMERA"
MISSION_NAME = "MARS EXPRESS"
MISSION_PHASE_NAME = ME_Phase_21
PROCESSING_LEVEL_ID = 3
PRODUCT_CREATION_TIME = 2016-10-25T11:55:47.000Z
PRODUCT_ID = "H8301_0000_P23.JP2"
RELEASE_ID = 0090
REVISION_ID = 0000
/* QUALITY DATA ELEMENTS */
DATA_QUALITY_ID = 1
DATA_QUALITY_DESC = "Data calculated based on original SPICE kernels"
/* TIME DATA ELEMENTS */
SPACECRAFT_CLOCK_START_COUNT = "1/0225712790.09128"
SPACECRAFT_CLOCK_STOP_COUNT = "1/0225713200.46876"
START_TIME = 2010-06-27T10:00:10.160Z
STOP_TIME = 2010-06-27T10:03:50.587Z
/* ORBITAL DATA ELEMENTS */
ASCENDING_NODE_LONGITUDE = 58.78
MAXIMUM_RESOLUTION = 90
FOOTPRINT_POINT_LATITUDE = (17.5783,17.5736,17.5701,17.5677, 17.6799,18.0417,18.526,19.1422,19.6402, 19.8924,20.2703,20.5262,20.9097,21.1693 ,21.4286,21.8222,22.0852,22.3515, 22.6181,23.0226,23.2926,23.5623,23.8315 ,24.1003,24.3686,24.6365,24.904,25.1712 ,25.4375,25.7033,25.9687,26.2337, 26.4979,26.7614,27.0248,27.2878,27.5505 ,27.8129,28.075,28.3363,28.5974,28.8579 ,29.118,29.3776,29.6365,29.8951,30.1531 ,30.4109,30.6792,30.6823,30.6848, 30.6869,30.6885,30.6888,30.687,30.4302, 30.1728,29.9149,29.6566,29.3977,29.1385 ,28.8788,28.6186,28.3578,28.0966,27.835 ,27.5729,27.3103,27.0473,26.7839,26.52, 26.2558,25.991,25.7259,25.46,25.1939, 24.9273,24.6602,24.3925,24.1246,23.8562 ,23.5873,23.318,23.0479,22.6435,22.3768 ,22.1104,21.8477,21.4544,21.1952, 20.9354,20.5519,20.296,20.0441,19.7919, 19.1689,18.6775,18.07,17.5887,17.5783)
FOOTPRINT_POINT_LONGITUDE = (236.36,235.838,235.465,235.205,234.655 ,234.64,234.621,234.594,234.572,234.561 ,234.545,234.533,234.516,234.505, 234.493,234.475,234.463,234.45,234.438, 234.418,234.405,234.392,234.379,234.366 ,234.353,234.339,234.326,234.312, 234.298,234.285,234.271,234.257,234.244 ,234.23,234.216,234.202,234.187,234.173 ,234.158,234.144,234.129,234.114, 234.099,234.084,234.069,234.054,234.039 ,234.023,234.237,234.585,235.019, 235.423,236.058,236.665,237.108,237.095 ,237.082,237.07,237.057,237.045,237.033 ,237.021,237.009,236.998,236.986, 236.975,236.964,236.953,236.942,236.932 ,236.922,236.911,236.902,236.892, 236.882,236.872,236.863,236.854,236.845 ,236.836,236.827,236.818,236.81,236.801 ,236.789,236.78,236.773,236.765,236.754 ,236.747,236.74,236.729,236.723,236.716 ,236.71,236.694,236.683,236.669,236.659 ,236.36)
ORBIT_NUMBER = 8301
ORBITAL_ECCENTRICITY = 0.58
ORBITAL_INCLINATION = 86.83
ORBITAL_SEMIMAJOR_AXIS = 8859.7
PERIAPSIS_ALTITUDE = 329.13
PERIAPSIS_ARGUMENT_ANGLE = 343.6
PERIAPSIS_TIME = 2010-06-27T09:51:46.000Z
SPACECRAFT_ORIENTATION = (0.0,1.0,0.0)
^MEX_ORIENTATION_DESC = "MEX_ORIENTATION_DESC.TXT"
SPACECRAFT_POINTING_MODE = NADIR
^MEX_POINTING_DESC = "MEX_POINTING_DESC.TXT"
RIGHT_ASCENSION = -1e+32
DECLINATION = -1e+32
OFFSET_ANGLE = -1e+32
SPACECRAFT_SOLAR_DISTANCE = 2.43579e+08
TARGET_NAME = MARS
/* CAMERA DATA ELEMENTS */
DETECTOR_TEMPERATURE = 18.5744
FOCAL_PLANE_TEMPERATURE = 8.1755
INST_CMPRS_NAME = "DISCRETE COSINE TRANSFORMATION (DCT)"
INST_CMPRS_RATIO = 7.8368
INST_CMPRS_QUALITY = 0
INST_CMPRS_QUANTZ_TBL_ID = 0
INSTRUMENT_TEMPERATURE = 11.234
LENS_TEMPERATURE = 8.5833
MACROPIXEL_SIZE = 4
MISSING_FRAMES = 0
PIXEL_SUBSAMPLING_FLAG = N
SIGNAL_CHAIN_ID = 3
/* RADIOMETRIC DATA ELEMENTS */
BANDWIDTH = 177.0
CENTER_FILTER_WAVELENGTH = 676.5
RADIANCE_OFFSET = 1.77481
RADIANCE_SCALING_FACTOR = 0.0158921
REFLECTANCE_SCALING_FACTOR = 0.000499939
MEX:REFLECTANCE_OFFSET = 0.0558326
/* IMAGE OBJECT DEFINITIONS */
OBJECT = IMAGE
  INTERCHANGE_FORMAT = BINARY
  LINES = 7790
  LINE_SAMPLES = 1744
  SAMPLE_TYPE = UNSIGNED_INTEGER
  SAMPLE_BITS = 8
  BANDS = 1
  BAND_STORAGE_TYPE = BAND_SEQUENTIAL
  MAXIMUM = 255
  MEAN = 80.1887
  MINIMUM = 1
  STANDARD_DEVIATION = 18.4093
END_OBJECT = IMAGE
/* MAP OBJECT DEFINITIONS */
OBJECT = IMAGE_MAP_PROJECTION
  ^DATA_SET_MAP_PROJECTION_CATALOG= "DSMAP.CAT"
  A_AXIS_RADIUS = 3396.0
  B_AXIS_RADIUS = 3396.0
  C_AXIS_RADIUS = 3396.0
  CENTER_LATITUDE = 0.0
  CENTER_LONGITUDE = 236.0
  COORDINATE_SYSTEM_NAME = PLANETOGRAPHIC
  COORDINATE_SYSTEM_TYPE = "BODY-FIXED ROTATING"
  EASTERNMOST_LONGITUDE = 237.108
  FIRST_STANDARD_PARALLEL = "N/A"
  LINE_FIRST_PIXEL = 1
  LINE_LAST_PIXEL = 7790
  LINE_PROJECTION_OFFSET = 18199.125
  MAP_PROJECTION_ROTATION = 0.0
  MAP_PROJECTION_TYPE = SINUSOIDAL
  MAP_RESOLUTION = 592.713803866667
  MAP_SCALE = 0.1
  MAXIMUM_LATITUDE = 30.6888
  MINIMUM_LATITUDE = 17.5677
  POSITIVE_LONGITUDE_DIRECTION = EAST
  REFERENCE_LATITUDE = "N/A"
  REFERENCE_LONGITUDE = "N/A"
  SAMPLE_FIRST_PIXEL = 1
  SAMPLE_LAST_PIXEL = 1744
  SAMPLE_PROJECTION_OFFSET = 1096.375
  SECOND_STANDARD_PARALLEL = "N/A"
  WESTERNMOST_LONGITUDE = 234.023
END_OBJECT = IMAGE_MAP_PROJECTION
/* The JPEG2000 image data file associated with this label. */
OBJECT = COMPRESSED_FILE
  FILE_NAME = "H8301_0000_P23.JP2"
  RECORD_TYPE = UNDEFINED
  FILE_RECORDS = UNK
  ENCODING_TYPE = "JP2"
  INTERCHANGE_FORMAT = BINARY
  UNCOMPRESSED_FILE_NAME = "H8301_0000_P23.IMG"
  REQUIRED_STORAGE_BYTES = "13604944"
  ^DESCRIPTION = "JP2INFO.TXT"
END_OBJECT = COMPRESSED_FILE
END
