PDS_VERSION_ID = PDS3
/* FILE DATA ELEMENTS */
RECORD_TYPE = STREAM
/* POINTERS TO DATA OBJECTS */
^COMPRESSED_FILE = "H8314_0000_GR3.JP2"
/* IDENTIFICATION DATA ELEMENTS */
DATA_SET_ID = "MEX-M-HRSC-5-REFDR-MAPPROJECTED-V3.0"
DATA_SET_NAME = "MARS EXPRESS HRSC MAP PROJECTED REFDR V3.0"
DETECTOR_ID = MEX_HRSC_GREEN
EVENT_TYPE = "MARS-REGIONAL-MAPPING-Im"
INSTRUMENT_HOST_ID = MEX
INSTRUMENT_HOST_NAME = "MARS EXPRESS"
INSTRUMENT_ID = HRSC
INSTRUMENT_NAME = "HIGH RESOLUTION STEREO CAMERA"
MISSION_NAME = "MARS EXPRESS"
MISSION_PHASE_NAME = ME_Phase_21
PROCESSING_LEVEL_ID = 3
PRODUCT_CREATION_TIME = 2016-10-25T14:43:05.000Z
PRODUCT_ID = "H8314_0000_GR3.JP2"
RELEASE_ID = 0091
REVISION_ID = 0000
/* QUALITY DATA ELEMENTS */
DATA_QUALITY_ID = 1
DATA_QUALITY_DESC = "Data calculated based on original SPICE kernels"
/* TIME DATA ELEMENTS */
SPACECRAFT_CLOCK_START_COUNT = "1/0226040003.08403"
SPACECRAFT_CLOCK_STOP_COUNT = "1/0226040201.44557"
START_TIME = 2010-07-01T04:54:15.945Z
STOP_TIME = 2010-07-01T04:55:51.571Z
/* ORBITAL DATA ELEMENTS */
ASCENDING_NODE_LONGITUDE = 58.53
MAXIMUM_RESOLUTION = 76.4
FOOTPRINT_POINT_LATITUDE = (7.31011,7.31051,7.31088,7.3112,7.31144 ,7.31165,7.31182,7.31193,7.31199,7.312, 7.31199,7.31188,7.36174,7.62574,7.78427 ,8.04816,8.20637,8.42134,8.63626, 8.79728,8.95816,9.12147,9.28568,9.39515 ,9.55862,9.7765,9.88781,9.99848,10.1637 ,10.2744,10.3851,10.4958,10.6083, 10.7211,10.8338,10.9464,11.0589,11.1714 ,11.285,11.3998,11.5722,11.6865,11.8005 ,11.9726,12.0888,12.205,12.321,12.4369, 12.5527,12.6694,12.787,12.9352,12.9367, 12.9369,12.937,12.9366,12.9364,12.9358, 12.9352,12.9345,12.9339,12.9326,12.8717 ,12.754,12.5776,12.404,12.2883,12.1143, 11.9982,11.8825,11.7683,11.6542,11.5399 ,11.4256,11.3111,11.1976,11.0851, 10.9165,10.8038,10.6911,10.5783,10.4664 ,10.3558,10.1899,10.0791,9.96812,9.857, 9.69198,9.41942,9.20093,8.98243,8.76808 ,8.55331,8.33839,8.17786,7.96695, 7.75575,7.54427,7.33385,7.31011)
FOOTPRINT_POINT_LONGITUDE = (347.789,347.659,347.53,347.401,347.273 ,347.145,347.018,346.892,346.767, 346.642,346.517,346.393,346.22,346.213, 346.208,346.2,346.195,346.188,346.182, 346.177,346.172,346.167,346.161,346.158 ,346.152,346.145,346.142,346.138, 346.134,346.13,346.126,346.123,346.119, 346.115,346.111,346.108,346.104,346.1, 346.096,346.092,346.086,346.082,346.078 ,346.072,346.068,346.064,346.06,346.056 ,346.052,346.048,346.044,346.11,346.237 ,346.401,346.621,346.862,347.01,347.216 ,347.385,347.574,347.707,347.917, 348.038,348.035,348.031,348.027,348.024 ,348.02,348.017,348.015,348.013,348.01, 348.008,348.006,348.003,348.0,347.998, 347.994,347.992,347.991,347.988,347.986 ,347.984,347.979,347.977,347.975, 347.974,347.971,347.967,347.963,347.96, 347.957,347.953,347.95,347.947,347.944, 347.941,347.938,347.934,347.789)
ORBIT_NUMBER = 8314
ORBITAL_ECCENTRICITY = 0.579
ORBITAL_INCLINATION = 86.82
ORBITAL_SEMIMAJOR_AXIS = 8846.25
PERIAPSIS_ALTITUDE = 328.98
PERIAPSIS_ARGUMENT_ANGLE = 341.38
PERIAPSIS_TIME = 2010-07-01T04:47:23.000Z
SPACECRAFT_ORIENTATION = (0.0,1.0,0.0)
^MEX_ORIENTATION_DESC = "MEX_ORIENTATION_DESC.TXT"
SPACECRAFT_POINTING_MODE = ACROSSTRACK
^MEX_POINTING_DESC = "MEX_POINTING_DESC.TXT"
RIGHT_ASCENSION = -1e+32
DECLINATION = -1e+32
OFFSET_ANGLE = -1.078
SPACECRAFT_SOLAR_DISTANCE = 2.43103e+08
TARGET_NAME = MARS
/* CAMERA DATA ELEMENTS */
DETECTOR_TEMPERATURE = 18.7783
FOCAL_PLANE_TEMPERATURE = 7.3599
INST_CMPRS_NAME = "DISCRETE COSINE TRANSFORMATION (DCT)"
INST_CMPRS_RATIO = 13.4665
INST_CMPRS_QUALITY = 0
INST_CMPRS_QUANTZ_TBL_ID = 0
INSTRUMENT_TEMPERATURE = 10.8262
LENS_TEMPERATURE = 7.9716
MACROPIXEL_SIZE = 4
MISSING_FRAMES = 0
PIXEL_SUBSAMPLING_FLAG = N
SIGNAL_CHAIN_ID = 2
/* RADIOMETRIC DATA ELEMENTS */
BANDWIDTH = 88.0
CENTER_FILTER_WAVELENGTH = 538.0
RADIANCE_OFFSET = 0.424831
RADIANCE_SCALING_FACTOR = 0.00188331
REFLECTANCE_SCALING_FACTOR = 9.58274e-05
MEX:REFLECTANCE_OFFSET = 0.0216165
/* IMAGE OBJECT DEFINITIONS */
OBJECT = IMAGE
  INTERCHANGE_FORMAT = BINARY
  LINES = 3340
  LINE_SAMPLES = 1190
  SAMPLE_TYPE = UNSIGNED_INTEGER
  SAMPLE_BITS = 8
  BANDS = 1
  BAND_STORAGE_TYPE = BAND_SEQUENTIAL
  MAXIMUM = 255
  MEAN = 102.855
  MINIMUM = 1
  STANDARD_DEVIATION = 34.0417
END_OBJECT = IMAGE
/* MAP OBJECT DEFINITIONS */
OBJECT = IMAGE_MAP_PROJECTION
  ^DATA_SET_MAP_PROJECTION_CATALOG= "DSMAP.CAT"
  A_AXIS_RADIUS = 3396.0
  B_AXIS_RADIUS = 3396.0
  C_AXIS_RADIUS = 3396.0
  CENTER_LATITUDE = 0.0
  CENTER_LONGITUDE = 347.0
  COORDINATE_SYSTEM_NAME = PLANETOGRAPHIC
  COORDINATE_SYSTEM_TYPE = "BODY-FIXED ROTATING"
  EASTERNMOST_LONGITUDE = 348.038
  FIRST_STANDARD_PARALLEL = "N/A"
  LINE_FIRST_PIXEL = 1
  LINE_LAST_PIXEL = 3340
  LINE_PROJECTION_OFFSET = 7672.375
  MAP_PROJECTION_ROTATION = 0.0
  MAP_PROJECTION_TYPE = SINUSOIDAL
  MAP_RESOLUTION = 592.713803866667
  MAP_SCALE = 0.1
  MAXIMUM_LATITUDE = 12.937
  MINIMUM_LATITUDE = 7.31011
  POSITIVE_LONGITUDE_DIRECTION = EAST
  REFERENCE_LATITUDE = "N/A"
  REFERENCE_LONGITUDE = "N/A"
  SAMPLE_FIRST_PIXEL = 1
  SAMPLE_LAST_PIXEL = 1190
  SAMPLE_PROJECTION_OFFSET = 553.625
  SECOND_STANDARD_PARALLEL = "N/A"
  WESTERNMOST_LONGITUDE = 346.044
END_OBJECT = IMAGE_MAP_PROJECTION
/* The JPEG2000 image data file associated with this label. */
OBJECT = COMPRESSED_FILE
  FILE_NAME = "H8314_0000_GR3.JP2"
  RECORD_TYPE = UNDEFINED
  FILE_RECORDS = UNK
  ENCODING_TYPE = "JP2"
  INTERCHANGE_FORMAT = BINARY
  UNCOMPRESSED_FILE_NAME = "H8314_0000_GR3.IMG"
  REQUIRED_STORAGE_BYTES = "3992450"
  ^DESCRIPTION = "JP2INFO.TXT"
END_OBJECT = COMPRESSED_FILE
END
