PDS_VERSION_ID = PDS3
/* FILE DATA ELEMENTS */
RECORD_TYPE = STREAM
/* POINTERS TO DATA OBJECTS */
^COMPRESSED_FILE = "H8318_0000_ND3.JP2"
/* IDENTIFICATION DATA ELEMENTS */
DATA_SET_ID = "MEX-M-HRSC-5-REFDR-MAPPROJECTED-V3.0"
DATA_SET_NAME = "MARS EXPRESS HRSC MAP PROJECTED REFDR V3.0"
DETECTOR_ID = MEX_HRSC_NADIR
EVENT_TYPE = "MARS-REGIONAL-MAPPING-Vo-Fl"
INSTRUMENT_HOST_ID = MEX
INSTRUMENT_HOST_NAME = "MARS EXPRESS"
INSTRUMENT_ID = HRSC
INSTRUMENT_NAME = "HIGH RESOLUTION STEREO CAMERA"
MISSION_NAME = "MARS EXPRESS"
MISSION_PHASE_NAME = ME_Phase_21
PROCESSING_LEVEL_ID = 3
PRODUCT_CREATION_TIME = 2016-10-25T14:43:05.000Z
PRODUCT_ID = "H8318_0000_ND3.JP2"
RELEASE_ID = 0091
REVISION_ID = 0000
/* QUALITY DATA ELEMENTS */
DATA_QUALITY_ID = 1
DATA_QUALITY_DESC = "Data calculated based on original SPICE kernels"
/* TIME DATA ELEMENTS */
SPACECRAFT_CLOCK_START_COUNT = "1/0226140816.08263"
SPACECRAFT_CLOCK_STOP_COUNT = "1/0226141306.06496"
START_TIME = 2010-07-02T08:54:27.900Z
STOP_TIME = 2010-07-02T08:59:44.920Z
/* ORBITAL DATA ELEMENTS */
ASCENDING_NODE_LONGITUDE = 58.45
MAXIMUM_RESOLUTION = 21.5
FOOTPRINT_POINT_LATITUDE = (12.1004,12.0959,12.09,12.2296,12.8085, 13.3962,13.9911,14.443,14.8987,15.205, 15.514,15.8244,16.1379,16.4524,16.7707, 17.2511,17.5737,17.9003,18.2281,18.5589 ,18.8922,19.2271,19.5658,19.9069, 20.2497,20.5961,20.9452,21.2968,21.6508 ,22.0086,22.3689,22.732,23.0978,23.4666 ,23.8387,24.2144,24.5929,24.9748, 25.3599,25.7483,26.1403,26.5356,26.9344 ,27.3366,27.7425,28.152,28.5651,28.9818 ,29.4126,29.4188,29.4251,29.4271, 29.4275,29.4263,29.423,29.0011,28.5849, 28.1724,27.7634,27.358,26.9562,26.5577, 26.1628,25.7713,25.383,24.9984,24.6168, 24.2383,23.8629,23.4908,23.1221,22.7561 ,22.3933,22.0331,21.6755,21.3216, 20.9701,20.621,20.2747,19.9319,19.5908, 19.2521,18.9172,18.5838,18.253,17.9252, 17.5985,17.2759,16.7954,16.477,16.1625, 15.8489,15.5384,14.9229,14.3159,13.717, 13.1262,12.5427,12.109,12.1004)
FOOTPRINT_POINT_LONGITUDE = (297.449,296.956,296.429,296.036, 296.014,295.99,295.966,295.947,295.928, 295.915,295.901,295.888,295.874,295.86, 295.846,295.824,295.809,295.794,295.778 ,295.762,295.746,295.73,295.713,295.696 ,295.679,295.661,295.643,295.625, 295.606,295.586,295.565,295.544,295.524 ,295.502,295.486,295.465,295.443,295.42 ,295.394,295.373,295.345,295.321, 295.297,295.271,295.245,295.218,295.19, 295.163,295.336,295.813,296.527,296.97, 297.585,297.962,298.477,298.572,298.548 ,298.525,298.503,298.482,298.462,298.44 ,298.422,298.402,298.383,298.366,298.35 ,298.329,298.316,298.301,298.284, 298.264,298.25,298.237,298.223,298.211, 298.198,298.186,298.175,298.164,298.153 ,298.142,298.132,298.122,298.112, 298.103,298.093,298.084,298.072,298.063 ,298.055,298.048,298.04,298.026,298.012 ,297.999,297.987,297.975,297.969, 297.449)
ORBIT_NUMBER = 8318
ORBITAL_ECCENTRICITY = 0.579
ORBITAL_INCLINATION = 86.82
ORBITAL_SEMIMAJOR_AXIS = 8849.48
PERIAPSIS_ALTITUDE = 328.64
PERIAPSIS_ARGUMENT_ANGLE = 340.73
PERIAPSIS_TIME = 2010-07-02T08:46:12.000Z
SPACECRAFT_ORIENTATION = (0.0,1.0,0.0)
^MEX_ORIENTATION_DESC = "MEX_ORIENTATION_DESC.TXT"
SPACECRAFT_POINTING_MODE = ACROSSTRACK
^MEX_POINTING_DESC = "MEX_POINTING_DESC.TXT"
RIGHT_ASCENSION = -1e+32
DECLINATION = -1e+32
OFFSET_ANGLE = -0.3
SPACECRAFT_SOLAR_DISTANCE = 2.42953e+08
TARGET_NAME = MARS
/* CAMERA DATA ELEMENTS */
DETECTOR_TEMPERATURE = 18.1666
FOCAL_PLANE_TEMPERATURE = 7.5638
INST_CMPRS_NAME = "DISCRETE COSINE TRANSFORMATION (DCT)"
INST_CMPRS_RATIO = 5.92825
INST_CMPRS_QUALITY = 0
INST_CMPRS_QUANTZ_TBL_ID = 0
INSTRUMENT_TEMPERATURE = 11.0301
LENS_TEMPERATURE = 7.9716
MACROPIXEL_SIZE = 1
MISSING_FRAMES = 0
PIXEL_SUBSAMPLING_FLAG = N
SIGNAL_CHAIN_ID = 0
/* RADIOMETRIC DATA ELEMENTS */
BANDWIDTH = 177.0
CENTER_FILTER_WAVELENGTH = 677.5
RADIANCE_OFFSET = 0.899382
RADIANCE_SCALING_FACTOR = 0.0162455
REFLECTANCE_SCALING_FACTOR = 0.000509402
MEX:REFLECTANCE_OFFSET = 0.0282014
/* IMAGE OBJECT DEFINITIONS */
OBJECT = IMAGE
  INTERCHANGE_FORMAT = BINARY
  LINES = 41114
  LINE_SAMPLES = 7234
  SAMPLE_TYPE = UNSIGNED_INTEGER
  SAMPLE_BITS = 8
  BANDS = 1
  BAND_STORAGE_TYPE = BAND_SEQUENTIAL
  MAXIMUM = 255
  MEAN = 73.9421
  MINIMUM = 1
  STANDARD_DEVIATION = 19.6107
END_OBJECT = IMAGE
/* MAP OBJECT DEFINITIONS */
OBJECT = IMAGE_MAP_PROJECTION
  ^DATA_SET_MAP_PROJECTION_CATALOG= "DSMAP.CAT"
  A_AXIS_RADIUS = 3396.0
  B_AXIS_RADIUS = 3396.0
  C_AXIS_RADIUS = 3396.0
  CENTER_LATITUDE = 0.0
  CENTER_LONGITUDE = 297.0
  COORDINATE_SYSTEM_NAME = PLANETOGRAPHIC
  COORDINATE_SYSTEM_TYPE = "BODY-FIXED ROTATING"
  EASTERNMOST_LONGITUDE = 298.572
  FIRST_STANDARD_PARALLEL = "N/A"
  LINE_FIRST_PIXEL = 1
  LINE_LAST_PIXEL = 41114
  LINE_PROJECTION_OFFSET = 69765.0
  MAP_PROJECTION_ROTATION = 0.0
  MAP_PROJECTION_TYPE = SINUSOIDAL
  MAP_RESOLUTION = 2370.85521546667
  MAP_SCALE = 0.025
  MAXIMUM_LATITUDE = 29.4275
  MINIMUM_LATITUDE = 12.09
  POSITIVE_LONGITUDE_DIRECTION = EAST
  REFERENCE_LATITUDE = "N/A"
  REFERENCE_LONGITUDE = "N/A"
  SAMPLE_FIRST_PIXEL = 1
  SAMPLE_LAST_PIXEL = 7234
  SAMPLE_PROJECTION_OFFSET = 3880.0
  SECOND_STANDARD_PARALLEL = "N/A"
  WESTERNMOST_LONGITUDE = 295.163
END_OBJECT = IMAGE_MAP_PROJECTION
/* The JPEG2000 image data file associated with this label. */
OBJECT = COMPRESSED_FILE
  FILE_NAME = "H8318_0000_ND3.JP2"
  RECORD_TYPE = UNDEFINED
  FILE_RECORDS = UNK
  ENCODING_TYPE = "JP2"
  INTERCHANGE_FORMAT = BINARY
  UNCOMPRESSED_FILE_NAME = "H8318_0000_ND3.IMG"
  REQUIRED_STORAGE_BYTES = "297447612"
  ^DESCRIPTION = "JP2INFO.TXT"
END_OBJECT = COMPRESSED_FILE
END
