PDS_VERSION_ID = PDS3
/* FILE DATA ELEMENTS */
RECORD_TYPE = STREAM
/* POINTERS TO DATA OBJECTS */
^COMPRESSED_FILE = "H8318_0000_P23.JP2"
/* IDENTIFICATION DATA ELEMENTS */
DATA_SET_ID = "MEX-M-HRSC-5-REFDR-MAPPROJECTED-V3.0"
DATA_SET_NAME = "MARS EXPRESS HRSC MAP PROJECTED REFDR V3.0"
DETECTOR_ID = MEX_HRSC_P2
EVENT_TYPE = "MARS-REGIONAL-MAPPING-Vo-Fl"
INSTRUMENT_HOST_ID = MEX
INSTRUMENT_HOST_NAME = "MARS EXPRESS"
INSTRUMENT_ID = HRSC
INSTRUMENT_NAME = "HIGH RESOLUTION STEREO CAMERA"
MISSION_NAME = "MARS EXPRESS"
MISSION_PHASE_NAME = ME_Phase_21
PROCESSING_LEVEL_ID = 3
PRODUCT_CREATION_TIME = 2016-10-25T14:43:05.000Z
PRODUCT_ID = "H8318_0000_P23.JP2"
RELEASE_ID = 0091
REVISION_ID = 0000
/* QUALITY DATA ELEMENTS */
DATA_QUALITY_ID = 1
DATA_QUALITY_DESC = "Data calculated based on original SPICE kernels"
/* TIME DATA ELEMENTS */
SPACECRAFT_CLOCK_START_COUNT = "1/0226140816.08263"
SPACECRAFT_CLOCK_STOP_COUNT = "1/0226141306.06496"
START_TIME = 2010-07-02T08:53:54.909Z
STOP_TIME = 2010-07-02T08:58:45.324Z
/* ORBITAL DATA ELEMENTS */
ASCENDING_NODE_LONGITUDE = 58.45
MAXIMUM_RESOLUTION = 42.3
FOOTPRINT_POINT_LATITUDE = (12.1099,12.0989,12.0889,12.3796,12.666 ,13.1024,13.3932,13.8369,14.1337, 14.5861,14.8862,15.1919,15.498,15.9627, 16.2735,16.5892,16.9047,17.225,17.5453, 17.8701,18.3602,18.6897,19.0225,19.3569 ,19.6951,20.0344,20.3777,20.7237, 21.0717,21.4234,21.9613,22.319,22.6868, 23.0509,23.4209,23.7821,24.1527,24.5305 ,24.9105,25.301,25.6834,26.0821,26.6738 ,27.0719,27.4753,27.8828,28.2933, 28.7088,29.127,29.4155,29.4266,29.4331, 29.4387,29.4451,29.4486,28.8192,28.404, 27.9932,27.5855,27.1827,26.7841,26.3871 ,25.9944,25.4091,25.0272,24.4563, 24.0698,23.7082,23.3348,22.9619,22.4155 ,21.8777,21.3469,20.8227,20.3048, 19.9622,19.623,19.119,18.7854,18.4556, 18.1273,17.802,17.4785,17.158,16.8396, 16.5238,16.2096,15.8987,15.5884,15.2823 ,14.8249,14.5232,14.222,13.9252,13.4809 ,13.0437,12.7517,12.4651,12.1811, 12.1099)
FOOTPRINT_POINT_LONGITUDE = (297.314,296.745,296.215,296.073, 296.063,296.047,296.036,296.019,296.008 ,295.99,295.978,295.966,295.954,295.936 ,295.923,295.91,295.897,295.883,295.87, 295.856,295.834,295.82,295.805,295.79, 295.775,295.759,295.743,295.727,295.711 ,295.694,295.666,295.648,295.628,295.61 ,295.59,295.575,295.557,295.537,295.517 ,295.493,295.474,295.45,295.417,295.395 ,295.371,295.347,295.323,295.298, 295.273,295.502,296.215,296.711,297.208 ,297.801,298.302,298.438,298.418, 298.398,298.379,298.361,298.344,298.326 ,298.31,298.284,298.27,298.248,298.227, 298.221,298.206,298.189,298.169,298.152 ,298.135,298.119,298.104,298.095, 298.085,298.072,298.063,298.054,298.046 ,298.038,298.03,298.023,298.016,298.009 ,298.002,297.995,297.989,297.982, 297.973,297.967,297.962,297.956,297.948 ,297.941,297.936,297.931,297.928, 297.314)
ORBIT_NUMBER = 8318
ORBITAL_ECCENTRICITY = 0.579
ORBITAL_INCLINATION = 86.82
ORBITAL_SEMIMAJOR_AXIS = 8849.48
PERIAPSIS_ALTITUDE = 328.64
PERIAPSIS_ARGUMENT_ANGLE = 340.73
PERIAPSIS_TIME = 2010-07-02T08:46:12.000Z
SPACECRAFT_ORIENTATION = (0.0,1.0,0.0)
^MEX_ORIENTATION_DESC = "MEX_ORIENTATION_DESC.TXT"
SPACECRAFT_POINTING_MODE = ACROSSTRACK
^MEX_POINTING_DESC = "MEX_POINTING_DESC.TXT"
RIGHT_ASCENSION = -1e+32
DECLINATION = -1e+32
OFFSET_ANGLE = -0.3
SPACECRAFT_SOLAR_DISTANCE = 2.42953e+08
TARGET_NAME = MARS
/* CAMERA DATA ELEMENTS */
DETECTOR_TEMPERATURE = 18.3705
FOCAL_PLANE_TEMPERATURE = 7.5638
INST_CMPRS_NAME = "DISCRETE COSINE TRANSFORMATION (DCT)"
INST_CMPRS_RATIO = 6.9132
INST_CMPRS_QUALITY = 0
INST_CMPRS_QUANTZ_TBL_ID = 0
INSTRUMENT_TEMPERATURE = 11.0301
LENS_TEMPERATURE = 7.9716
MACROPIXEL_SIZE = 2
MISSING_FRAMES = 0
PIXEL_SUBSAMPLING_FLAG = N
SIGNAL_CHAIN_ID = 3
/* RADIOMETRIC DATA ELEMENTS */
BANDWIDTH = 177.0
CENTER_FILTER_WAVELENGTH = 676.5
RADIANCE_OFFSET = 1.12835
RADIANCE_SCALING_FACTOR = 0.0156641
REFLECTANCE_SCALING_FACTOR = 0.000490236
MEX:REFLECTANCE_OFFSET = 0.0353136
/* IMAGE OBJECT DEFINITIONS */
OBJECT = IMAGE
  INTERCHANGE_FORMAT = BINARY
  LINES = 20557
  LINE_SAMPLES = 3617
  SAMPLE_TYPE = UNSIGNED_INTEGER
  SAMPLE_BITS = 8
  BANDS = 1
  BAND_STORAGE_TYPE = BAND_SEQUENTIAL
  MAXIMUM = 255
  MEAN = 70.2502
  MINIMUM = 1
  STANDARD_DEVIATION = 20.2963
END_OBJECT = IMAGE
/* MAP OBJECT DEFINITIONS */
OBJECT = IMAGE_MAP_PROJECTION
  ^DATA_SET_MAP_PROJECTION_CATALOG= "DSMAP.CAT"
  A_AXIS_RADIUS = 3396.0
  B_AXIS_RADIUS = 3396.0
  C_AXIS_RADIUS = 3396.0
  CENTER_LATITUDE = 0.0
  CENTER_LONGITUDE = 297.0
  COORDINATE_SYSTEM_NAME = PLANETOGRAPHIC
  COORDINATE_SYSTEM_TYPE = "BODY-FIXED ROTATING"
  EASTERNMOST_LONGITUDE = 298.438
  FIRST_STANDARD_PARALLEL = "N/A"
  LINE_FIRST_PIXEL = 1
  LINE_LAST_PIXEL = 20557
  LINE_PROJECTION_OFFSET = 34882.25
  MAP_PROJECTION_ROTATION = 0.0
  MAP_PROJECTION_TYPE = SINUSOIDAL
  MAP_RESOLUTION = 1185.42760773333
  MAP_SCALE = 0.05
  MAXIMUM_LATITUDE = 29.4486
  MINIMUM_LATITUDE = 12.0889
  POSITIVE_LONGITUDE_DIRECTION = EAST
  REFERENCE_LATITUDE = "N/A"
  REFERENCE_LONGITUDE = "N/A"
  SAMPLE_FIRST_PIXEL = 1
  SAMPLE_LAST_PIXEL = 3617
  SAMPLE_PROJECTION_OFFSET = 1939.75
  SECOND_STANDARD_PARALLEL = "N/A"
  WESTERNMOST_LONGITUDE = 295.273
END_OBJECT = IMAGE_MAP_PROJECTION
/* The JPEG2000 image data file associated with this label. */
OBJECT = COMPRESSED_FILE
  FILE_NAME = "H8318_0000_P23.JP2"
  RECORD_TYPE = UNDEFINED
  FILE_RECORDS = UNK
  ENCODING_TYPE = "JP2"
  INTERCHANGE_FORMAT = BINARY
  UNCOMPRESSED_FILE_NAME = "H8318_0000_P23.IMG"
  REQUIRED_STORAGE_BYTES = "74376371"
  ^DESCRIPTION = "JP2INFO.TXT"
END_OBJECT = COMPRESSED_FILE
END
