PDS_VERSION_ID = PDS3
/* FILE DATA ELEMENTS */
RECORD_TYPE = STREAM
/* POINTERS TO DATA OBJECTS */
^COMPRESSED_FILE = "H8322_0000_BL3.JP2"
/* IDENTIFICATION DATA ELEMENTS */
DATA_SET_ID = "MEX-M-HRSC-5-REFDR-MAPPROJECTED-V3.0"
DATA_SET_NAME = "MARS EXPRESS HRSC MAP PROJECTED REFDR V3.0"
DETECTOR_ID = MEX_HRSC_BLUE
EVENT_TYPE = "MARS-REGIONAL-MAPPING-Vo-Im-Gl"
INSTRUMENT_HOST_ID = MEX
INSTRUMENT_HOST_NAME = "MARS EXPRESS"
INSTRUMENT_ID = HRSC
INSTRUMENT_NAME = "HIGH RESOLUTION STEREO CAMERA"
MISSION_NAME = "MARS EXPRESS"
MISSION_PHASE_NAME = ME_Phase_21
PROCESSING_LEVEL_ID = 3
PRODUCT_CREATION_TIME = 2016-10-25T14:43:05.000Z
PRODUCT_ID = "H8322_0000_BL3.JP2"
RELEASE_ID = 0091
REVISION_ID = 0000
/* QUALITY DATA ELEMENTS */
DATA_QUALITY_ID = 1
DATA_QUALITY_DESC = "Data calculated based on original SPICE kernels"
/* TIME DATA ELEMENTS */
SPACECRAFT_CLOCK_START_COUNT = "1/0226241441.07280"
SPACECRAFT_CLOCK_STOP_COUNT = "1/0226241910.48244"
START_TIME = 2010-07-03T12:51:18.110Z
STOP_TIME = 2010-07-03T12:56:38.461Z
/* ORBITAL DATA ELEMENTS */
ASCENDING_NODE_LONGITUDE = 58.37
MAXIMUM_RESOLUTION = 144.9
FOOTPRINT_POINT_LATITUDE = (5.43938,5.43791,5.43627,5.43138, 6.04513,6.66438,6.97788,7.29088,7.61006 ,8.0884,8.57498,8.89928,9.39432,9.72432 ,10.0604,10.3959,10.7362,11.0772, 11.4222,11.7686,12.1186,12.4704,12.8261 ,13.1831,13.5447,14.0912,14.4587, 14.8309,15.2046,15.5827,15.9639,16.5415 ,16.9295,17.3229,17.7192,18.1185, 18.5216,18.9293,19.3403,19.7547,20.1731 ,20.5954,21.0228,21.4538,21.889,22.3286 ,22.7725,23.2207,23.6737,24.0839, 24.0916,24.0966,24.1016,24.1072,24.1093 ,23.8769,23.4216,22.9712,22.525,22.0832 ,21.6462,21.2136,20.7851,20.3604, 19.9394,19.5227,19.1094,18.7011,18.0941 ,17.695,17.2988,16.9054,16.5169,15.9392 ,15.3691,14.8061,14.2502,13.8821, 13.5194,13.158,12.8005,12.4451,12.0928, 11.5697,11.0514,10.7099,10.3698,10.0339 ,9.69783,9.36762,8.87245,8.5493,8.22415 ,7.90221,7.58217,7.26346,6.95,6.63607, 6.01659,5.43938)
FOOTPRINT_POINT_LONGITUDE = (247.436,246.96,246.477,245.963,245.943 ,245.923,245.912,245.901,245.89,245.872 ,245.854,245.842,245.823,245.81,245.797 ,245.784,245.77,245.756,245.742,245.727 ,245.713,245.697,245.682,245.666,245.65 ,245.625,245.608,245.591,245.573, 245.554,245.536,245.507,245.487,245.467 ,245.446,245.426,245.404,245.382, 245.359,245.336,245.312,245.287,245.262 ,245.236,245.21,245.182,245.154,245.126 ,245.097,245.07,245.548,245.92,246.37, 247.078,247.494,247.867,247.854,247.841 ,247.828,247.816,247.804,247.793, 247.782,247.772,247.762,247.752,247.743 ,247.734,247.722,247.714,247.706, 247.698,247.691,247.681,247.671,247.662 ,247.653,247.647,247.642,247.637, 247.632,247.627,247.622,247.615,247.609 ,247.605,247.601,247.597,247.593,247.59 ,247.585,247.581,247.578,247.575, 247.572,247.569,247.567,247.564,247.559 ,247.436)
ORBIT_NUMBER = 8322
ORBITAL_ECCENTRICITY = 0.58
ORBITAL_INCLINATION = 86.82
ORBITAL_SEMIMAJOR_AXIS = 8857.82
PERIAPSIS_ALTITUDE = 327.85
PERIAPSIS_ARGUMENT_ANGLE = 340.0
PERIAPSIS_TIME = 2010-07-03T12:44:49.000Z
SPACECRAFT_ORIENTATION = (0.0,1.0,0.0)
^MEX_ORIENTATION_DESC = "MEX_ORIENTATION_DESC.TXT"
SPACECRAFT_POINTING_MODE = ACROSSTRACK
^MEX_POINTING_DESC = "MEX_POINTING_DESC.TXT"
RIGHT_ASCENSION = -1e+32
DECLINATION = -1e+32
OFFSET_ANGLE = 0.85
SPACECRAFT_SOLAR_DISTANCE = 2.42801e+08
TARGET_NAME = MARS
/* CAMERA DATA ELEMENTS */
DETECTOR_TEMPERATURE = 18.1666
FOCAL_PLANE_TEMPERATURE = 7.9716
INST_CMPRS_NAME = "DISCRETE COSINE TRANSFORMATION (DCT)"
INST_CMPRS_RATIO = 19.1125
INST_CMPRS_QUALITY = 0
INST_CMPRS_QUANTZ_TBL_ID = 0
INSTRUMENT_TEMPERATURE = 11.0301
LENS_TEMPERATURE = 8.3794
MACROPIXEL_SIZE = 8
MISSING_FRAMES = 0
PIXEL_SUBSAMPLING_FLAG = N
SIGNAL_CHAIN_ID = 2
/* RADIOMETRIC DATA ELEMENTS */
BANDWIDTH = 76.0
CENTER_FILTER_WAVELENGTH = 444.0
RADIANCE_OFFSET = 0.428119
RADIANCE_SCALING_FACTOR = 0.00201807
REFLECTANCE_SCALING_FACTOR = 0.000122234
MEX:REFLECTANCE_OFFSET = 0.0259311
/* IMAGE OBJECT DEFINITIONS */
OBJECT = IMAGE
  INTERCHANGE_FORMAT = BINARY
  LINES = 11089
  LINE_SAMPLES = 1623
  SAMPLE_TYPE = UNSIGNED_INTEGER
  SAMPLE_BITS = 8
  BANDS = 1
  BAND_STORAGE_TYPE = BAND_SEQUENTIAL
  MAXIMUM = 255
  MEAN = 141.767
  MINIMUM = 1
  STANDARD_DEVIATION = 49.5195
END_OBJECT = IMAGE
/* MAP OBJECT DEFINITIONS */
OBJECT = IMAGE_MAP_PROJECTION
  ^DATA_SET_MAP_PROJECTION_CATALOG= "DSMAP.CAT"
  A_AXIS_RADIUS = 3396.0
  B_AXIS_RADIUS = 3396.0
  C_AXIS_RADIUS = 3396.0
  CENTER_LATITUDE = 0.0
  CENTER_LONGITUDE = 247.0
  COORDINATE_SYSTEM_NAME = PLANETOGRAPHIC
  COORDINATE_SYSTEM_TYPE = "BODY-FIXED ROTATING"
  EASTERNMOST_LONGITUDE = 247.867
  FIRST_STANDARD_PARALLEL = "N/A"
  LINE_FIRST_PIXEL = 1
  LINE_LAST_PIXEL = 11089
  LINE_PROJECTION_OFFSET = 14296.0625
  MAP_PROJECTION_ROTATION = 0.0
  MAP_PROJECTION_TYPE = SINUSOIDAL
  MAP_RESOLUTION = 592.713803866667
  MAP_SCALE = 0.1
  MAXIMUM_LATITUDE = 24.1093
  MINIMUM_LATITUDE = 5.43138
  POSITIVE_LONGITUDE_DIRECTION = EAST
  REFERENCE_LATITUDE = "N/A"
  REFERENCE_LONGITUDE = "N/A"
  SAMPLE_FIRST_PIXEL = 1
  SAMPLE_LAST_PIXEL = 1623
  SAMPLE_PROJECTION_OFFSET = 1124.3125
  SECOND_STANDARD_PARALLEL = "N/A"
  WESTERNMOST_LONGITUDE = 245.07
END_OBJECT = IMAGE_MAP_PROJECTION
/* The JPEG2000 image data file associated with this label. */
OBJECT = COMPRESSED_FILE
  FILE_NAME = "H8322_0000_BL3.JP2"
  RECORD_TYPE = UNDEFINED
  FILE_RECORDS = UNK
  ENCODING_TYPE = "JP2"
  INTERCHANGE_FORMAT = BINARY
  UNCOMPRESSED_FILE_NAME = "H8322_0000_BL3.IMG"
  REQUIRED_STORAGE_BYTES = "18016923"
  ^DESCRIPTION = "JP2INFO.TXT"
END_OBJECT = COMPRESSED_FILE
END
