PDS_VERSION_ID = PDS3
/* FILE DATA ELEMENTS */
RECORD_TYPE = STREAM
/* POINTERS TO DATA OBJECTS */
^COMPRESSED_FILE = "H8322_0000_RE3.JP2"
/* IDENTIFICATION DATA ELEMENTS */
DATA_SET_ID = "MEX-M-HRSC-5-REFDR-MAPPROJECTED-V3.0"
DATA_SET_NAME = "MARS EXPRESS HRSC MAP PROJECTED REFDR V3.0"
DETECTOR_ID = MEX_HRSC_RED
EVENT_TYPE = "MARS-REGIONAL-MAPPING-Vo-Im-Gl"
INSTRUMENT_HOST_ID = MEX
INSTRUMENT_HOST_NAME = "MARS EXPRESS"
INSTRUMENT_ID = HRSC
INSTRUMENT_NAME = "HIGH RESOLUTION STEREO CAMERA"
MISSION_NAME = "MARS EXPRESS"
MISSION_PHASE_NAME = ME_Phase_21
PROCESSING_LEVEL_ID = 3
PRODUCT_CREATION_TIME = 2016-10-25T14:43:05.000Z
PRODUCT_ID = "H8322_0000_RE3.JP2"
RELEASE_ID = 0091
REVISION_ID = 0000
/* QUALITY DATA ELEMENTS */
DATA_QUALITY_ID = 1
DATA_QUALITY_DESC = "Data calculated based on original SPICE kernels"
/* TIME DATA ELEMENTS */
SPACECRAFT_CLOCK_START_COUNT = "1/0226241441.07280"
SPACECRAFT_CLOCK_STOP_COUNT = "1/0226241910.48244"
START_TIME = 2010-07-03T12:50:50.639Z
STOP_TIME = 2010-07-03T12:55:49.733Z
/* ORBITAL DATA ELEMENTS */
ASCENDING_NODE_LONGITUDE = 58.37
MAXIMUM_RESOLUTION = 145.8
FOOTPRINT_POINT_LATITUDE = (5.42358,5.43546,5.44854,5.90139, 6.36306,6.6778,6.9923,7.30655,7.62755, 7.94864,8.43355,8.76122,9.08844,9.58772 ,9.92132,10.4296,10.7697,11.2876, 11.6338,11.9855,12.338,12.874,13.2325, 13.5976,13.9623,14.3331,14.8924,15.2696 ,15.6503,16.0334,16.4217,17.009,17.604, 18.0042,18.4106,18.8195,19.2316,19.6493 ,20.0701,20.4942,20.9247,21.3586, 21.7966,22.2385,22.6856,23.1379,23.5943 ,24.1014,24.0979,24.0941,24.0889, 24.0849,24.0806,24.0725,23.6109,23.1533 ,22.7002,22.2532,21.8105,21.3721, 20.9373,20.5072,20.0818,19.6592,19.2419 ,18.8299,18.416,18.0132,17.6124,17.2137 ,16.8185,16.4278,16.0385,15.6554, 15.2737,14.8963,14.5214,14.1501,13.5988 ,13.0533,12.6941,12.3368,11.9839, 11.6312,11.2847,10.7655,10.425,9.91512, 9.58126,9.24673,8.91591,8.59519,8.26836 ,7.9437,7.61641,7.29481,6.9802,6.66529, 5.88645,5.42358)
FOOTPRINT_POINT_LONGITUDE = (247.307,246.843,246.371,245.962, 245.947,245.937,245.927,245.916,245.905 ,245.894,245.877,245.866,245.854, 245.836,245.823,245.804,245.791,245.771 ,245.757,245.743,245.728,245.706, 245.691,245.675,245.66,245.643,245.618, 245.601,245.584,245.566,245.548,245.519 ,245.49,245.471,245.45,245.429,245.408, 245.386,245.363,245.34,245.316,245.292, 245.267,245.241,245.214,245.187,245.16, 245.328,245.732,246.133,246.63,247.025, 247.418,247.776,247.765,247.754,247.743 ,247.733,247.723,247.714,247.705, 247.697,247.688,247.681,247.673,247.666 ,247.659,247.652,247.646,247.64,247.634 ,247.628,247.622,247.617,247.612, 247.607,247.602,247.598,247.591,247.585 ,247.581,247.577,247.574,247.57,247.567 ,247.562,247.559,247.554,247.552, 247.549,247.546,247.544,247.541,247.539 ,247.537,247.535,247.532,247.53,247.526 ,247.307)
ORBIT_NUMBER = 8322
ORBITAL_ECCENTRICITY = 0.58
ORBITAL_INCLINATION = 86.82
ORBITAL_SEMIMAJOR_AXIS = 8857.82
PERIAPSIS_ALTITUDE = 327.85
PERIAPSIS_ARGUMENT_ANGLE = 340.0
PERIAPSIS_TIME = 2010-07-03T12:44:49.000Z
SPACECRAFT_ORIENTATION = (0.0,1.0,0.0)
^MEX_ORIENTATION_DESC = "MEX_ORIENTATION_DESC.TXT"
SPACECRAFT_POINTING_MODE = ACROSSTRACK
^MEX_POINTING_DESC = "MEX_POINTING_DESC.TXT"
RIGHT_ASCENSION = -1e+32
DECLINATION = -1e+32
OFFSET_ANGLE = 0.85
SPACECRAFT_SOLAR_DISTANCE = 2.42801e+08
TARGET_NAME = MARS
/* CAMERA DATA ELEMENTS */
DETECTOR_TEMPERATURE = 19.5939
FOCAL_PLANE_TEMPERATURE = 7.9716
INST_CMPRS_NAME = "DISCRETE COSINE TRANSFORMATION (DCT)"
INST_CMPRS_RATIO = 21.9507
INST_CMPRS_QUALITY = 0
INST_CMPRS_QUANTZ_TBL_ID = 0
INSTRUMENT_TEMPERATURE = 11.0301
LENS_TEMPERATURE = 8.3794
MACROPIXEL_SIZE = 8
MISSING_FRAMES = 0
PIXEL_SUBSAMPLING_FLAG = N
SIGNAL_CHAIN_ID = 2
/* RADIOMETRIC DATA ELEMENTS */
BANDWIDTH = 48.0
CENTER_FILTER_WAVELENGTH = 748.0
RADIANCE_OFFSET = 0.524222
RADIANCE_SCALING_FACTOR = 0.00372827
REFLECTANCE_SCALING_FACTOR = 0.000501574
MEX:REFLECTANCE_OFFSET = 0.0705251
/* IMAGE OBJECT DEFINITIONS */
OBJECT = IMAGE
  INTERCHANGE_FORMAT = BINARY
  LINES = 11089
  LINE_SAMPLES = 1623
  SAMPLE_TYPE = UNSIGNED_INTEGER
  SAMPLE_BITS = 8
  BANDS = 1
  BAND_STORAGE_TYPE = BAND_SEQUENTIAL
  MAXIMUM = 255
  MEAN = 113.563
  MINIMUM = 1
  STANDARD_DEVIATION = 35.6112
END_OBJECT = IMAGE
/* MAP OBJECT DEFINITIONS */
OBJECT = IMAGE_MAP_PROJECTION
  ^DATA_SET_MAP_PROJECTION_CATALOG= "DSMAP.CAT"
  A_AXIS_RADIUS = 3396.0
  B_AXIS_RADIUS = 3396.0
  C_AXIS_RADIUS = 3396.0
  CENTER_LATITUDE = 0.0
  CENTER_LONGITUDE = 247.0
  COORDINATE_SYSTEM_NAME = PLANETOGRAPHIC
  COORDINATE_SYSTEM_TYPE = "BODY-FIXED ROTATING"
  EASTERNMOST_LONGITUDE = 247.776
  FIRST_STANDARD_PARALLEL = "N/A"
  LINE_FIRST_PIXEL = 1
  LINE_LAST_PIXEL = 11089
  LINE_PROJECTION_OFFSET = 14296.0625
  MAP_PROJECTION_ROTATION = 0.0
  MAP_PROJECTION_TYPE = SINUSOIDAL
  MAP_RESOLUTION = 592.713803866667
  MAP_SCALE = 0.1
  MAXIMUM_LATITUDE = 24.1014
  MINIMUM_LATITUDE = 5.42358
  POSITIVE_LONGITUDE_DIRECTION = EAST
  REFERENCE_LATITUDE = "N/A"
  REFERENCE_LONGITUDE = "N/A"
  SAMPLE_FIRST_PIXEL = 1
  SAMPLE_LAST_PIXEL = 1623
  SAMPLE_PROJECTION_OFFSET = 1124.3125
  SECOND_STANDARD_PARALLEL = "N/A"
  WESTERNMOST_LONGITUDE = 245.16
END_OBJECT = IMAGE_MAP_PROJECTION
/* The JPEG2000 image data file associated with this label. */
OBJECT = COMPRESSED_FILE
  FILE_NAME = "H8322_0000_RE3.JP2"
  RECORD_TYPE = UNDEFINED
  FILE_RECORDS = UNK
  ENCODING_TYPE = "JP2"
  INTERCHANGE_FORMAT = BINARY
  UNCOMPRESSED_FILE_NAME = "H8322_0000_RE3.IMG"
  REQUIRED_STORAGE_BYTES = "18016923"
  ^DESCRIPTION = "JP2INFO.TXT"
END_OBJECT = COMPRESSED_FILE
END
