PDS_VERSION_ID = PDS3
/* FILE DATA ELEMENTS */
RECORD_TYPE = STREAM
/* POINTERS TO DATA OBJECTS */
^COMPRESSED_FILE = "H8325_0000_GR3.JP2"
/* IDENTIFICATION DATA ELEMENTS */
DATA_SET_ID = "MEX-M-HRSC-5-REFDR-MAPPROJECTED-V3.0"
DATA_SET_NAME = "MARS EXPRESS HRSC MAP PROJECTED REFDR V3.0"
DETECTOR_ID = MEX_HRSC_GREEN
EVENT_TYPE = "MARS-REGIONAL-MAPPING-Vo-Fl"
INSTRUMENT_HOST_ID = MEX
INSTRUMENT_HOST_NAME = "MARS EXPRESS"
INSTRUMENT_ID = HRSC
INSTRUMENT_NAME = "HIGH RESOLUTION STEREO CAMERA"
MISSION_NAME = "MARS EXPRESS"
MISSION_PHASE_NAME = ME_Phase_21
PROCESSING_LEVEL_ID = 3
PRODUCT_CREATION_TIME = 2016-10-25T14:43:05.000Z
PRODUCT_ID = "H8325_0000_GR3.JP2"
RELEASE_ID = 0091
REVISION_ID = 0000
/* QUALITY DATA ELEMENTS */
DATA_QUALITY_ID = 1
DATA_QUALITY_DESC = "Data calculated based on original SPICE kernels"
/* TIME DATA ELEMENTS */
SPACECRAFT_CLOCK_START_COUNT = "1/0226317028.08258"
SPACECRAFT_CLOCK_STOP_COUNT = "1/0226317415.56055"
START_TIME = 2010-07-04T09:51:24.658Z
STOP_TIME = 2010-07-04T09:55:37.590Z
/* ORBITAL DATA ELEMENTS */
ASCENDING_NODE_LONGITUDE = 58.31
MAXIMUM_RESOLUTION = 161
FOOTPRINT_POINT_LATITUDE = (7.68792,7.68188,7.67549,7.66883, 7.66182,7.65109,8.0179,8.50921,8.75875, 9.00845,9.38463,9.63822,9.8913,10.2764, 10.5333,10.9233,11.184,11.447,11.7117, 11.9756,12.2446,12.5127,12.7839,13.0555 ,13.4671,13.7422,14.0208,14.2994, 14.5811,14.8632,15.1486,15.4341,15.723, 16.1587,16.4513,16.7463,17.1918,17.4911 ,17.7932,18.2494,18.7099,19.1755, 19.6457,20.121,20.4401,20.7623,21.0866, 21.4128,21.741,21.7621,21.7733,21.786, 21.7961,21.8063,21.8145,21.817,21.4881, 21.161,20.8358,20.5129,20.193,19.8748, 19.5586,19.2456,18.779,18.3174,17.8602, 17.5574,17.2575,16.8111,16.369,16.0746, 15.7856,15.496,15.2099,14.9239,14.6413, 14.359,14.0798,13.8004,13.5249,13.1124, 12.8403,12.5686,12.3001,11.8983,11.6334 ,11.2372,10.9761,10.5854,10.328,9.94213 ,9.68849,9.4344,9.05755,8.80743,8.55731 ,8.06485,7.69727,7.68792)
FOOTPRINT_POINT_LONGITUDE = (299.79,299.525,299.256,298.984,298.708 ,298.238,298.224,298.204,298.193, 298.183,298.167,298.156,298.145,298.129 ,298.117,298.1,298.088,298.076,298.064, 298.048,298.037,298.025,298.012,297.999 ,297.978,297.964,297.949,297.935,297.92 ,297.905,297.89,297.874,297.858,297.833 ,297.817,297.8,297.774,297.757,297.738, 297.71,297.682,297.652,297.622,297.591, 297.57,297.549,297.527,297.504,297.481, 297.907,298.255,298.702,299.094,299.534 ,299.944,300.267,300.259,300.251, 300.243,300.236,300.229,300.222,300.215 ,300.209,300.2,300.191,300.182,300.177, 300.171,300.164,300.156,300.151,300.147 ,300.142,300.138,300.134,300.129, 300.125,300.121,300.117,300.114,300.108 ,300.105,300.102,300.098,300.093,300.09 ,300.086,300.083,300.079,300.076, 300.072,300.069,300.067,300.063,300.061 ,300.058,300.054,300.05,299.79)
ORBIT_NUMBER = 8325
ORBITAL_ECCENTRICITY = 0.579
ORBITAL_INCLINATION = 86.82
ORBITAL_SEMIMAJOR_AXIS = 8846.99
PERIAPSIS_ALTITUDE = 328.26
PERIAPSIS_ARGUMENT_ANGLE = 339.53
PERIAPSIS_TIME = 2010-07-04T09:43:55.000Z
SPACECRAFT_ORIENTATION = (0.0,1.0,0.0)
^MEX_ORIENTATION_DESC = "MEX_ORIENTATION_DESC.TXT"
SPACECRAFT_POINTING_MODE = ACROSSTRACK
^MEX_POINTING_DESC = "MEX_POINTING_DESC.TXT"
RIGHT_ASCENSION = -1e+32
DECLINATION = -1e+32
OFFSET_ANGLE = 1.5
SPACECRAFT_SOLAR_DISTANCE = 2.42687e+08
TARGET_NAME = MARS
/* CAMERA DATA ELEMENTS */
DETECTOR_TEMPERATURE = 18.1666
FOCAL_PLANE_TEMPERATURE = 7.5638
INST_CMPRS_NAME = "DISCRETE COSINE TRANSFORMATION (DCT)"
INST_CMPRS_RATIO = 13.903
INST_CMPRS_QUALITY = 0
INST_CMPRS_QUANTZ_TBL_ID = 0
INSTRUMENT_TEMPERATURE = 11.234
LENS_TEMPERATURE = 8.1755
MACROPIXEL_SIZE = 8
MISSING_FRAMES = 0
PIXEL_SUBSAMPLING_FLAG = N
SIGNAL_CHAIN_ID = 2
/* RADIOMETRIC DATA ELEMENTS */
BANDWIDTH = 88.0
CENTER_FILTER_WAVELENGTH = 538.0
RADIANCE_OFFSET = 0.577119
RADIANCE_SCALING_FACTOR = 0.00369078
REFLECTANCE_SCALING_FACTOR = 0.000187153
MEX:REFLECTANCE_OFFSET = 0.0292647
/* IMAGE OBJECT DEFINITIONS */
OBJECT = IMAGE
  INTERCHANGE_FORMAT = BINARY
  LINES = 4199
  LINE_SAMPLES = 786
  SAMPLE_TYPE = UNSIGNED_INTEGER
  SAMPLE_BITS = 8
  BANDS = 1
  BAND_STORAGE_TYPE = BAND_SEQUENTIAL
  MAXIMUM = 255
  MEAN = 96.8902
  MINIMUM = 1
  STANDARD_DEVIATION = 23.2387
END_OBJECT = IMAGE
/* MAP OBJECT DEFINITIONS */
OBJECT = IMAGE_MAP_PROJECTION
  ^DATA_SET_MAP_PROJECTION_CATALOG= "DSMAP.CAT"
  A_AXIS_RADIUS = 3396.0
  B_AXIS_RADIUS = 3396.0
  C_AXIS_RADIUS = 3396.0
  CENTER_LATITUDE = 0.0
  CENTER_LONGITUDE = 299.0
  COORDINATE_SYSTEM_NAME = PLANETOGRAPHIC
  COORDINATE_SYSTEM_TYPE = "BODY-FIXED ROTATING"
  EASTERNMOST_LONGITUDE = 300.267
  FIRST_STANDARD_PARALLEL = "N/A"
  LINE_FIRST_PIXEL = 1
  LINE_LAST_PIXEL = 4199
  LINE_PROJECTION_OFFSET = 6468.1875
  MAP_PROJECTION_ROTATION = 0.0
  MAP_PROJECTION_TYPE = SINUSOIDAL
  MAP_RESOLUTION = 296.356901933333
  MAP_SCALE = 0.2
  MAXIMUM_LATITUDE = 21.817
  MINIMUM_LATITUDE = 7.65109
  POSITIVE_LONGITUDE_DIRECTION = EAST
  REFERENCE_LATITUDE = "N/A"
  REFERENCE_LONGITUDE = "N/A"
  SAMPLE_FIRST_PIXEL = 1
  SAMPLE_LAST_PIXEL = 786
  SAMPLE_PROJECTION_OFFSET = 442.6875
  SECOND_STANDARD_PARALLEL = "N/A"
  WESTERNMOST_LONGITUDE = 297.481
END_OBJECT = IMAGE_MAP_PROJECTION
/* The JPEG2000 image data file associated with this label. */
OBJECT = COMPRESSED_FILE
  FILE_NAME = "H8325_0000_GR3.JP2"
  RECORD_TYPE = UNDEFINED
  FILE_RECORDS = UNK
  ENCODING_TYPE = "JP2"
  INTERCHANGE_FORMAT = BINARY
  UNCOMPRESSED_FILE_NAME = "H8325_0000_GR3.IMG"
  REQUIRED_STORAGE_BYTES = "3317706"
  ^DESCRIPTION = "JP2INFO.TXT"
END_OBJECT = COMPRESSED_FILE
END
