PDS_VERSION_ID = PDS3
/* FILE DATA ELEMENTS */
RECORD_TYPE = STREAM
/* POINTERS TO DATA OBJECTS */
^COMPRESSED_FILE = "H8325_0000_P13.JP2"
/* IDENTIFICATION DATA ELEMENTS */
DATA_SET_ID = "MEX-M-HRSC-5-REFDR-MAPPROJECTED-V3.0"
DATA_SET_NAME = "MARS EXPRESS HRSC MAP PROJECTED REFDR V3.0"
DETECTOR_ID = MEX_HRSC_P1
EVENT_TYPE = "MARS-REGIONAL-MAPPING-Vo-Fl"
INSTRUMENT_HOST_ID = MEX
INSTRUMENT_HOST_NAME = "MARS EXPRESS"
INSTRUMENT_ID = HRSC
INSTRUMENT_NAME = "HIGH RESOLUTION STEREO CAMERA"
MISSION_NAME = "MARS EXPRESS"
MISSION_PHASE_NAME = ME_Phase_21
PROCESSING_LEVEL_ID = 3
PRODUCT_CREATION_TIME = 2016-10-25T14:43:05.000Z
PRODUCT_ID = "H8325_0000_P13.JP2"
RELEASE_ID = 0091
REVISION_ID = 0000
/* QUALITY DATA ELEMENTS */
DATA_QUALITY_ID = 1
DATA_QUALITY_DESC = "Data calculated based on original SPICE kernels"
/* TIME DATA ELEMENTS */
SPACECRAFT_CLOCK_START_COUNT = "1/0226317028.08258"
SPACECRAFT_CLOCK_STOP_COUNT = "1/0226317415.56055"
START_TIME = 2010-07-04T09:51:50.152Z
STOP_TIME = 2010-07-04T09:56:21.222Z
/* ORBITAL DATA ELEMENTS */
ASCENDING_NODE_LONGITUDE = 58.31
MAXIMUM_RESOLUTION = 43
FOOTPRINT_POINT_LATITUDE = (7.7164,7.70092,7.68477,7.66788,7.65016 ,7.6316,7.60834,8.09875,8.71765,8.9667, 9.34473,9.59698,9.97992,10.2354,10.4942 ,10.8825,11.1451,11.4072,11.6728,12.066 ,12.34,12.7441,13.0154,13.289,13.5639, 13.8409,14.1181,14.3989,14.8214,15.1052 ,15.3914,15.8234,16.2596,16.6998, 17.1441,17.4423,17.743,18.0454,18.3492, 18.6561,18.9647,19.2749,19.587,19.9019, 20.2191,20.5379,20.8592,21.1825,21.5075 ,21.7417,21.7737,21.7919,21.8167, 21.8451,21.8603,21.5324,21.2066,20.8832 ,20.5616,20.2427,19.9259,19.6115, 19.2986,18.9885,18.6804,18.3736,18.0687 ,17.7667,17.3169,16.8709,16.4297, 16.1331,15.7017,15.4144,14.9865,14.703, 14.4215,14.0024,13.7244,13.4489,13.1742 ,12.902,12.6307,12.3616,12.0932,11.8273 ,11.561,11.2983,10.9049,10.6455,10.3857 ,10.0013,9.74489,9.49205,9.11272, 8.86331,8.61322,8.2414,7.99451,7.7164)
FOOTPRINT_POINT_LONGITUDE = (299.978,299.693,299.403,299.11,298.813 ,298.512,298.177,298.156,298.128, 298.117,298.1,298.088,298.07,298.058, 298.046,298.027,298.014,298.001,297.988 ,297.962,297.953,297.931,297.916, 297.901,297.887,297.871,297.855,297.839 ,297.814,297.798,297.78,297.754,297.727 ,297.7,297.671,297.652,297.632,297.611, 297.591,297.57,297.548,297.526,297.504, 297.481,297.459,297.435,297.411,297.387 ,297.361,297.793,298.356,298.707,299.23 ,299.918,300.354,300.344,300.334, 300.325,300.316,300.307,300.299,300.291 ,300.282,300.275,300.267,300.26,300.253 ,300.246,300.236,300.226,300.217,300.21 ,300.202,300.196,300.188,300.183, 300.178,300.171,300.166,300.161,300.157 ,300.152,300.148,300.144,300.14,300.136 ,300.132,300.128,300.122,300.119, 300.115,300.11,300.107,300.104,300.099, 300.096,300.093,300.089,300.086, 299.978)
ORBIT_NUMBER = 8325
ORBITAL_ECCENTRICITY = 0.579
ORBITAL_INCLINATION = 86.82
ORBITAL_SEMIMAJOR_AXIS = 8846.99
PERIAPSIS_ALTITUDE = 328.26
PERIAPSIS_ARGUMENT_ANGLE = 339.53
PERIAPSIS_TIME = 2010-07-04T09:43:55.000Z
SPACECRAFT_ORIENTATION = (0.0,1.0,0.0)
^MEX_ORIENTATION_DESC = "MEX_ORIENTATION_DESC.TXT"
SPACECRAFT_POINTING_MODE = ACROSSTRACK
^MEX_POINTING_DESC = "MEX_POINTING_DESC.TXT"
RIGHT_ASCENSION = -1e+32
DECLINATION = -1e+32
OFFSET_ANGLE = 1.5
SPACECRAFT_SOLAR_DISTANCE = 2.42687e+08
TARGET_NAME = MARS
/* CAMERA DATA ELEMENTS */
DETECTOR_TEMPERATURE = 16.1276
FOCAL_PLANE_TEMPERATURE = 7.5638
INST_CMPRS_NAME = "DISCRETE COSINE TRANSFORMATION (DCT)"
INST_CMPRS_RATIO = 11.8874
INST_CMPRS_QUALITY = 0
INST_CMPRS_QUANTZ_TBL_ID = 0
INSTRUMENT_TEMPERATURE = 11.234
LENS_TEMPERATURE = 8.1755
MACROPIXEL_SIZE = 2
MISSING_FRAMES = 0
PIXEL_SUBSAMPLING_FLAG = N
SIGNAL_CHAIN_ID = 3
/* RADIOMETRIC DATA ELEMENTS */
BANDWIDTH = 174.0
CENTER_FILTER_WAVELENGTH = 675.0
RADIANCE_OFFSET = 1.35213
RADIANCE_SCALING_FACTOR = 0.0139792
REFLECTANCE_SCALING_FACTOR = 0.000442851
MEX:REFLECTANCE_OFFSET = 0.0428344
/* IMAGE OBJECT DEFINITIONS */
OBJECT = IMAGE
  INTERCHANGE_FORMAT = BINARY
  LINES = 16795
  LINE_SAMPLES = 3142
  SAMPLE_TYPE = UNSIGNED_INTEGER
  SAMPLE_BITS = 8
  BANDS = 1
  BAND_STORAGE_TYPE = BAND_SEQUENTIAL
  MAXIMUM = 255
  MEAN = 87.7721
  MINIMUM = 1
  STANDARD_DEVIATION = 21.5115
END_OBJECT = IMAGE
/* MAP OBJECT DEFINITIONS */
OBJECT = IMAGE_MAP_PROJECTION
  ^DATA_SET_MAP_PROJECTION_CATALOG= "DSMAP.CAT"
  A_AXIS_RADIUS = 3396.0
  B_AXIS_RADIUS = 3396.0
  C_AXIS_RADIUS = 3396.0
  CENTER_LATITUDE = 0.0
  CENTER_LONGITUDE = 299.0
  COORDINATE_SYSTEM_NAME = PLANETOGRAPHIC
  COORDINATE_SYSTEM_TYPE = "BODY-FIXED ROTATING"
  EASTERNMOST_LONGITUDE = 300.354
  FIRST_STANDARD_PARALLEL = "N/A"
  LINE_FIRST_PIXEL = 1
  LINE_LAST_PIXEL = 16795
  LINE_PROJECTION_OFFSET = 25874.25
  MAP_PROJECTION_ROTATION = 0.0
  MAP_PROJECTION_TYPE = SINUSOIDAL
  MAP_RESOLUTION = 1185.42760773333
  MAP_SCALE = 0.05
  MAXIMUM_LATITUDE = 21.8603
  MINIMUM_LATITUDE = 7.60834
  POSITIVE_LONGITUDE_DIRECTION = EAST
  REFERENCE_LATITUDE = "N/A"
  REFERENCE_LONGITUDE = "N/A"
  SAMPLE_FIRST_PIXEL = 1
  SAMPLE_LAST_PIXEL = 3142
  SAMPLE_PROJECTION_OFFSET = 1772.25
  SECOND_STANDARD_PARALLEL = "N/A"
  WESTERNMOST_LONGITUDE = 297.361
END_OBJECT = IMAGE_MAP_PROJECTION
/* The JPEG2000 image data file associated with this label. */
OBJECT = COMPRESSED_FILE
  FILE_NAME = "H8325_0000_P13.JP2"
  RECORD_TYPE = UNDEFINED
  FILE_RECORDS = UNK
  ENCODING_TYPE = "JP2"
  INTERCHANGE_FORMAT = BINARY
  UNCOMPRESSED_FILE_NAME = "H8325_0000_P13.IMG"
  REQUIRED_STORAGE_BYTES = "52791884"
  ^DESCRIPTION = "JP2INFO.TXT"
END_OBJECT = COMPRESSED_FILE
END
