PDS_VERSION_ID = PDS3
/* FILE DATA ELEMENTS */
RECORD_TYPE = STREAM
/* POINTERS TO DATA OBJECTS */
^COMPRESSED_FILE = "H8329_0000_S13.JP2"
/* IDENTIFICATION DATA ELEMENTS */
DATA_SET_ID = "MEX-M-HRSC-5-REFDR-MAPPROJECTED-V3.0"
DATA_SET_NAME = "MARS EXPRESS HRSC MAP PROJECTED REFDR V3.0"
DETECTOR_ID = MEX_HRSC_S1
EVENT_TYPE = "MARS-REGIONAL-MAPPING-Vo-Te-Gl"
INSTRUMENT_HOST_ID = MEX
INSTRUMENT_HOST_NAME = "MARS EXPRESS"
INSTRUMENT_ID = HRSC
INSTRUMENT_NAME = "HIGH RESOLUTION STEREO CAMERA"
MISSION_NAME = "MARS EXPRESS"
MISSION_PHASE_NAME = ME_Phase_21
PROCESSING_LEVEL_ID = 3
PRODUCT_CREATION_TIME = 2016-10-25T14:43:05.000Z
PRODUCT_ID = "H8329_0000_S13.JP2"
RELEASE_ID = 0091
REVISION_ID = 0000
/* QUALITY DATA ELEMENTS */
DATA_QUALITY_ID = 1
DATA_QUALITY_DESC = "Data calculated based on original SPICE kernels"
/* TIME DATA ELEMENTS */
SPACECRAFT_CLOCK_START_COUNT = "1/0226417836.08246"
SPACECRAFT_CLOCK_STOP_COUNT = "1/0226418161.32725"
START_TIME = 2010-07-05T13:52:36.516Z
STOP_TIME = 2010-07-05T13:56:02.133Z
/* ORBITAL DATA ELEMENTS */
ASCENDING_NODE_LONGITUDE = 58.24
MAXIMUM_RESOLUTION = 53.8
FOOTPRINT_POINT_LATITUDE = (12.759,12.758,12.7556,12.7537,12.7493, 12.7436,12.7363,13.0975,13.536,13.9787, 14.247,14.426,14.697,14.8776,15.06, 15.3334,15.6096,15.7932,15.9791,16.1646 ,16.3519,16.5392,16.7276,16.9164, 17.1064,17.2967,17.4882,17.6803,17.8738 ,18.067,18.2619,18.457,18.6536,18.9498, 19.148,19.3474,19.6478,19.849,20.0515, 20.3559,20.6625,20.8676,21.0738,21.2807 ,21.4886,21.6972,21.9062,22.1167, 22.3932,22.4014,22.4067,22.4118,22.4151 ,22.4161,22.417,22.4142,22.4115,22.4094 ,22.405,22.1931,21.9829,21.6686,21.3565 ,21.0465,20.738,20.4319,20.2282,20.0262 ,19.7246,19.524,19.3248,19.0272,18.8295 ,18.6334,18.3401,18.1449,17.9517, 17.7579,17.5661,17.3742,17.184,16.9935, 16.8048,16.6159,16.4289,16.2414,16.0558 ,15.7774,15.5935,15.3176,15.1353, 14.9523,14.7717,14.4999,14.231,14.0516, 13.6965,13.2562,12.8201,12.759)
FOOTPRINT_POINT_LONGITUDE = (252.334,252.025,251.672,251.474, 251.121,250.768,250.393,250.305,250.282 ,250.258,250.244,250.234,250.219, 250.209,250.198,250.183,250.167,250.156 ,250.145,250.134,250.123,250.112, 250.101,250.089,250.077,250.066,250.054 ,250.042,250.03,250.017,250.005,249.992 ,249.979,249.96,249.947,249.933,249.913 ,249.899,249.886,249.864,249.843, 249.828,249.813,249.798,249.783,249.767 ,249.751,249.735,249.934,250.28,250.532 ,250.846,251.222,251.473,251.756,252.04 ,252.417,252.669,252.965,252.954, 252.943,252.927,252.912,252.897,252.883 ,252.868,252.859,252.85,252.837,252.828 ,252.82,252.807,252.799,252.791,252.779 ,252.771,252.764,252.756,252.749, 252.742,252.735,252.728,252.721,252.714 ,252.708,252.701,252.695,252.685, 252.679,252.67,252.665,252.659,252.653, 252.645,252.637,252.631,252.621,252.609 ,252.597,252.334)
ORBIT_NUMBER = 8329
ORBITAL_ECCENTRICITY = 0.58
ORBITAL_INCLINATION = 86.81
ORBITAL_SEMIMAJOR_AXIS = 8856.3
PERIAPSIS_ALTITUDE = 327.52
PERIAPSIS_ARGUMENT_ANGLE = 338.8
PERIAPSIS_TIME = 2010-07-05T13:42:32.000Z
SPACECRAFT_ORIENTATION = (0.0,1.0,0.0)
^MEX_ORIENTATION_DESC = "MEX_ORIENTATION_DESC.TXT"
SPACECRAFT_POINTING_MODE = NADIR
^MEX_POINTING_DESC = "MEX_POINTING_DESC.TXT"
RIGHT_ASCENSION = -1e+32
DECLINATION = -1e+32
OFFSET_ANGLE = -1e+32
SPACECRAFT_SOLAR_DISTANCE = 2.42532e+08
TARGET_NAME = MARS
/* CAMERA DATA ELEMENTS */
DETECTOR_TEMPERATURE = 17.1471
FOCAL_PLANE_TEMPERATURE = 7.7677
INST_CMPRS_NAME = "DISCRETE COSINE TRANSFORMATION (DCT)"
INST_CMPRS_RATIO = 11.9499
INST_CMPRS_QUALITY = 0
INST_CMPRS_QUANTZ_TBL_ID = 0
INSTRUMENT_TEMPERATURE = 10.8262
LENS_TEMPERATURE = 8.1755
MACROPIXEL_SIZE = 2
MISSING_FRAMES = 0
PIXEL_SUBSAMPLING_FLAG = N
SIGNAL_CHAIN_ID = 1
/* RADIOMETRIC DATA ELEMENTS */
BANDWIDTH = 180.0
CENTER_FILTER_WAVELENGTH = 677.0
RADIANCE_OFFSET = 2.20678
RADIANCE_SCALING_FACTOR = 0.0114937
REFLECTANCE_SCALING_FACTOR = 0.000352727
MEX:REFLECTANCE_OFFSET = 0.0677235
/* IMAGE OBJECT DEFINITIONS */
OBJECT = IMAGE
  INTERCHANGE_FORMAT = BINARY
  LINES = 11465
  LINE_SAMPLES = 3151
  SAMPLE_TYPE = UNSIGNED_INTEGER
  SAMPLE_BITS = 8
  BANDS = 1
  BAND_STORAGE_TYPE = BAND_SEQUENTIAL
  MAXIMUM = 255
  MEAN = 146.886
  MINIMUM = 6
  STANDARD_DEVIATION = 27.3194
END_OBJECT = IMAGE
/* MAP OBJECT DEFINITIONS */
OBJECT = IMAGE_MAP_PROJECTION
  ^DATA_SET_MAP_PROJECTION_CATALOG= "DSMAP.CAT"
  A_AXIS_RADIUS = 3396.0
  B_AXIS_RADIUS = 3396.0
  C_AXIS_RADIUS = 3396.0
  CENTER_LATITUDE = 0.0
  CENTER_LONGITUDE = 251.0
  COORDINATE_SYSTEM_NAME = PLANETOGRAPHIC
  COORDINATE_SYSTEM_TYPE = "BODY-FIXED ROTATING"
  EASTERNMOST_LONGITUDE = 252.965
  FIRST_STANDARD_PARALLEL = "N/A"
  LINE_FIRST_PIXEL = 1
  LINE_LAST_PIXEL = 11465
  LINE_PROJECTION_OFFSET = 26561.75
  MAP_PROJECTION_ROTATION = 0.0
  MAP_PROJECTION_TYPE = SINUSOIDAL
  MAP_RESOLUTION = 1185.42760773333
  MAP_SCALE = 0.05
  MAXIMUM_LATITUDE = 22.417
  MINIMUM_LATITUDE = 12.7363
  POSITIVE_LONGITUDE_DIRECTION = EAST
  REFERENCE_LATITUDE = "N/A"
  REFERENCE_LONGITUDE = "N/A"
  SAMPLE_FIRST_PIXEL = 1
  SAMPLE_LAST_PIXEL = 3151
  SAMPLE_PROJECTION_OFFSET = 1193.75
  SECOND_STANDARD_PARALLEL = "N/A"
  WESTERNMOST_LONGITUDE = 249.735
END_OBJECT = IMAGE_MAP_PROJECTION
/* The JPEG2000 image data file associated with this label. */
OBJECT = COMPRESSED_FILE
  FILE_NAME = "H8329_0000_S13.JP2"
  RECORD_TYPE = UNDEFINED
  FILE_RECORDS = UNK
  ENCODING_TYPE = "JP2"
  INTERCHANGE_FORMAT = BINARY
  UNCOMPRESSED_FILE_NAME = "H8329_0000_S13.IMG"
  REQUIRED_STORAGE_BYTES = "36148272"
  ^DESCRIPTION = "JP2INFO.TXT"
END_OBJECT = COMPRESSED_FILE
END
