PDS_VERSION_ID = PDS3
/* FILE DATA ELEMENTS */
RECORD_TYPE = STREAM
/* POINTERS TO DATA OBJECTS */
^COMPRESSED_FILE = "H8343_0000_IR3.JP2"
/* IDENTIFICATION DATA ELEMENTS */
DATA_SET_ID = "MEX-M-HRSC-5-REFDR-MAPPROJECTED-V3.0"
DATA_SET_NAME = "MARS EXPRESS HRSC MAP PROJECTED REFDR V3.0"
DETECTOR_ID = MEX_HRSC_IR
EVENT_TYPE = "MARS-REGIONAL-MAPPING-Vo"
INSTRUMENT_HOST_ID = MEX
INSTRUMENT_HOST_NAME = "MARS EXPRESS"
INSTRUMENT_ID = HRSC
INSTRUMENT_NAME = "HIGH RESOLUTION STEREO CAMERA"
MISSION_NAME = "MARS EXPRESS"
MISSION_PHASE_NAME = ME_Phase_21
PROCESSING_LEVEL_ID = 3
PRODUCT_CREATION_TIME = 2016-10-25T14:43:05.000Z
PRODUCT_ID = "H8343_0000_IR3.JP2"
RELEASE_ID = 0091
REVISION_ID = 0000
/* QUALITY DATA ELEMENTS */
DATA_QUALITY_ID = 1
DATA_QUALITY_DESC = "Data calculated based on original SPICE kernels"
/* TIME DATA ELEMENTS */
SPACECRAFT_CLOCK_START_COUNT = "1/0226770228.08251"
SPACECRAFT_CLOCK_STOP_COUNT = "1/0226770491.22089"
START_TIME = 2010-07-09T15:45:12.687Z
STOP_TIME = 2010-07-09T15:47:59.012Z
/* ORBITAL DATA ELEMENTS */
ASCENDING_NODE_LONGITUDE = 57.96
MAXIMUM_RESOLUTION = 82.3
FOOTPRINT_POINT_LATITUDE = (2.55763,2.55421,2.55047,2.5471,2.54232 ,2.65417,2.98292,3.31055,3.64264, 3.80906,3.97527,4.14315,4.31221,4.48082 ,4.64919,4.90532,5.07627,5.24694, 5.41893,5.59247,5.76567,5.93858,6.20188 ,6.3774,6.55236,6.72994,6.90782,7.08518 ,7.35453,7.53438,7.71393,7.89624, 8.07855,8.26055,8.44521,8.62954,8.81345 ,8.99981,9.27931,9.46733,9.65594, 9.84422,10.1327,10.3247,10.519,10.7151, 10.909,11.2034,11.3996,11.5127,11.5119, 11.514,11.5185,11.5221,11.5242,11.5249, 11.524,11.3274,11.1324,10.8402,10.6472, 10.3582,10.072,9.88116,9.69265,9.50383, 9.31562,9.12924,8.94236,8.66492,8.48052 ,8.29559,8.11341,7.93088,7.74817, 7.56843,7.38837,7.11867,6.94084,6.76281 ,6.58465,6.40938,6.14581,5.97012, 5.79714,5.62377,5.45001,5.19246,5.02148 ,4.85008,4.67892,4.5103,4.34148,4.17246 ,4.00423,3.67141,3.3385,3.0105,2.60034, 2.55763)
FOOTPRINT_POINT_LONGITUDE = (260.128,259.739,259.398,259.139, 258.814,258.64,258.628,258.617,258.604, 258.598,258.592,258.585,258.579,258.572 ,258.566,258.556,258.549,258.542, 258.535,258.528,258.521,258.514,258.503 ,258.496,258.488,258.48,258.473,258.465 ,258.453,258.445,258.437,258.429, 258.421,258.413,258.404,258.396,258.387 ,258.379,258.365,258.356,258.347, 258.338,258.325,258.316,258.308,258.299 ,258.29,258.276,258.266,258.553,258.784 ,259.037,259.376,259.778,260.138, 260.329,260.526,260.522,260.517,260.51, 260.505,260.499,260.492,260.488,260.484 ,260.479,260.475,260.471,260.467, 260.462,260.458,260.454,260.45,260.447, 260.443,260.44,260.436,260.431,260.428, 260.425,260.422,260.419,260.414,260.411 ,260.408,260.405,260.402,260.398, 260.395,260.393,260.39,260.388,260.385, 260.382,260.38,260.375,260.371,260.366, 260.361,260.128)
ORBIT_NUMBER = 8343
ORBITAL_ECCENTRICITY = 0.58
ORBITAL_INCLINATION = 86.82
ORBITAL_SEMIMAJOR_AXIS = 8852.17
PERIAPSIS_ALTITUDE = 326.89
PERIAPSIS_ARGUMENT_ANGLE = 336.4
PERIAPSIS_TIME = 2010-07-09T15:37:45.000Z
SPACECRAFT_ORIENTATION = (0.0,1.0,0.0)
^MEX_ORIENTATION_DESC = "MEX_ORIENTATION_DESC.TXT"
SPACECRAFT_POINTING_MODE = NADIR
^MEX_POINTING_DESC = "MEX_POINTING_DESC.TXT"
RIGHT_ASCENSION = -1e+32
DECLINATION = -1e+32
OFFSET_ANGLE = -1e+32
SPACECRAFT_SOLAR_DISTANCE = 2.4198e+08
TARGET_NAME = MARS
/* CAMERA DATA ELEMENTS */
DETECTOR_TEMPERATURE = 17.5549
FOCAL_PLANE_TEMPERATURE = 7.7677
INST_CMPRS_NAME = "DISCRETE COSINE TRANSFORMATION (DCT)"
INST_CMPRS_RATIO = 11.2727
INST_CMPRS_QUALITY = 0
INST_CMPRS_QUANTZ_TBL_ID = 0
INSTRUMENT_TEMPERATURE = 10.8262
LENS_TEMPERATURE = 8.1755
MACROPIXEL_SIZE = 4
MISSING_FRAMES = 0
PIXEL_SUBSAMPLING_FLAG = N
SIGNAL_CHAIN_ID = 2
/* RADIOMETRIC DATA ELEMENTS */
BANDWIDTH = 81.0
CENTER_FILTER_WAVELENGTH = 955.5
RADIANCE_OFFSET = 0.607537
RADIANCE_SCALING_FACTOR = 0.00194932
REFLECTANCE_SCALING_FACTOR = 0.000246245
MEX:REFLECTANCE_OFFSET = 0.0767462
/* IMAGE OBJECT DEFINITIONS */
OBJECT = IMAGE
  INTERCHANGE_FORMAT = BINARY
  LINES = 10608
  LINE_SAMPLES = 2514
  SAMPLE_TYPE = UNSIGNED_INTEGER
  SAMPLE_BITS = 8
  BANDS = 1
  BAND_STORAGE_TYPE = BAND_SEQUENTIAL
  MAXIMUM = 255
  MEAN = 126.871
  MINIMUM = 1
  STANDARD_DEVIATION = 33.3982
END_OBJECT = IMAGE
/* MAP OBJECT DEFINITIONS */
OBJECT = IMAGE_MAP_PROJECTION
  ^DATA_SET_MAP_PROJECTION_CATALOG= "DSMAP.CAT"
  A_AXIS_RADIUS = 3396.0
  B_AXIS_RADIUS = 3396.0
  C_AXIS_RADIUS = 3396.0
  CENTER_LATITUDE = 0.0
  CENTER_LONGITUDE = 259.0
  COORDINATE_SYSTEM_NAME = PLANETOGRAPHIC
  COORDINATE_SYSTEM_TYPE = "BODY-FIXED ROTATING"
  EASTERNMOST_LONGITUDE = 260.526
  FIRST_STANDARD_PARALLEL = "N/A"
  LINE_FIRST_PIXEL = 1
  LINE_LAST_PIXEL = 10608
  LINE_PROJECTION_OFFSET = 13619.875
  MAP_PROJECTION_ROTATION = 0.0
  MAP_PROJECTION_TYPE = SINUSOIDAL
  MAP_RESOLUTION = 1185.42760773333
  MAP_SCALE = 0.05
  MAXIMUM_LATITUDE = 11.5249
  MINIMUM_LATITUDE = 2.54232
  POSITIVE_LONGITUDE_DIRECTION = EAST
  REFERENCE_LATITUDE = "N/A"
  REFERENCE_LONGITUDE = "N/A"
  SAMPLE_FIRST_PIXEL = 1
  SAMPLE_LAST_PIXEL = 2514
  SAMPLE_PROJECTION_OFFSET = 796.375
  SECOND_STANDARD_PARALLEL = "N/A"
  WESTERNMOST_LONGITUDE = 258.266
END_OBJECT = IMAGE_MAP_PROJECTION
/* The JPEG2000 image data file associated with this label. */
OBJECT = COMPRESSED_FILE
  FILE_NAME = "H8343_0000_IR3.JP2"
  RECORD_TYPE = UNDEFINED
  FILE_RECORDS = UNK
  ENCODING_TYPE = "JP2"
  INTERCHANGE_FORMAT = BINARY
  UNCOMPRESSED_FILE_NAME = "H8343_0000_IR3.IMG"
  REQUIRED_STORAGE_BYTES = "26688624"
  ^DESCRIPTION = "JP2INFO.TXT"
END_OBJECT = COMPRESSED_FILE
END
