PDS_VERSION_ID = PDS3
/* FILE DATA ELEMENTS */
RECORD_TYPE = STREAM
/* POINTERS TO DATA OBJECTS */
^COMPRESSED_FILE = "H8343_0000_P23.JP2"
/* IDENTIFICATION DATA ELEMENTS */
DATA_SET_ID = "MEX-M-HRSC-5-REFDR-MAPPROJECTED-V3.0"
DATA_SET_NAME = "MARS EXPRESS HRSC MAP PROJECTED REFDR V3.0"
DETECTOR_ID = MEX_HRSC_P2
EVENT_TYPE = "MARS-REGIONAL-MAPPING-Vo"
INSTRUMENT_HOST_ID = MEX
INSTRUMENT_HOST_NAME = "MARS EXPRESS"
INSTRUMENT_ID = HRSC
INSTRUMENT_NAME = "HIGH RESOLUTION STEREO CAMERA"
MISSION_NAME = "MARS EXPRESS"
MISSION_PHASE_NAME = ME_Phase_21
PROCESSING_LEVEL_ID = 3
PRODUCT_CREATION_TIME = 2016-10-25T14:43:05.000Z
PRODUCT_ID = "H8343_0000_P23.JP2"
RELEASE_ID = 0091
REVISION_ID = 0000
/* QUALITY DATA ELEMENTS */
DATA_QUALITY_ID = 1
DATA_QUALITY_DESC = "Data calculated based on original SPICE kernels"
/* TIME DATA ELEMENTS */
SPACECRAFT_CLOCK_START_COUNT = "1/0226770228.08251"
SPACECRAFT_CLOCK_STOP_COUNT = "1/0226770491.22089"
START_TIME = 2010-07-09T15:44:04.653Z
STOP_TIME = 2010-07-09T15:46:26.655Z
/* ORBITAL DATA ELEMENTS */
ASCENDING_NODE_LONGITUDE = 57.96
MAXIMUM_RESOLUTION = 36.6
FOOTPRINT_POINT_LATITUDE = (2.5517,2.54747,2.54552,2.54247,2.54016 ,2.51193,2.75588,3.08084,3.40533, 3.65357,3.98504,4.31617,4.4841,4.65326, 4.82229,5.07577,5.3312,5.50355,5.67583, 5.84806,6.01998,6.28207,6.4576,6.63322, 6.80859,6.98579,7.16475,7.34345,7.52195 ,7.70038,7.88194,8.06376,8.24539, 8.42696,8.61115,8.79622,8.98099,9.16594 ,9.35335,9.54155,9.72951,10.0121, 10.2021,10.3927,10.5819,10.7737,10.9664 ,11.1595,11.4185,11.4278,11.4317, 11.4352,11.4402,11.4435,11.4462,11.4502 ,11.3529,11.1591,10.9648,10.6736, 10.4827,10.2915,10.1001,9.90997,9.722, 9.53389,9.34546,9.1584,8.9735,8.78849, 8.60318,8.41939,8.23756,8.05573,7.87371 ,7.69257,7.51394,7.33528,7.15634, 6.88851,6.71308,6.53752,6.36183,6.09831 ,5.92615,5.7538,5.58136,5.40887,5.23654 ,5.06764,4.8984,4.64471,4.39085,4.14232 ,3.81065,3.64472,3.39711,3.07234, 2.74704,2.5517)
FOOTPRINT_POINT_LONGITUDE = (260.057,259.721,259.553,259.263, 259.019,258.72,258.713,258.703,258.693, 258.685,258.675,258.664,258.659,258.653 ,258.647,258.639,258.63,258.625,258.619 ,258.613,258.607,258.598,258.592, 258.585,258.579,258.573,258.566,258.56, 258.553,258.546,258.54,258.533,258.526, 258.519,258.512,258.505,258.498,258.491 ,258.483,258.476,258.469,258.457,258.45 ,258.443,258.436,258.429,258.421, 258.414,258.403,258.763,258.953,259.201 ,259.564,259.793,259.984,260.233, 260.372,260.369,260.367,260.362,260.36, 260.357,260.354,260.352,260.349,260.347 ,260.344,260.342,260.34,260.337,260.335 ,260.333,260.33,260.328,260.326,260.324 ,260.322,260.32,260.318,260.315,260.313 ,260.311,260.309,260.307,260.305, 260.303,260.302,260.3,260.298,260.297, 260.295,260.293,260.291,260.288,260.286 ,260.284,260.282,260.28,260.277, 260.057)
ORBIT_NUMBER = 8343
ORBITAL_ECCENTRICITY = 0.58
ORBITAL_INCLINATION = 86.82
ORBITAL_SEMIMAJOR_AXIS = 8852.17
PERIAPSIS_ALTITUDE = 326.89
PERIAPSIS_ARGUMENT_ANGLE = 336.4
PERIAPSIS_TIME = 2010-07-09T15:37:45.000Z
SPACECRAFT_ORIENTATION = (0.0,1.0,0.0)
^MEX_ORIENTATION_DESC = "MEX_ORIENTATION_DESC.TXT"
SPACECRAFT_POINTING_MODE = NADIR
^MEX_POINTING_DESC = "MEX_POINTING_DESC.TXT"
RIGHT_ASCENSION = -1e+32
DECLINATION = -1e+32
OFFSET_ANGLE = -1e+32
SPACECRAFT_SOLAR_DISTANCE = 2.4198e+08
TARGET_NAME = MARS
/* CAMERA DATA ELEMENTS */
DETECTOR_TEMPERATURE = 18.3705
FOCAL_PLANE_TEMPERATURE = 7.7677
INST_CMPRS_NAME = "DISCRETE COSINE TRANSFORMATION (DCT)"
INST_CMPRS_RATIO = 7.51727
INST_CMPRS_QUALITY = 0
INST_CMPRS_QUANTZ_TBL_ID = 0
INSTRUMENT_TEMPERATURE = 10.8262
LENS_TEMPERATURE = 8.1755
MACROPIXEL_SIZE = 2
MISSING_FRAMES = 0
PIXEL_SUBSAMPLING_FLAG = N
SIGNAL_CHAIN_ID = 3
/* RADIOMETRIC DATA ELEMENTS */
BANDWIDTH = 177.0
CENTER_FILTER_WAVELENGTH = 676.5
RADIANCE_OFFSET = 2.30503
RADIANCE_SCALING_FACTOR = 0.00854267
REFLECTANCE_SCALING_FACTOR = 0.000265221
MEX:REFLECTANCE_OFFSET = 0.0715633
/* IMAGE OBJECT DEFINITIONS */
OBJECT = IMAGE
  INTERCHANGE_FORMAT = BINARY
  LINES = 21215
  LINE_SAMPLES = 5027
  SAMPLE_TYPE = UNSIGNED_INTEGER
  SAMPLE_BITS = 8
  BANDS = 1
  BAND_STORAGE_TYPE = BAND_SEQUENTIAL
  MAXIMUM = 255
  MEAN = 118.441
  MINIMUM = 1
  STANDARD_DEVIATION = 27.0252
END_OBJECT = IMAGE
/* MAP OBJECT DEFINITIONS */
OBJECT = IMAGE_MAP_PROJECTION
  ^DATA_SET_MAP_PROJECTION_CATALOG= "DSMAP.CAT"
  A_AXIS_RADIUS = 3396.0
  B_AXIS_RADIUS = 3396.0
  C_AXIS_RADIUS = 3396.0
  CENTER_LATITUDE = 0.0
  CENTER_LONGITUDE = 259.0
  COORDINATE_SYSTEM_NAME = PLANETOGRAPHIC
  COORDINATE_SYSTEM_TYPE = "BODY-FIXED ROTATING"
  EASTERNMOST_LONGITUDE = 260.372
  FIRST_STANDARD_PARALLEL = "N/A"
  LINE_FIRST_PIXEL = 1
  LINE_LAST_PIXEL = 21215
  LINE_PROJECTION_OFFSET = 27240.25
  MAP_PROJECTION_ROTATION = 0.0
  MAP_PROJECTION_TYPE = SINUSOIDAL
  MAP_RESOLUTION = 2370.85521546667
  MAP_SCALE = 0.025
  MAXIMUM_LATITUDE = 11.4502
  MINIMUM_LATITUDE = 2.51193
  POSITIVE_LONGITUDE_DIRECTION = EAST
  REFERENCE_LATITUDE = "N/A"
  REFERENCE_LONGITUDE = "N/A"
  SAMPLE_FIRST_PIXEL = 1
  SAMPLE_LAST_PIXEL = 5027
  SAMPLE_PROJECTION_OFFSET = 1593.25
  SECOND_STANDARD_PARALLEL = "N/A"
  WESTERNMOST_LONGITUDE = 258.403
END_OBJECT = IMAGE_MAP_PROJECTION
/* The JPEG2000 image data file associated with this label. */
OBJECT = COMPRESSED_FILE
  FILE_NAME = "H8343_0000_P23.JP2"
  RECORD_TYPE = UNDEFINED
  FILE_RECORDS = UNK
  ENCODING_TYPE = "JP2"
  INTERCHANGE_FORMAT = BINARY
  UNCOMPRESSED_FILE_NAME = "H8343_0000_P23.IMG"
  REQUIRED_STORAGE_BYTES = "106672940"
  ^DESCRIPTION = "JP2INFO.TXT"
END_OBJECT = COMPRESSED_FILE
END
