PDS_VERSION_ID = PDS3
/* FILE DATA ELEMENTS */
RECORD_TYPE = STREAM
/* POINTERS TO DATA OBJECTS */
^COMPRESSED_FILE = "H8355_0000_P13.JP2"
/* IDENTIFICATION DATA ELEMENTS */
DATA_SET_ID = "MEX-M-HRSC-5-REFDR-MAPPROJECTED-V3.0"
DATA_SET_NAME = "MARS EXPRESS HRSC MAP PROJECTED REFDR V3.0"
DETECTOR_ID = MEX_HRSC_P1
EVENT_TYPE = "MARS-REGIONAL-MAPPING-Vo-Te-Fl"
INSTRUMENT_HOST_ID = MEX
INSTRUMENT_HOST_NAME = "MARS EXPRESS"
INSTRUMENT_ID = HRSC
INSTRUMENT_NAME = "HIGH RESOLUTION STEREO CAMERA"
MISSION_NAME = "MARS EXPRESS"
MISSION_PHASE_NAME = ME_Phase_21
PROCESSING_LEVEL_ID = 3
PRODUCT_CREATION_TIME = 2016-10-25T14:43:05.000Z
PRODUCT_ID = "H8355_0000_P13.JP2"
RELEASE_ID = 0091
REVISION_ID = 0000
/* QUALITY DATA ELEMENTS */
DATA_QUALITY_ID = 1
DATA_QUALITY_DESC = "Data calculated based on original SPICE kernels"
/* TIME DATA ELEMENTS */
SPACECRAFT_CLOCK_START_COUNT = "1/0227072201.07287"
SPACECRAFT_CLOCK_STOP_COUNT = "1/0227072507.22719"
START_TIME = 2010-07-13T03:37:40.730Z
STOP_TIME = 2010-07-13T03:41:27.989Z
/* ORBITAL DATA ELEMENTS */
ASCENDING_NODE_LONGITUDE = 57.73
MAXIMUM_RESOLUTION = 63.8
FOOTPRINT_POINT_LATITUDE = (-9.41438,-9.41343,-9.41268,-9.40935, -9.03873,-8.79154,-8.54726,-8.29839, -8.05516,-7.81107,-7.44544,-7.20168, -6.95872,-6.58665,-6.33776,-6.08904, -5.841,-5.46138,-5.20828,-4.95553, -4.57247,-4.31427,-4.05624,-3.79915, -3.5364,-3.27366,-3.01236,-2.74788, -2.48057,-2.21316,-1.94694,-1.67492, -1.269,-0.994638,-0.71483,-0.441584, -0.159251,0.122278,0.401261,0.687166, 1.11384,1.40367,1.69005,1.98032,2.27389 ,2.56796,2.86704,3.16373,3.46423, 3.76543,3.93241,3.93424,3.93821,3.93965 ,3.94028,3.48586,3.18417,2.88701, 2.58896,2.29524,1.99898,1.70696,1.41762 ,1.12996,0.845765,0.418026,-0.00295442, -0.284772,-0.561577,-0.839489,-1.2547, -1.52556,-1.79793,-2.06835,-2.33576, -2.60283,-2.87107,-3.13257,-3.39568, -3.78996,-4.04664,-4.30374,-4.56231, -4.82281,-5.0757,-5.32882,-5.58224, -5.83051,-6.20657,-6.45696,-6.70628, -6.95367,-7.43587,-7.68361,-8.04872, -8.41675,-8.66219,-9.02975,-9.39987, -9.41438)
FOOTPRINT_POINT_LONGITUDE = (112.955,112.543,112.134,111.838, 111.831,111.827,111.821,111.817,111.812 ,111.806,111.798,111.793,111.787, 111.778,111.772,111.767,111.761,111.751 ,111.745,111.738,111.728,111.721, 111.714,111.707,111.7,111.693,111.685, 111.677,111.669,111.662,111.653,111.645 ,111.632,111.623,111.615,111.606, 111.598,111.589,111.579,111.569,111.555 ,111.545,111.534,111.523,111.512, 111.502,111.491,111.479,111.468,111.456 ,111.78,112.042,112.374,112.76,113.329, 113.323,113.319,113.314,113.31,113.306, 113.304,113.301,113.297,113.293,113.289 ,113.284,113.279,113.277,113.274, 113.272,113.269,113.266,113.264,113.261 ,113.259,113.256,113.254,113.252,113.25 ,113.246,113.244,113.241,113.239,113.24 ,113.238,113.236,113.234,113.229, 113.229,113.229,113.227,113.226,113.22, 113.221,113.217,113.216,113.214,113.212 ,113.21,112.955)
ORBIT_NUMBER = 8355
ORBITAL_ECCENTRICITY = 0.58
ORBITAL_INCLINATION = 86.83
ORBITAL_SEMIMAJOR_AXIS = 8843.63
PERIAPSIS_ALTITUDE = 326.18
PERIAPSIS_ARGUMENT_ANGLE = 334.33
PERIAPSIS_TIME = 2010-07-13T03:33:08.000Z
SPACECRAFT_ORIENTATION = (0.0,1.0,0.0)
^MEX_ORIENTATION_DESC = "MEX_ORIENTATION_DESC.TXT"
SPACECRAFT_POINTING_MODE = ACROSSTRACK
^MEX_POINTING_DESC = "MEX_POINTING_DESC.TXT"
RIGHT_ASCENSION = -1e+32
DECLINATION = -1e+32
OFFSET_ANGLE = -0.269
SPACECRAFT_SOLAR_DISTANCE = 2.41491e+08
TARGET_NAME = MARS
/* CAMERA DATA ELEMENTS */
DETECTOR_TEMPERATURE = 17.1471
FOCAL_PLANE_TEMPERATURE = 7.5638
INST_CMPRS_NAME = "DISCRETE COSINE TRANSFORMATION (DCT)"
INST_CMPRS_RATIO = 10.1555
INST_CMPRS_QUALITY = 0
INST_CMPRS_QUANTZ_TBL_ID = 0
INSTRUMENT_TEMPERATURE = 11.0301
LENS_TEMPERATURE = 7.9716
MACROPIXEL_SIZE = 4
MISSING_FRAMES = 0
PIXEL_SUBSAMPLING_FLAG = N
SIGNAL_CHAIN_ID = 3
/* RADIOMETRIC DATA ELEMENTS */
BANDWIDTH = 174.0
CENTER_FILTER_WAVELENGTH = 675.0
RADIANCE_OFFSET = 0.827993
RADIANCE_SCALING_FACTOR = 0.0136646
REFLECTANCE_SCALING_FACTOR = 0.000428632
MEX:REFLECTANCE_OFFSET = 0.0259726
/* IMAGE OBJECT DEFINITIONS */
OBJECT = IMAGE
  INTERCHANGE_FORMAT = BINARY
  LINES = 15855
  LINE_SAMPLES = 2187
  SAMPLE_TYPE = UNSIGNED_INTEGER
  SAMPLE_BITS = 8
  BANDS = 1
  BAND_STORAGE_TYPE = BAND_SEQUENTIAL
  MAXIMUM = 255
  MEAN = 95.4748
  MINIMUM = 1
  STANDARD_DEVIATION = 36.4339
END_OBJECT = IMAGE
/* MAP OBJECT DEFINITIONS */
OBJECT = IMAGE_MAP_PROJECTION
  ^DATA_SET_MAP_PROJECTION_CATALOG= "DSMAP.CAT"
  A_AXIS_RADIUS = 3396.0
  B_AXIS_RADIUS = 3396.0
  C_AXIS_RADIUS = 3396.0
  CENTER_LATITUDE = 0.0
  CENTER_LONGITUDE = 112.0
  COORDINATE_SYSTEM_NAME = PLANETOGRAPHIC
  COORDINATE_SYSTEM_TYPE = "BODY-FIXED ROTATING"
  EASTERNMOST_LONGITUDE = 113.329
  FIRST_STANDARD_PARALLEL = "N/A"
  LINE_FIRST_PIXEL = 1
  LINE_LAST_PIXEL = 15855
  LINE_PROJECTION_OFFSET = 4664.875
  MAP_PROJECTION_ROTATION = 0.0
  MAP_PROJECTION_TYPE = SINUSOIDAL
  MAP_RESOLUTION = 1185.42760773333
  MAP_SCALE = 0.05
  MAXIMUM_LATITUDE = 3.94028
  MINIMUM_LATITUDE = -9.41438
  POSITIVE_LONGITUDE_DIRECTION = EAST
  REFERENCE_LATITUDE = "N/A"
  REFERENCE_LONGITUDE = "N/A"
  SAMPLE_FIRST_PIXEL = 1
  SAMPLE_LAST_PIXEL = 2187
  SAMPLE_PROJECTION_OFFSET = 616.625
  SECOND_STANDARD_PARALLEL = "N/A"
  WESTERNMOST_LONGITUDE = 111.456
END_OBJECT = IMAGE_MAP_PROJECTION
/* The JPEG2000 image data file associated with this label. */
OBJECT = COMPRESSED_FILE
  FILE_NAME = "H8355_0000_P13.JP2"
  RECORD_TYPE = UNDEFINED
  FILE_RECORDS = UNK
  ENCODING_TYPE = "JP2"
  INTERCHANGE_FORMAT = BINARY
  UNCOMPRESSED_FILE_NAME = "H8355_0000_P13.IMG"
  REQUIRED_STORAGE_BYTES = "34696755"
  ^DESCRIPTION = "JP2INFO.TXT"
END_OBJECT = COMPRESSED_FILE
END
