PDS_VERSION_ID = PDS3
/* FILE DATA ELEMENTS */
RECORD_TYPE = STREAM
/* POINTERS TO DATA OBJECTS */
^COMPRESSED_FILE = "H8361_0000_GR3.JP2"
/* IDENTIFICATION DATA ELEMENTS */
DATA_SET_ID = "MEX-M-HRSC-5-REFDR-MAPPROJECTED-V3.0"
DATA_SET_NAME = "MARS EXPRESS HRSC MAP PROJECTED REFDR V3.0"
DETECTOR_ID = MEX_HRSC_GREEN
EVENT_TYPE = "MARS-REGIONAL-MAPPING-Vo"
INSTRUMENT_HOST_ID = MEX
INSTRUMENT_HOST_NAME = "MARS EXPRESS"
INSTRUMENT_ID = HRSC
INSTRUMENT_NAME = "HIGH RESOLUTION STEREO CAMERA"
MISSION_NAME = "MARS EXPRESS"
MISSION_PHASE_NAME = ME_Phase_21
PROCESSING_LEVEL_ID = 3
PRODUCT_CREATION_TIME = 2016-10-25T14:43:05.000Z
PRODUCT_ID = "H8361_0000_GR3.JP2"
RELEASE_ID = 0091
REVISION_ID = 0000
/* QUALITY DATA ELEMENTS */
DATA_QUALITY_ID = 1
DATA_QUALITY_DESC = "Data calculated based on original SPICE kernels"
/* TIME DATA ELEMENTS */
SPACECRAFT_CLOCK_START_COUNT = "1/0227223446.09061"
SPACECRAFT_CLOCK_STOP_COUNT = "1/0227223879.16010"
START_TIME = 2010-07-14T21:38:22.250Z
STOP_TIME = 2010-07-14T21:43:12.620Z
/* ORBITAL DATA ELEMENTS */
ASCENDING_NODE_LONGITUDE = 57.62
MAXIMUM_RESOLUTION = 162.2
FOOTPRINT_POINT_LATITUDE = (2.12027,2.11614,2.1102,2.23777,2.64088 ,3.18149,3.72803,4.00587,4.28293, 4.70417,4.98552,5.27026,5.5559,5.98876, 6.42496,6.7183,7.16257,7.46005,7.76171, 8.2157,8.52107,8.82874,9.13794,9.45031, 9.9221,10.3993,10.7197,11.0435,11.3689, 11.6972,12.0279,12.3608,12.6966,13.035, 13.3753,13.7185,14.0642,14.4135,14.765, 15.1195,15.4762,15.8354,16.1985,16.5645 ,16.9333,17.305,17.6796,18.0583,18.0873 ,18.0945,18.1031,18.1107,18.1155, 18.1149,17.7363,17.3609,16.9884,16.6188 ,16.2524,15.8888,15.5287,15.1713, 14.8168,14.4649,14.1149,13.7686,13.4253 ,13.0839,12.7446,12.409,12.0759,11.7445 ,11.416,11.0903,10.766,10.4452,9.9671, 9.49469,9.18164,8.87217,8.56397,8.25836 ,7.80368,7.50137,7.20327,6.9053,6.61124 ,6.31694,6.02725,5.59356,5.30786, 5.02234,4.74076,4.31893,4.04142,3.62646 ,3.35309,2.67421,2.13809,2.12027)
FOOTPRINT_POINT_LONGITUDE = (218.894,218.534,218.043,217.617, 217.603,217.582,217.562,217.551,217.54, 217.524,217.513,217.501,217.489,217.471 ,217.453,217.44,217.421,217.408,217.395 ,217.375,217.361,217.347,217.332, 217.317,217.295,217.272,217.256,217.24, 217.223,217.207,217.19,217.173,217.156, 217.138,217.119,217.1,217.081,217.061, 217.041,217.022,217.001,216.979,216.957 ,216.935,216.912,216.889,216.864, 216.841,217.238,217.614,218.122,218.791 ,219.272,219.691,219.679,219.667, 219.656,219.645,219.634,219.624,219.614 ,219.604,219.595,219.585,219.577, 219.568,219.559,219.551,219.544,219.536 ,219.529,219.521,219.515,219.508, 219.501,219.495,219.486,219.477,219.471 ,219.465,219.46,219.454,219.447,219.442 ,219.438,219.434,219.43,219.426,219.421 ,219.415,219.411,219.407,219.403, 219.398,219.394,219.389,219.386,219.378 ,219.372,218.894)
ORBIT_NUMBER = 8361
ORBITAL_ECCENTRICITY = 0.579
ORBITAL_INCLINATION = 86.84
ORBITAL_SEMIMAJOR_AXIS = 8838.37
PERIAPSIS_ALTITUDE = 325.87
PERIAPSIS_ARGUMENT_ANGLE = 333.28
PERIAPSIS_TIME = 2010-07-14T21:30:42.000Z
SPACECRAFT_ORIENTATION = (0.0,1.0,0.0)
^MEX_ORIENTATION_DESC = "MEX_ORIENTATION_DESC.TXT"
SPACECRAFT_POINTING_MODE = NADIR
^MEX_POINTING_DESC = "MEX_POINTING_DESC.TXT"
RIGHT_ASCENSION = -1e+32
DECLINATION = -1e+32
OFFSET_ANGLE = -1e+32
SPACECRAFT_SOLAR_DISTANCE = 2.41242e+08
TARGET_NAME = MARS
/* CAMERA DATA ELEMENTS */
DETECTOR_TEMPERATURE = 18.3705
FOCAL_PLANE_TEMPERATURE = 8.3794
INST_CMPRS_NAME = "DISCRETE COSINE TRANSFORMATION (DCT)"
INST_CMPRS_RATIO = 6.20274
INST_CMPRS_QUALITY = 0
INST_CMPRS_QUANTZ_TBL_ID = 0
INSTRUMENT_TEMPERATURE = 11.234
LENS_TEMPERATURE = 9.6028
MACROPIXEL_SIZE = 8
MISSING_FRAMES = 0
PIXEL_SUBSAMPLING_FLAG = N
SIGNAL_CHAIN_ID = 2
/* RADIOMETRIC DATA ELEMENTS */
BANDWIDTH = 88.0
CENTER_FILTER_WAVELENGTH = 538.0
RADIANCE_OFFSET = 0.666141
RADIANCE_SCALING_FACTOR = 0.00586539
REFLECTANCE_SCALING_FACTOR = 0.000293895
MEX:REFLECTANCE_OFFSET = 0.0333781
/* IMAGE OBJECT DEFINITIONS */
OBJECT = IMAGE
  INTERCHANGE_FORMAT = BINARY
  LINES = 4748
  LINE_SAMPLES = 818
  SAMPLE_TYPE = UNSIGNED_INTEGER
  SAMPLE_BITS = 8
  BANDS = 1
  BAND_STORAGE_TYPE = BAND_SEQUENTIAL
  MAXIMUM = 255
  MEAN = 96.1411
  MINIMUM = 1
  STANDARD_DEVIATION = 30.7758
END_OBJECT = IMAGE
/* MAP OBJECT DEFINITIONS */
OBJECT = IMAGE_MAP_PROJECTION
  ^DATA_SET_MAP_PROJECTION_CATALOG= "DSMAP.CAT"
  A_AXIS_RADIUS = 3396.0
  B_AXIS_RADIUS = 3396.0
  C_AXIS_RADIUS = 3396.0
  CENTER_LATITUDE = 0.0
  CENTER_LONGITUDE = 218.0
  COORDINATE_SYSTEM_NAME = PLANETOGRAPHIC
  COORDINATE_SYSTEM_TYPE = "BODY-FIXED ROTATING"
  EASTERNMOST_LONGITUDE = 219.691
  FIRST_STANDARD_PARALLEL = "N/A"
  LINE_FIRST_PIXEL = 1
  LINE_LAST_PIXEL = 4748
  LINE_PROJECTION_OFFSET = 5370.5625
  MAP_PROJECTION_ROTATION = 0.0
  MAP_PROJECTION_TYPE = SINUSOIDAL
  MAP_RESOLUTION = 296.356901933333
  MAP_SCALE = 0.2
  MAXIMUM_LATITUDE = 18.1155
  MINIMUM_LATITUDE = 2.1102
  POSITIVE_LONGITUDE_DIRECTION = EAST
  REFERENCE_LATITUDE = "N/A"
  REFERENCE_LONGITUDE = "N/A"
  SAMPLE_FIRST_PIXEL = 1
  SAMPLE_LAST_PIXEL = 818
  SAMPLE_PROJECTION_OFFSET = 337.4375
  SECOND_STANDARD_PARALLEL = "N/A"
  WESTERNMOST_LONGITUDE = 216.841
END_OBJECT = IMAGE_MAP_PROJECTION
/* The JPEG2000 image data file associated with this label. */
OBJECT = COMPRESSED_FILE
  FILE_NAME = "H8361_0000_GR3.JP2"
  RECORD_TYPE = UNDEFINED
  FILE_RECORDS = UNK
  ENCODING_TYPE = "JP2"
  INTERCHANGE_FORMAT = BINARY
  UNCOMPRESSED_FILE_NAME = "H8361_0000_GR3.IMG"
  REQUIRED_STORAGE_BYTES = "3901860"
  ^DESCRIPTION = "JP2INFO.TXT"
END_OBJECT = COMPRESSED_FILE
END
