PDS_VERSION_ID = PDS3
/* FILE DATA ELEMENTS */
RECORD_TYPE = STREAM
/* POINTERS TO DATA OBJECTS */
^COMPRESSED_FILE = "H8362_0000_P13.JP2"
/* IDENTIFICATION DATA ELEMENTS */
DATA_SET_ID = "MEX-M-HRSC-5-REFDR-MAPPROJECTED-V3.0"
DATA_SET_NAME = "MARS EXPRESS HRSC MAP PROJECTED REFDR V3.0"
DETECTOR_ID = MEX_HRSC_P1
EVENT_TYPE = "MARS-REGIONAL-MAPPING-Te-Im-Fl"
INSTRUMENT_HOST_ID = MEX
INSTRUMENT_HOST_NAME = "MARS EXPRESS"
INSTRUMENT_ID = HRSC
INSTRUMENT_NAME = "HIGH RESOLUTION STEREO CAMERA"
MISSION_NAME = "MARS EXPRESS"
MISSION_PHASE_NAME = ME_Phase_21
PROCESSING_LEVEL_ID = 3
PRODUCT_CREATION_TIME = 2016-10-25T14:43:05.000Z
PRODUCT_ID = "H8362_0000_P13.JP2"
RELEASE_ID = 0091
REVISION_ID = 0000
/* QUALITY DATA ELEMENTS */
DATA_QUALITY_ID = 1
DATA_QUALITY_DESC = "Data calculated based on original SPICE kernels"
/* TIME DATA ELEMENTS */
SPACECRAFT_CLOCK_START_COUNT = "1/0227248624.08252"
SPACECRAFT_CLOCK_STOP_COUNT = "1/0227249018.16373"
START_TIME = 2010-07-15T04:38:25.598Z
STOP_TIME = 2010-07-15T04:43:02.792Z
/* ORBITAL DATA ELEMENTS */
ASCENDING_NODE_LONGITUDE = 57.59
MAXIMUM_RESOLUTION = 86
FOOTPRINT_POINT_LATITUDE = (1.79735,1.79374,1.78873,1.78227, 1.92563,2.22568,2.67815,2.98236,3.29029 ,3.59483,3.89948,4.20244,4.50056, 4.80563,5.10524,5.40398,5.70187,5.99918 ,6.29569,6.73662,7.03147,7.32431, 7.76078,8.19512,8.62782,9.05916,9.34441 ,9.62984,9.91341,10.1966,10.4781,10.9, 11.1802,11.4592,11.7374,12.0152,12.2883 ,12.7011,12.9743,13.2485,13.5209, 13.7917,14.0616,14.3301,14.5983,14.8642 ,15.2633,15.527,15.7907,16.1191,16.1316 ,16.1429,16.1481,16.1507,16.1525, 16.1528,15.6238,15.0968,14.8301,14.5624 ,14.294,14.0248,13.6185,13.3476,13.0754 ,12.8014,12.5268,12.2527,11.9743, 11.6969,11.4184,11.139,10.8581,10.5767, 10.153,9.87056,9.58488,9.29969,9.01279, 8.7252,8.43865,8.00477,7.71447,7.42242, 7.12815,6.68784,6.24277,5.94622,5.65227 ,5.35284,5.05277,4.60052,4.29835,3.9945 ,3.69024,3.38516,3.07889,2.61982, 2.31773,1.79735)
FOOTPRINT_POINT_LONGITUDE = (117.105,116.73,116.288,115.812,115.275 ,115.264,115.246,115.233,115.222, 115.209,115.197,115.184,115.17,115.159, 115.145,115.132,115.118,115.105,115.092 ,115.07,115.057,115.042,115.021,114.999 ,114.976,114.954,114.939,114.924, 114.909,114.893,114.878,114.854,114.839 ,114.823,114.807,114.792,114.774,114.75 ,114.734,114.718,114.702,114.685, 114.668,114.651,114.634,114.617,114.591 ,114.573,114.556,114.775,115.317, 115.965,116.398,116.723,117.075,117.436 ,117.419,117.4,117.391,117.383,117.374, 117.366,117.354,117.345,117.337,117.329 ,117.321,117.313,117.306,117.298, 117.291,117.284,117.277,117.27,117.259, 117.252,117.245,117.238,117.232,117.225 ,117.218,117.208,117.202,117.196, 117.191,117.182,117.174,117.168,117.161 ,117.156,117.151,117.144,117.139, 117.135,117.13,117.126,117.121,117.115, 117.111,117.105)
ORBIT_NUMBER = 8362
ORBITAL_ECCENTRICITY = 0.579
ORBITAL_INCLINATION = 86.82
ORBITAL_SEMIMAJOR_AXIS = 8841.62
PERIAPSIS_ALTITUDE = 325.92
PERIAPSIS_ARGUMENT_ANGLE = 333.12
PERIAPSIS_TIME = 2010-07-15T04:30:23.000Z
SPACECRAFT_ORIENTATION = (0.0,1.0,0.0)
^MEX_ORIENTATION_DESC = "MEX_ORIENTATION_DESC.TXT"
SPACECRAFT_POINTING_MODE = NADIR
^MEX_POINTING_DESC = "MEX_POINTING_DESC.TXT"
RIGHT_ASCENSION = -1e+32
DECLINATION = -1e+32
OFFSET_ANGLE = -1e+32
SPACECRAFT_SOLAR_DISTANCE = 2.412e+08
TARGET_NAME = MARS
/* CAMERA DATA ELEMENTS */
DETECTOR_TEMPERATURE = 17.1471
FOCAL_PLANE_TEMPERATURE = 7.9716
INST_CMPRS_NAME = "DISCRETE COSINE TRANSFORMATION (DCT)"
INST_CMPRS_RATIO = 10.2856
INST_CMPRS_QUALITY = 0
INST_CMPRS_QUANTZ_TBL_ID = 0
INSTRUMENT_TEMPERATURE = 10.8262
LENS_TEMPERATURE = 8.3794
MACROPIXEL_SIZE = 4
MISSING_FRAMES = 0
PIXEL_SUBSAMPLING_FLAG = N
SIGNAL_CHAIN_ID = 3
/* RADIOMETRIC DATA ELEMENTS */
BANDWIDTH = 174.0
CENTER_FILTER_WAVELENGTH = 675.0
RADIANCE_OFFSET = 1.80906
RADIANCE_SCALING_FACTOR = 0.0116848
REFLECTANCE_SCALING_FACTOR = 0.000365647
MEX:REFLECTANCE_OFFSET = 0.05661
/* IMAGE OBJECT DEFINITIONS */
OBJECT = IMAGE
  INTERCHANGE_FORMAT = BINARY
  LINES = 8535
  LINE_SAMPLES = 1555
  SAMPLE_TYPE = UNSIGNED_INTEGER
  SAMPLE_BITS = 8
  BANDS = 1
  BAND_STORAGE_TYPE = BAND_SEQUENTIAL
  MAXIMUM = 255
  MEAN = 119.865
  MINIMUM = 1
  STANDARD_DEVIATION = 24.3388
END_OBJECT = IMAGE
/* MAP OBJECT DEFINITIONS */
OBJECT = IMAGE_MAP_PROJECTION
  ^DATA_SET_MAP_PROJECTION_CATALOG= "DSMAP.CAT"
  A_AXIS_RADIUS = 3396.0
  B_AXIS_RADIUS = 3396.0
  C_AXIS_RADIUS = 3396.0
  CENTER_LATITUDE = 0.0
  CENTER_LONGITUDE = 116.0
  COORDINATE_SYSTEM_NAME = PLANETOGRAPHIC
  COORDINATE_SYSTEM_TYPE = "BODY-FIXED ROTATING"
  EASTERNMOST_LONGITUDE = 117.436
  FIRST_STANDARD_PARALLEL = "N/A"
  LINE_FIRST_PIXEL = 1
  LINE_LAST_PIXEL = 8535
  LINE_PROJECTION_OFFSET = 9579.125
  MAP_PROJECTION_ROTATION = 0.0
  MAP_PROJECTION_TYPE = SINUSOIDAL
  MAP_RESOLUTION = 592.713803866667
  MAP_SCALE = 0.1
  MAXIMUM_LATITUDE = 16.1528
  MINIMUM_LATITUDE = 1.78227
  POSITIVE_LONGITUDE_DIRECTION = EAST
  REFERENCE_LATITUDE = "N/A"
  REFERENCE_LONGITUDE = "N/A"
  SAMPLE_FIRST_PIXEL = 1
  SAMPLE_LAST_PIXEL = 1555
  SAMPLE_PROJECTION_OFFSET = 787.875
  SECOND_STANDARD_PARALLEL = "N/A"
  WESTERNMOST_LONGITUDE = 114.556
END_OBJECT = IMAGE_MAP_PROJECTION
/* The JPEG2000 image data file associated with this label. */
OBJECT = COMPRESSED_FILE
  FILE_NAME = "H8362_0000_P13.JP2"
  RECORD_TYPE = UNDEFINED
  FILE_RECORDS = UNK
  ENCODING_TYPE = "JP2"
  INTERCHANGE_FORMAT = BINARY
  UNCOMPRESSED_FILE_NAME = "H8362_0000_P13.IMG"
  REQUIRED_STORAGE_BYTES = "13290585"
  ^DESCRIPTION = "JP2INFO.TXT"
END_OBJECT = COMPRESSED_FILE
END
