PDS_VERSION_ID = PDS3
/* FILE DATA ELEMENTS */
RECORD_TYPE = STREAM
/* POINTERS TO DATA OBJECTS */
^COMPRESSED_FILE = "H8371_0000_P23.JP2"
/* IDENTIFICATION DATA ELEMENTS */
DATA_SET_ID = "MEX-M-HRSC-5-REFDR-MAPPROJECTED-V3.0"
DATA_SET_NAME = "MARS EXPRESS HRSC MAP PROJECTED REFDR V3.0"
DETECTOR_ID = MEX_HRSC_P2
EVENT_TYPE = "MARS-REGIONAL-MAPPING-Vo"
INSTRUMENT_HOST_ID = MEX
INSTRUMENT_HOST_NAME = "MARS EXPRESS"
INSTRUMENT_ID = HRSC
INSTRUMENT_NAME = "HIGH RESOLUTION STEREO CAMERA"
MISSION_NAME = "MARS EXPRESS"
MISSION_PHASE_NAME = ME_Phase_21
PROCESSING_LEVEL_ID = 3
PRODUCT_CREATION_TIME = 2016-10-25T14:43:05.000Z
PRODUCT_ID = "H8371_0000_P23.JP2"
RELEASE_ID = 0091
REVISION_ID = 0000
/* QUALITY DATA ELEMENTS */
DATA_QUALITY_ID = 1
DATA_QUALITY_DESC = "Data calculated based on original SPICE kernels"
/* TIME DATA ELEMENTS */
SPACECRAFT_CLOCK_START_COUNT = "1/0227475170.09048"
SPACECRAFT_CLOCK_STOP_COUNT = "1/0227475650.45858"
START_TIME = 2010-07-17T19:33:06.357Z
STOP_TIME = 2010-07-17T19:38:18.748Z
/* ORBITAL DATA ELEMENTS */
ASCENDING_NODE_LONGITUDE = 57.42
MAXIMUM_RESOLUTION = 36
FOOTPRINT_POINT_LATITUDE = (-2.91597,-2.90994,-2.91797,-2.44881, -1.97347,-1.33466,-1.0098,-0.683534, -0.191689,0.140545,0.472324,0.979597, 1.31791,1.6623,2.0068,2.53061,2.88141, 3.23749,3.59475,3.95559,4.31902,4.8707, 5.42784,5.80327,6.18303,6.56395,6.95065 ,7.53558,8.12852,8.52728,8.93183, 9.33874,9.74943,10.1651,10.5842,11.0064 ,11.4345,11.8667,12.3025,12.7429, 13.1877,13.6379,14.0923,14.5516,15.0158 ,15.4848,15.9589,16.2351,16.2372, 16.2391,16.2412,16.2432,16.246,15.7679, 15.2951,14.8277,14.3653,13.9072,13.4539 ,13.0055,12.561,12.1212,11.687,11.2563, 10.8297,10.4067,9.98959,9.57554,9.16443 ,8.75898,8.15667,7.56244,7.17014, 6.78228,6.2067,5.82588,5.45015,5.07645, 4.70631,4.33826,3.97418,3.61229,3.25452 ,2.89768,2.54603,2.02081,1.67565, 1.33112,0.992373,0.483897,0.151693, -0.181003,-0.511152,-0.837491,-1.16484, -1.48858,-1.80878,-2.28865,-2.91518, -2.91597)
FOOTPRINT_POINT_LONGITUDE = (275.372,274.889,274.302,274.288, 274.274,274.254,274.244,274.234,274.218 ,274.207,274.196,274.179,274.167, 274.155,274.143,274.124,274.111,274.097 ,274.083,274.069,274.055,274.033,274.01 ,273.994,273.978,273.962,273.945, 273.919,273.892,273.874,273.855,273.835 ,273.815,273.795,273.774,273.753,273.73 ,273.708,273.684,273.661,273.636, 273.611,273.585,273.559,273.531,273.503 ,273.474,273.788,274.194,274.598, 274.999,275.399,276.056,276.047,276.038 ,276.03,276.023,276.015,276.008,276.001 ,275.994,275.988,275.982,275.976,275.97 ,275.965,275.959,275.954,275.949, 275.945,275.938,275.931,275.927,275.923 ,275.918,275.914,275.91,275.907,275.904 ,275.9,275.897,275.894,275.891,275.888, 275.885,275.881,275.878,275.876,275.873 ,275.87,275.867,275.865,275.863,275.861 ,275.859,275.856,275.854,275.851, 275.847,275.372)
ORBIT_NUMBER = 8371
ORBITAL_ECCENTRICITY = 0.58
ORBITAL_INCLINATION = 86.82
ORBITAL_SEMIMAJOR_AXIS = 8841.55
PERIAPSIS_ALTITUDE = 325.57
PERIAPSIS_ARGUMENT_ANGLE = 331.57
PERIAPSIS_TIME = 2010-07-17T19:26:57.000Z
SPACECRAFT_ORIENTATION = (0.0,1.0,0.0)
^MEX_ORIENTATION_DESC = "MEX_ORIENTATION_DESC.TXT"
SPACECRAFT_POINTING_MODE = ACROSSTRACK
^MEX_POINTING_DESC = "MEX_POINTING_DESC.TXT"
RIGHT_ASCENSION = -1e+32
DECLINATION = -1e+32
OFFSET_ANGLE = 0.63
SPACECRAFT_SOLAR_DISTANCE = 2.4082e+08
TARGET_NAME = MARS
/* CAMERA DATA ELEMENTS */
DETECTOR_TEMPERATURE = 18.5744
FOCAL_PLANE_TEMPERATURE = 8.5833
INST_CMPRS_NAME = "DISCRETE COSINE TRANSFORMATION (DCT)"
INST_CMPRS_RATIO = 7.25981
INST_CMPRS_QUALITY = 0
INST_CMPRS_QUANTZ_TBL_ID = 0
INSTRUMENT_TEMPERATURE = 11.234
LENS_TEMPERATURE = 8.7872
MACROPIXEL_SIZE = 2
MISSING_FRAMES = 0
PIXEL_SUBSAMPLING_FLAG = N
SIGNAL_CHAIN_ID = 3
/* RADIOMETRIC DATA ELEMENTS */
BANDWIDTH = 177.0
CENTER_FILTER_WAVELENGTH = 676.5
RADIANCE_OFFSET = 2.53085
RADIANCE_SCALING_FACTOR = 0.0146716
REFLECTANCE_SCALING_FACTOR = 0.000451144
MEX:REFLECTANCE_OFFSET = 0.0778223
/* IMAGE OBJECT DEFINITIONS */
OBJECT = IMAGE
  INTERCHANGE_FORMAT = BINARY
  LINES = 45500
  LINE_SAMPLES = 6502
  SAMPLE_TYPE = UNSIGNED_INTEGER
  SAMPLE_BITS = 8
  BANDS = 1
  BAND_STORAGE_TYPE = BAND_SEQUENTIAL
  MAXIMUM = 255
  MEAN = 112.16
  MINIMUM = 1
  STANDARD_DEVIATION = 37.1498
END_OBJECT = IMAGE
/* MAP OBJECT DEFINITIONS */
OBJECT = IMAGE_MAP_PROJECTION
  ^DATA_SET_MAP_PROJECTION_CATALOG= "DSMAP.CAT"
  A_AXIS_RADIUS = 3396.0
  B_AXIS_RADIUS = 3396.0
  C_AXIS_RADIUS = 3396.0
  CENTER_LATITUDE = 0.0
  CENTER_LONGITUDE = 275.0
  COORDINATE_SYSTEM_NAME = PLANETOGRAPHIC
  COORDINATE_SYSTEM_TYPE = "BODY-FIXED ROTATING"
  EASTERNMOST_LONGITUDE = 276.056
  FIRST_STANDARD_PARALLEL = "N/A"
  LINE_FIRST_PIXEL = 1
  LINE_LAST_PIXEL = 45500
  LINE_PROJECTION_OFFSET = 38589.25
  MAP_PROJECTION_ROTATION = 0.0
  MAP_PROJECTION_TYPE = SINUSOIDAL
  MAP_RESOLUTION = 2370.85521546667
  MAP_SCALE = 0.025
  MAXIMUM_LATITUDE = 16.246
  MINIMUM_LATITUDE = -2.91797
  POSITIVE_LONGITUDE_DIRECTION = EAST
  REFERENCE_LATITUDE = "N/A"
  REFERENCE_LONGITUDE = "N/A"
  SAMPLE_FIRST_PIXEL = 1
  SAMPLE_LAST_PIXEL = 6502
  SAMPLE_PROJECTION_OFFSET = 3833.25
  SECOND_STANDARD_PARALLEL = "N/A"
  WESTERNMOST_LONGITUDE = 273.474
END_OBJECT = IMAGE_MAP_PROJECTION
/* The JPEG2000 image data file associated with this label. */
OBJECT = COMPRESSED_FILE
  FILE_NAME = "H8371_0000_P23.JP2"
  RECORD_TYPE = UNDEFINED
  FILE_RECORDS = UNK
  ENCODING_TYPE = "JP2"
  INTERCHANGE_FORMAT = BINARY
  UNCOMPRESSED_FILE_NAME = "H8371_0000_P23.IMG"
  REQUIRED_STORAGE_BYTES = "295873510"
  ^DESCRIPTION = "JP2INFO.TXT"
END_OBJECT = COMPRESSED_FILE
END
