PDS_VERSION_ID = PDS3
/* FILE DATA ELEMENTS */
RECORD_TYPE = STREAM
/* POINTERS TO DATA OBJECTS */
^COMPRESSED_FILE = "H8371_0000_S13.JP2"
/* IDENTIFICATION DATA ELEMENTS */
DATA_SET_ID = "MEX-M-HRSC-5-REFDR-MAPPROJECTED-V3.0"
DATA_SET_NAME = "MARS EXPRESS HRSC MAP PROJECTED REFDR V3.0"
DETECTOR_ID = MEX_HRSC_S1
EVENT_TYPE = "MARS-REGIONAL-MAPPING-Vo"
INSTRUMENT_HOST_ID = MEX
INSTRUMENT_HOST_NAME = "MARS EXPRESS"
INSTRUMENT_ID = HRSC
INSTRUMENT_NAME = "HIGH RESOLUTION STEREO CAMERA"
MISSION_NAME = "MARS EXPRESS"
MISSION_PHASE_NAME = ME_Phase_21
PROCESSING_LEVEL_ID = 3
PRODUCT_CREATION_TIME = 2016-10-25T14:43:05.000Z
PRODUCT_ID = "H8371_0000_S13.JP2"
RELEASE_ID = 0091
REVISION_ID = 0000
/* QUALITY DATA ELEMENTS */
DATA_QUALITY_ID = 1
DATA_QUALITY_DESC = "Data calculated based on original SPICE kernels"
/* TIME DATA ELEMENTS */
SPACECRAFT_CLOCK_START_COUNT = "1/0227475170.09048"
SPACECRAFT_CLOCK_STOP_COUNT = "1/0227475650.45858"
START_TIME = 2010-07-17T19:34:21.797Z
STOP_TIME = 2010-07-17T19:40:51.349Z
/* ORBITAL DATA ELEMENTS */
ASCENDING_NODE_LONGITUDE = 57.42
MAXIMUM_RESOLUTION = 41.6
FOOTPRINT_POINT_LATITUDE = (-2.88107,-2.90318,-2.90825,-2.27457, -1.63375,-0.983112,-0.65712,-0.324697, 0.175078,0.511285,0.850601,1.36267, 1.70698,2.05521,2.58075,3.11221,3.46875 ,3.82953,4.19289,4.55814,4.92665, 5.29953,5.6746,6.05242,6.43362,6.81803, 7.20551,7.59637,7.99032,8.38755,8.78794 ,9.19187,9.59891,10.0097,10.4243, 10.8421,11.2637,11.6896,12.119,12.552, 12.9886,13.4296,13.8749,14.324,14.7769, 15.2343,15.6957,16.217,16.2539,16.2744, 16.2987,16.3119,16.3219,15.8545,15.3912 ,14.9319,14.4767,14.0259,13.5802,13.137 ,12.6982,12.2636,11.8325,11.4055, 10.9823,10.5625,10.1469,9.73492,9.3263, 8.92096,8.51925,8.1206,7.72546,7.33269, 6.94412,6.55906,6.17659,5.79721,5.42035 ,5.04695,4.67769,4.31111,3.9463,3.5849, 3.22691,2.87071,2.51757,2.1674,1.81817, 1.47175,0.958235,0.617698,0.280749, -0.220489,-0.717951,-1.04463,-1.5297, -2.17191,-2.80667,-2.88107)
FOOTPRINT_POINT_LONGITUDE = (275.474,274.934,274.208,274.185, 274.161,274.137,274.124,274.111,274.091 ,274.077,274.063,274.041,274.026, 274.011,273.987,273.962,273.945,273.927 ,273.91,273.891,273.873,273.854,273.834 ,273.814,273.793,273.773,273.751, 273.729,273.706,273.682,273.658,273.634 ,273.608,273.582,273.556,273.528,273.5, 273.471,273.441,273.411,273.379,273.347 ,273.313,273.279,273.244,273.208,273.17 ,273.349,274.109,274.613,275.333, 275.833,276.374,276.356,276.338,276.322 ,276.306,276.29,276.275,276.261,276.247 ,276.234,276.221,276.209,276.197, 276.185,276.174,276.163,276.153,276.143 ,276.133,276.124,276.115,276.106, 276.098,276.09,276.082,276.074,276.067, 276.059,276.052,276.046,276.039,276.032 ,276.026,276.02,276.014,276.008,276.003 ,275.998,275.99,275.985,275.98,275.973, 275.966,275.961,275.954,275.946,275.938 ,275.474)
ORBIT_NUMBER = 8371
ORBITAL_ECCENTRICITY = 0.58
ORBITAL_INCLINATION = 86.82
ORBITAL_SEMIMAJOR_AXIS = 8841.55
PERIAPSIS_ALTITUDE = 325.57
PERIAPSIS_ARGUMENT_ANGLE = 331.57
PERIAPSIS_TIME = 2010-07-17T19:26:57.000Z
SPACECRAFT_ORIENTATION = (0.0,1.0,0.0)
^MEX_ORIENTATION_DESC = "MEX_ORIENTATION_DESC.TXT"
SPACECRAFT_POINTING_MODE = ACROSSTRACK
^MEX_POINTING_DESC = "MEX_POINTING_DESC.TXT"
RIGHT_ASCENSION = -1e+32
DECLINATION = -1e+32
OFFSET_ANGLE = 0.63
SPACECRAFT_SOLAR_DISTANCE = 2.4082e+08
TARGET_NAME = MARS
/* CAMERA DATA ELEMENTS */
DETECTOR_TEMPERATURE = 17.5549
FOCAL_PLANE_TEMPERATURE = 8.5833
INST_CMPRS_NAME = "DISCRETE COSINE TRANSFORMATION (DCT)"
INST_CMPRS_RATIO = 12.5755
INST_CMPRS_QUALITY = 0
INST_CMPRS_QUANTZ_TBL_ID = 0
INSTRUMENT_TEMPERATURE = 11.234
LENS_TEMPERATURE = 8.7872
MACROPIXEL_SIZE = 2
MISSING_FRAMES = 0
PIXEL_SUBSAMPLING_FLAG = N
SIGNAL_CHAIN_ID = 1
/* RADIOMETRIC DATA ELEMENTS */
BANDWIDTH = 180.0
CENTER_FILTER_WAVELENGTH = 677.0
RADIANCE_OFFSET = 3.05916
RADIANCE_SCALING_FACTOR = 0.0143622
REFLECTANCE_SCALING_FACTOR = 0.000434557
MEX:REFLECTANCE_OFFSET = 0.0925606
/* IMAGE OBJECT DEFINITIONS */
OBJECT = IMAGE
  INTERCHANGE_FORMAT = BINARY
  LINES = 45500
  LINE_SAMPLES = 6502
  SAMPLE_TYPE = UNSIGNED_INTEGER
  SAMPLE_BITS = 8
  BANDS = 1
  BAND_STORAGE_TYPE = BAND_SEQUENTIAL
  MAXIMUM = 255
  MEAN = 118.54
  MINIMUM = 1
  STANDARD_DEVIATION = 39.5056
END_OBJECT = IMAGE
/* MAP OBJECT DEFINITIONS */
OBJECT = IMAGE_MAP_PROJECTION
  ^DATA_SET_MAP_PROJECTION_CATALOG= "DSMAP.CAT"
  A_AXIS_RADIUS = 3396.0
  B_AXIS_RADIUS = 3396.0
  C_AXIS_RADIUS = 3396.0
  CENTER_LATITUDE = 0.0
  CENTER_LONGITUDE = 275.0
  COORDINATE_SYSTEM_NAME = PLANETOGRAPHIC
  COORDINATE_SYSTEM_TYPE = "BODY-FIXED ROTATING"
  EASTERNMOST_LONGITUDE = 276.374
  FIRST_STANDARD_PARALLEL = "N/A"
  LINE_FIRST_PIXEL = 1
  LINE_LAST_PIXEL = 45500
  LINE_PROJECTION_OFFSET = 38589.25
  MAP_PROJECTION_ROTATION = 0.0
  MAP_PROJECTION_TYPE = SINUSOIDAL
  MAP_RESOLUTION = 2370.85521546667
  MAP_SCALE = 0.025
  MAXIMUM_LATITUDE = 16.3219
  MINIMUM_LATITUDE = -2.90825
  POSITIVE_LONGITUDE_DIRECTION = EAST
  REFERENCE_LATITUDE = "N/A"
  REFERENCE_LONGITUDE = "N/A"
  SAMPLE_FIRST_PIXEL = 1
  SAMPLE_LAST_PIXEL = 6502
  SAMPLE_PROJECTION_OFFSET = 3833.25
  SECOND_STANDARD_PARALLEL = "N/A"
  WESTERNMOST_LONGITUDE = 273.17
END_OBJECT = IMAGE_MAP_PROJECTION
/* The JPEG2000 image data file associated with this label. */
OBJECT = COMPRESSED_FILE
  FILE_NAME = "H8371_0000_S13.JP2"
  RECORD_TYPE = UNDEFINED
  FILE_RECORDS = UNK
  ENCODING_TYPE = "JP2"
  INTERCHANGE_FORMAT = BINARY
  UNCOMPRESSED_FILE_NAME = "H8371_0000_S13.IMG"
  REQUIRED_STORAGE_BYTES = "295873510"
  ^DESCRIPTION = "JP2INFO.TXT"
END_OBJECT = COMPRESSED_FILE
END
