PDS_VERSION_ID = PDS3
/* FILE DATA ELEMENTS */
RECORD_TYPE = STREAM
/* POINTERS TO DATA OBJECTS */
^COMPRESSED_FILE = "H8371_0000_S23.JP2"
/* IDENTIFICATION DATA ELEMENTS */
DATA_SET_ID = "MEX-M-HRSC-5-REFDR-MAPPROJECTED-V3.0"
DATA_SET_NAME = "MARS EXPRESS HRSC MAP PROJECTED REFDR V3.0"
DETECTOR_ID = MEX_HRSC_S2
EVENT_TYPE = "MARS-REGIONAL-MAPPING-Vo"
INSTRUMENT_HOST_ID = MEX
INSTRUMENT_HOST_NAME = "MARS EXPRESS"
INSTRUMENT_ID = HRSC
INSTRUMENT_NAME = "HIGH RESOLUTION STEREO CAMERA"
MISSION_NAME = "MARS EXPRESS"
MISSION_PHASE_NAME = ME_Phase_21
PROCESSING_LEVEL_ID = 3
PRODUCT_CREATION_TIME = 2016-10-25T14:43:05.000Z
PRODUCT_ID = "H8371_0000_S23.JP2"
RELEASE_ID = 0091
REVISION_ID = 0000
/* QUALITY DATA ELEMENTS */
DATA_QUALITY_ID = 1
DATA_QUALITY_DESC = "Data calculated based on original SPICE kernels"
/* TIME DATA ELEMENTS */
SPACECRAFT_CLOCK_START_COUNT = "1/0227475170.09048"
SPACECRAFT_CLOCK_STOP_COUNT = "1/0227475650.45858"
START_TIME = 2010-07-17T19:32:52.714Z
STOP_TIME = 2010-07-17T19:37:54.956Z
/* ORBITAL DATA ELEMENTS */
ASCENDING_NODE_LONGITUDE = 57.42
MAXIMUM_RESOLUTION = 36.5
FOOTPRINT_POINT_LATITUDE = (-2.92933,-2.91829,-2.90516,-2.45339, -1.97709,-1.65884,-1.34044,-1.01548, -0.689538,-0.365057,-0.0327898,0.298618 ,0.801009,1.14009,1.4785,1.82412, 2.16924,2.69378,3.04566,3.58198,3.94071 ,4.30513,4.67046,5.04009,5.41123, 5.78729,6.16506,6.54703,6.93089,7.32054 ,7.90986,8.30683,8.70859,9.31748, 9.93484,10.3504,10.7723,11.1969,11.6253 ,12.0597,12.4979,12.94,13.3868,13.839, 14.2957,14.7573,15.2239,15.6956,16.2445 ,16.2405,16.239,16.238,16.2375,15.9971, 15.5208,15.05,14.5847,14.1249,13.6687, 13.2176,12.7708,12.3297,11.8933,11.4602 ,11.0305,10.6079,9.97923,9.56488, 9.15457,8.7494,8.34597,7.94819,7.35769, 6.96648,6.58171,6.19804,5.82001,5.44248 ,5.07075,4.69942,4.33347,3.96727, 3.60832,3.0704,2.71776,2.19065,1.84506, 1.49999,1.16096,0.820477,0.483143, 0.151044,-0.181357,-0.511064,-0.83697, -1.16394,-1.64803,-1.96742,-2.44512, -2.92933)
FOOTPRINT_POINT_LONGITUDE = (275.631,275.158,274.68,274.298,274.284 ,274.275,274.265,274.256,274.245, 274.235,274.225,274.214,274.198,274.186 ,274.175,274.163,274.151,274.132, 274.119,274.099,274.086,274.071,274.057 ,274.042,274.028,274.012,273.997, 273.981,273.965,273.948,273.922,273.905 ,273.886,273.858,273.829,273.809, 273.788,273.767,273.745,273.723,273.7, 273.677,273.652,273.628,273.603,273.576 ,273.549,273.522,273.811,274.525,274.94 ,275.329,275.717,276.011,276.003, 275.996,275.989,275.983,275.976,275.97, 275.964,275.958,275.953,275.948,275.943 ,275.938,275.931,275.926,275.922, 275.918,275.914,275.91,275.905,275.901, 275.898,275.895,275.891,275.888,275.885 ,275.882,275.88,275.877,275.874,275.87, 275.868,275.864,275.862,275.86,275.858, 275.856,275.854,275.852,275.85,275.848, 275.846,275.844,275.841,275.839,275.837 ,275.631)
ORBIT_NUMBER = 8371
ORBITAL_ECCENTRICITY = 0.58
ORBITAL_INCLINATION = 86.82
ORBITAL_SEMIMAJOR_AXIS = 8841.55
PERIAPSIS_ALTITUDE = 325.57
PERIAPSIS_ARGUMENT_ANGLE = 331.57
PERIAPSIS_TIME = 2010-07-17T19:26:57.000Z
SPACECRAFT_ORIENTATION = (0.0,1.0,0.0)
^MEX_ORIENTATION_DESC = "MEX_ORIENTATION_DESC.TXT"
SPACECRAFT_POINTING_MODE = ACROSSTRACK
^MEX_POINTING_DESC = "MEX_POINTING_DESC.TXT"
RIGHT_ASCENSION = -1e+32
DECLINATION = -1e+32
OFFSET_ANGLE = 0.63
SPACECRAFT_SOLAR_DISTANCE = 2.4082e+08
TARGET_NAME = MARS
/* CAMERA DATA ELEMENTS */
DETECTOR_TEMPERATURE = 18.5744
FOCAL_PLANE_TEMPERATURE = 8.5833
INST_CMPRS_NAME = "DISCRETE COSINE TRANSFORMATION (DCT)"
INST_CMPRS_RATIO = 13.544
INST_CMPRS_QUALITY = 0
INST_CMPRS_QUANTZ_TBL_ID = 0
INSTRUMENT_TEMPERATURE = 11.234
LENS_TEMPERATURE = 8.7872
MACROPIXEL_SIZE = 2
MISSING_FRAMES = 0
PIXEL_SUBSAMPLING_FLAG = N
SIGNAL_CHAIN_ID = 1
/* RADIOMETRIC DATA ELEMENTS */
BANDWIDTH = 178.0
CENTER_FILTER_WAVELENGTH = 679.0
RADIANCE_OFFSET = 2.75247
RADIANCE_SCALING_FACTOR = 0.0151464
REFLECTANCE_SCALING_FACTOR = 0.000465181
MEX:REFLECTANCE_OFFSET = 0.0845345
/* IMAGE OBJECT DEFINITIONS */
OBJECT = IMAGE
  INTERCHANGE_FORMAT = BINARY
  LINES = 45500
  LINE_SAMPLES = 6502
  SAMPLE_TYPE = UNSIGNED_INTEGER
  SAMPLE_BITS = 8
  BANDS = 1
  BAND_STORAGE_TYPE = BAND_SEQUENTIAL
  MAXIMUM = 255
  MEAN = 113.29
  MINIMUM = 1
  STANDARD_DEVIATION = 38.1097
END_OBJECT = IMAGE
/* MAP OBJECT DEFINITIONS */
OBJECT = IMAGE_MAP_PROJECTION
  ^DATA_SET_MAP_PROJECTION_CATALOG= "DSMAP.CAT"
  A_AXIS_RADIUS = 3396.0
  B_AXIS_RADIUS = 3396.0
  C_AXIS_RADIUS = 3396.0
  CENTER_LATITUDE = 0.0
  CENTER_LONGITUDE = 275.0
  COORDINATE_SYSTEM_NAME = PLANETOGRAPHIC
  COORDINATE_SYSTEM_TYPE = "BODY-FIXED ROTATING"
  EASTERNMOST_LONGITUDE = 276.011
  FIRST_STANDARD_PARALLEL = "N/A"
  LINE_FIRST_PIXEL = 1
  LINE_LAST_PIXEL = 45500
  LINE_PROJECTION_OFFSET = 38589.25
  MAP_PROJECTION_ROTATION = 0.0
  MAP_PROJECTION_TYPE = SINUSOIDAL
  MAP_RESOLUTION = 2370.85521546667
  MAP_SCALE = 0.025
  MAXIMUM_LATITUDE = 16.2445
  MINIMUM_LATITUDE = -2.92933
  POSITIVE_LONGITUDE_DIRECTION = EAST
  REFERENCE_LATITUDE = "N/A"
  REFERENCE_LONGITUDE = "N/A"
  SAMPLE_FIRST_PIXEL = 1
  SAMPLE_LAST_PIXEL = 6502
  SAMPLE_PROJECTION_OFFSET = 3833.25
  SECOND_STANDARD_PARALLEL = "N/A"
  WESTERNMOST_LONGITUDE = 273.522
END_OBJECT = IMAGE_MAP_PROJECTION
/* The JPEG2000 image data file associated with this label. */
OBJECT = COMPRESSED_FILE
  FILE_NAME = "H8371_0000_S23.JP2"
  RECORD_TYPE = UNDEFINED
  FILE_RECORDS = UNK
  ENCODING_TYPE = "JP2"
  INTERCHANGE_FORMAT = BINARY
  UNCOMPRESSED_FILE_NAME = "H8371_0000_S23.IMG"
  REQUIRED_STORAGE_BYTES = "295873510"
  ^DESCRIPTION = "JP2INFO.TXT"
END_OBJECT = COMPRESSED_FILE
END
