PDS_VERSION_ID = PDS3
/* FILE DATA ELEMENTS */
RECORD_TYPE = STREAM
/* POINTERS TO DATA OBJECTS */
^COMPRESSED_FILE = "H8377_0000_IR3.JP2"
/* IDENTIFICATION DATA ELEMENTS */
DATA_SET_ID = "MEX-M-HRSC-5-REFDR-MAPPROJECTED-V3.0"
DATA_SET_NAME = "MARS EXPRESS HRSC MAP PROJECTED REFDR V3.0"
DETECTOR_ID = MEX_HRSC_IR
EVENT_TYPE = "MARS-REGIONAL-MAPPING-Im-Fl"
INSTRUMENT_HOST_ID = MEX
INSTRUMENT_HOST_NAME = "MARS EXPRESS"
INSTRUMENT_ID = HRSC
INSTRUMENT_NAME = "HIGH RESOLUTION STEREO CAMERA"
MISSION_NAME = "MARS EXPRESS"
MISSION_PHASE_NAME = ME_Phase_21
PROCESSING_LEVEL_ID = 3
PRODUCT_CREATION_TIME = 2016-10-25T14:43:05.000Z
PRODUCT_ID = "H8377_0000_IR3.JP2"
RELEASE_ID = 0091
REVISION_ID = 0000
/* QUALITY DATA ELEMENTS */
DATA_QUALITY_ID = 1
DATA_QUALITY_DESC = "Data calculated based on original SPICE kernels"
/* TIME DATA ELEMENTS */
SPACECRAFT_CLOCK_START_COUNT = "1/0227626174.09063"
SPACECRAFT_CLOCK_STOP_COUNT = "1/0227626528.54163"
START_TIME = 2010-07-19T13:30:50.976Z
STOP_TIME = 2010-07-19T13:35:15.659Z
/* ORBITAL DATA ELEMENTS */
ASCENDING_NODE_LONGITUDE = 57.31
MAXIMUM_RESOLUTION = 74.6
FOOTPRINT_POINT_LATITUDE = (-7.30049,-7.33153,-7.36422,-6.99967, -6.74592,-6.48947,-5.98327,-5.72113, -5.46187,-5.20395,-4.81627,-4.5542, -4.15612,-3.88934,-3.48765,-3.2168, -2.94675,-2.53539,-2.261,-1.84426, -1.56604,-1.28403,-1.00192,-0.717531, -0.429444,-0.139667,0.29295,0.586558, 0.878706,1.32264,1.76857,2.06828, 2.37184,2.67449,2.9819,3.28911,3.59925, 3.91186,4.38477,4.70196,5.02212,5.34078 ,5.83173,6.15871,6.48911,6.98388, 7.03247,7.05706,7.08199,7.09993,7.12393 ,7.13924,6.65235,6.32039,5.99231, 5.66469,5.17557,4.85268,4.38111,4.06611 ,3.75191,3.44045,3.13227,2.82383, 2.51888,2.21567,1.91461,1.61468,1.31736 ,1.01759,0.72457,0.435091,0.145342, -0.144812,-0.430758,-0.716166,-0.997676 ,-1.28292,-1.56381,-1.84054,-2.25665, -2.53404,-2.80908,-3.07916,-3.34947, -3.61964,-4.0206,-4.28745,-4.55004, -4.8129,-5.07643,-5.33509,-5.59342, -5.85296,-6.10643,-6.36215,-6.61624, -6.99639,-7.24946,-7.30049)
FOOTPRINT_POINT_LONGITUDE = (21.0636,20.5789,20.0806,19.8628, 19.8582,19.8532,19.8376,19.8334,19.8268 ,19.8193,19.8019,19.7938,19.7823, 19.7742,19.7616,19.7529,19.744,19.7305, 19.7214,19.7072,19.6976,19.6876,19.6773 ,19.6674,19.6583,19.6502,19.6314, 19.6212,19.6083,19.5897,19.5693,19.5557 ,19.5429,19.5284,19.5144,19.4997, 19.4842,19.4693,19.4466,19.4303,19.4138 ,19.3951,19.3722,19.3542,19.3362,19.309 ,19.743,20.1287,20.511,20.8005,21.2409, 21.5894,21.6963,21.6903,21.6845,21.6787 ,21.6702,21.6647,21.6574,21.6524, 21.6474,21.6426,21.6379,21.6332,21.6287 ,21.6243,21.6199,21.6157,21.6115,21.607 ,21.603,21.5996,21.5957,21.5919,21.5882 ,21.5847,21.5813,21.5773,21.5737, 21.5706,21.5654,21.5617,21.5583,21.5552 ,21.5522,21.5489,21.5442,21.5413, 21.5384,21.5355,21.5325,21.5296,21.527, 21.5242,21.5217,21.5188,21.5164,21.5118 ,21.5085,21.0636)
ORBIT_NUMBER = 8377
ORBITAL_ECCENTRICITY = 0.579
ORBITAL_INCLINATION = 86.82
ORBITAL_SEMIMAJOR_AXIS = 8836.57
PERIAPSIS_ALTITUDE = 325.77
PERIAPSIS_ARGUMENT_ANGLE = 330.53
PERIAPSIS_TIME = 2010-07-19T13:24:33.000Z
SPACECRAFT_ORIENTATION = (0.0,1.0,0.0)
^MEX_ORIENTATION_DESC = "MEX_ORIENTATION_DESC.TXT"
SPACECRAFT_POINTING_MODE = ACROSSTRACK
^MEX_POINTING_DESC = "MEX_POINTING_DESC.TXT"
RIGHT_ASCENSION = -1e+32
DECLINATION = -1e+32
OFFSET_ANGLE = 1.374
SPACECRAFT_SOLAR_DISTANCE = 2.40562e+08
TARGET_NAME = MARS
/* CAMERA DATA ELEMENTS */
DETECTOR_TEMPERATURE = 17.9627
FOCAL_PLANE_TEMPERATURE = 7.5638
INST_CMPRS_NAME = "DISCRETE COSINE TRANSFORMATION (DCT)"
INST_CMPRS_RATIO = 6.711
INST_CMPRS_QUALITY = 0
INST_CMPRS_QUANTZ_TBL_ID = 0
INSTRUMENT_TEMPERATURE = 11.0301
LENS_TEMPERATURE = 8.1755
MACROPIXEL_SIZE = 4
MISSING_FRAMES = 0
PIXEL_SUBSAMPLING_FLAG = N
SIGNAL_CHAIN_ID = 2
/* RADIOMETRIC DATA ELEMENTS */
BANDWIDTH = 81.0
CENTER_FILTER_WAVELENGTH = 955.5
RADIANCE_OFFSET = 0.240558
RADIANCE_SCALING_FACTOR = 0.00619926
REFLECTANCE_SCALING_FACTOR = 0.000773961
MEX:REFLECTANCE_OFFSET = 0.0300331
/* IMAGE OBJECT DEFINITIONS */
OBJECT = IMAGE
  INTERCHANGE_FORMAT = BINARY
  LINES = 17110
  LINE_SAMPLES = 2704
  SAMPLE_TYPE = UNSIGNED_INTEGER
  SAMPLE_BITS = 8
  BANDS = 1
  BAND_STORAGE_TYPE = BAND_SEQUENTIAL
  MAXIMUM = 255
  MEAN = 101.104
  MINIMUM = 1
  STANDARD_DEVIATION = 35.7504
END_OBJECT = IMAGE
/* MAP OBJECT DEFINITIONS */
OBJECT = IMAGE_MAP_PROJECTION
  ^DATA_SET_MAP_PROJECTION_CATALOG= "DSMAP.CAT"
  A_AXIS_RADIUS = 3396.0
  B_AXIS_RADIUS = 3396.0
  C_AXIS_RADIUS = 3396.0
  CENTER_LATITUDE = 0.0
  CENTER_LONGITUDE = 21.0
  COORDINATE_SYSTEM_NAME = PLANETOGRAPHIC
  COORDINATE_SYSTEM_TYPE = "BODY-FIXED ROTATING"
  EASTERNMOST_LONGITUDE = 21.6963
  FIRST_STANDARD_PARALLEL = "N/A"
  LINE_FIRST_PIXEL = 1
  LINE_LAST_PIXEL = 17110
  LINE_PROJECTION_OFFSET = 8409.125
  MAP_PROJECTION_ROTATION = 0.0
  MAP_PROJECTION_TYPE = SINUSOIDAL
  MAP_RESOLUTION = 1185.42760773333
  MAP_SCALE = 0.05
  MAXIMUM_LATITUDE = 7.13924
  MINIMUM_LATITUDE = -7.36422
  POSITIVE_LONGITUDE_DIRECTION = EAST
  REFERENCE_LATITUDE = "N/A"
  REFERENCE_LONGITUDE = "N/A"
  SAMPLE_FIRST_PIXEL = 1
  SAMPLE_LAST_PIXEL = 2704
  SAMPLE_PROJECTION_OFFSET = 1985.125
  SECOND_STANDARD_PARALLEL = "N/A"
  WESTERNMOST_LONGITUDE = 19.309
END_OBJECT = IMAGE_MAP_PROJECTION
/* The JPEG2000 image data file associated with this label. */
OBJECT = COMPRESSED_FILE
  FILE_NAME = "H8377_0000_IR3.JP2"
  RECORD_TYPE = UNDEFINED
  FILE_RECORDS = UNK
  ENCODING_TYPE = "JP2"
  INTERCHANGE_FORMAT = BINARY
  UNCOMPRESSED_FILE_NAME = "H8377_0000_IR3.IMG"
  REQUIRED_STORAGE_BYTES = "46287072"
  ^DESCRIPTION = "JP2INFO.TXT"
END_OBJECT = COMPRESSED_FILE
END
