PDS_VERSION_ID = PDS3
/* FILE DATA ELEMENTS */
RECORD_TYPE = STREAM
/* POINTERS TO DATA OBJECTS */
^COMPRESSED_FILE = "H8382_0000_RE3.JP2"
/* IDENTIFICATION DATA ELEMENTS */
DATA_SET_ID = "MEX-M-HRSC-5-REFDR-MAPPROJECTED-V3.0"
DATA_SET_NAME = "MARS EXPRESS HRSC MAP PROJECTED REFDR V3.0"
DETECTOR_ID = MEX_HRSC_RED
EVENT_TYPE = "MARS-REGIONAL-MAPPING-Vo"
INSTRUMENT_HOST_ID = MEX
INSTRUMENT_HOST_NAME = "MARS EXPRESS"
INSTRUMENT_ID = HRSC
INSTRUMENT_NAME = "HIGH RESOLUTION STEREO CAMERA"
MISSION_NAME = "MARS EXPRESS"
MISSION_PHASE_NAME = ME_Phase_21
PROCESSING_LEVEL_ID = 3
PRODUCT_CREATION_TIME = 2016-10-25T14:43:05.000Z
PRODUCT_ID = "H8382_0000_RE3.JP2"
RELEASE_ID = 0091
REVISION_ID = 0000
/* QUALITY DATA ELEMENTS */
DATA_QUALITY_ID = 1
DATA_QUALITY_DESC = "Data calculated based on original SPICE kernels"
/* TIME DATA ELEMENTS */
SPACECRAFT_CLOCK_START_COUNT = "1/0227751982.09129"
SPACECRAFT_CLOCK_STOP_COUNT = "1/0227752360.21001"
START_TIME = 2010-07-21T00:26:30.425Z
STOP_TIME = 2010-07-21T00:30:50.685Z
/* ORBITAL DATA ELEMENTS */
ASCENDING_NODE_LONGITUDE = 57.21
MAXIMUM_RESOLUTION = 61.9
FOOTPRINT_POINT_LATITUDE = (-13.1052,-13.0731,-13.0379,-12.7338, -12.4288,-11.9716,-11.6662,-11.3616, -11.0577,-10.753,-10.4483,-9.99175, -9.68728,-9.38353,-9.08006,-8.77657, -8.46537,-8.15424,-7.84291,-7.53213, -7.21363,-6.89513,-6.57709,-6.25643, -5.93,-5.44131,-5.11368,-4.78047, -4.28147,-3.94383,-3.60301,-3.26315, -2.91733,-2.56875,-2.22184,-1.69152, -1.3373,-0.797729,-0.437497,-0.0714847, 0.295545,0.853567,1.22631,1.60587, 1.98614,2.37151,2.75839,3.15062,3.54453 ,3.74724,3.72459,3.703,3.68948,3.47883, 3.08174,2.68779,2.2986,1.91135,1.53056, 1.14977,0.775141,0.400079,0.032036, -0.519845,-0.880842,-1.42218,-1.77647, -2.3081,-2.65548,-3.00333,-3.34948, -3.69014,-4.03073,-4.53606,-4.86906, -5.36883,-5.69475,-6.021,-6.34745, -6.66866,-6.98722,-7.30665,-7.62621, -7.93807,-8.24937,-8.56091,-9.02504, -9.32892,-9.63346,-9.93749,-10.2417, -10.5466,-11.004,-11.3094,-11.7669, -12.2248,-12.5301,-12.8358,-13.1412, -13.1052)
FOOTPRINT_POINT_LONGITUDE = (229.5,229.079,228.644,228.489,228.487, 228.484,228.481,228.478,228.475,228.472 ,228.468,228.462,228.457,228.453, 228.448,228.443,228.439,228.434,228.428 ,228.422,228.416,228.41,228.404,228.397 ,228.389,228.378,228.37,228.362,228.35, 228.341,228.331,228.322,228.312,228.3, 228.29,228.275,228.263,228.247,228.236, 228.224,228.212,228.193,228.182,228.169 ,228.155,228.141,228.127,228.112, 228.096,228.311,228.824,229.379,229.747 ,230.011,230.009,230.006,230.004, 230.002,229.999,229.997,229.994,229.992 ,229.99,229.986,229.984,229.981,229.979 ,229.976,229.974,229.972,229.97,229.968 ,229.966,229.963,229.961,229.958, 229.956,229.954,229.952,229.95,229.948, 229.946,229.944,229.942,229.94,229.938, 229.934,229.932,229.93,229.928,229.925, 229.923,229.92,229.917,229.914,229.91, 229.907,229.905,229.902,229.5)
ORBIT_NUMBER = 8382
ORBITAL_ECCENTRICITY = 0.579
ORBITAL_INCLINATION = 86.84
ORBITAL_SEMIMAJOR_AXIS = 8835.93
PERIAPSIS_ALTITUDE = 324.65
PERIAPSIS_ARGUMENT_ANGLE = 329.64
PERIAPSIS_TIME = 2010-07-21T00:22:35.000Z
SPACECRAFT_ORIENTATION = (0.0,1.0,0.0)
^MEX_ORIENTATION_DESC = "MEX_ORIENTATION_DESC.TXT"
SPACECRAFT_POINTING_MODE = ACROSSTRACK
^MEX_POINTING_DESC = "MEX_POINTING_DESC.TXT"
RIGHT_ASCENSION = -1e+32
DECLINATION = -1e+32
OFFSET_ANGLE = 1.5
SPACECRAFT_SOLAR_DISTANCE = 2.40344e+08
TARGET_NAME = MARS
/* CAMERA DATA ELEMENTS */
DETECTOR_TEMPERATURE = 18.3705
FOCAL_PLANE_TEMPERATURE = 7.7677
INST_CMPRS_NAME = "DISCRETE COSINE TRANSFORMATION (DCT)"
INST_CMPRS_RATIO = 8.42254
INST_CMPRS_QUALITY = 0
INST_CMPRS_QUANTZ_TBL_ID = 0
INSTRUMENT_TEMPERATURE = 11.0301
LENS_TEMPERATURE = 8.1755
MACROPIXEL_SIZE = 4
MISSING_FRAMES = 0
PIXEL_SUBSAMPLING_FLAG = N
SIGNAL_CHAIN_ID = 2
/* RADIOMETRIC DATA ELEMENTS */
BANDWIDTH = 48.0
CENTER_FILTER_WAVELENGTH = 748.0
RADIANCE_OFFSET = 0.420769
RADIANCE_SCALING_FACTOR = 0.00532524
REFLECTANCE_SCALING_FACTOR = 0.000701992
MEX:REFLECTANCE_OFFSET = 0.0554673
/* IMAGE OBJECT DEFINITIONS */
OBJECT = IMAGE
  INTERCHANGE_FORMAT = BINARY
  LINES = 19935
  LINE_SAMPLES = 2558
  SAMPLE_TYPE = UNSIGNED_INTEGER
  SAMPLE_BITS = 8
  BANDS = 1
  BAND_STORAGE_TYPE = BAND_SEQUENTIAL
  MAXIMUM = 255
  MEAN = 132.068
  MINIMUM = 1
  STANDARD_DEVIATION = 26.0006
END_OBJECT = IMAGE
/* MAP OBJECT DEFINITIONS */
OBJECT = IMAGE_MAP_PROJECTION
  ^DATA_SET_MAP_PROJECTION_CATALOG= "DSMAP.CAT"
  A_AXIS_RADIUS = 3396.0
  B_AXIS_RADIUS = 3396.0
  C_AXIS_RADIUS = 3396.0
  CENTER_LATITUDE = 0.0
  CENTER_LONGITUDE = 229.0
  COORDINATE_SYSTEM_NAME = PLANETOGRAPHIC
  COORDINATE_SYSTEM_TYPE = "BODY-FIXED ROTATING"
  EASTERNMOST_LONGITUDE = 230.011
  FIRST_STANDARD_PARALLEL = "N/A"
  LINE_FIRST_PIXEL = 1
  LINE_LAST_PIXEL = 19935
  LINE_PROJECTION_OFFSET = 4434.125
  MAP_PROJECTION_ROTATION = 0.0
  MAP_PROJECTION_TYPE = SINUSOIDAL
  MAP_RESOLUTION = 1185.42760773333
  MAP_SCALE = 0.05
  MAXIMUM_LATITUDE = 3.74724
  MINIMUM_LATITUDE = -13.1412
  POSITIVE_LONGITUDE_DIRECTION = EAST
  REFERENCE_LATITUDE = "N/A"
  REFERENCE_LONGITUDE = "N/A"
  SAMPLE_FIRST_PIXEL = 1
  SAMPLE_LAST_PIXEL = 2558
  SAMPLE_PROJECTION_OFFSET = 1282.375
  SECOND_STANDARD_PARALLEL = "N/A"
  WESTERNMOST_LONGITUDE = 228.096
END_OBJECT = IMAGE_MAP_PROJECTION
/* The JPEG2000 image data file associated with this label. */
OBJECT = COMPRESSED_FILE
  FILE_NAME = "H8382_0000_RE3.JP2"
  RECORD_TYPE = UNDEFINED
  FILE_RECORDS = UNK
  ENCODING_TYPE = "JP2"
  INTERCHANGE_FORMAT = BINARY
  UNCOMPRESSED_FILE_NAME = "H8382_0000_RE3.IMG"
  REQUIRED_STORAGE_BYTES = "51014194"
  ^DESCRIPTION = "JP2INFO.TXT"
END_OBJECT = COMPRESSED_FILE
END
