PDS_VERSION_ID = PDS3
/* FILE DATA ELEMENTS */
RECORD_TYPE = STREAM
/* POINTERS TO DATA OBJECTS */
^COMPRESSED_FILE = "H8389_0000_BL3.JP2"
/* IDENTIFICATION DATA ELEMENTS */
DATA_SET_ID = "MEX-M-HRSC-5-REFDR-MAPPROJECTED-V3.0"
DATA_SET_NAME = "MARS EXPRESS HRSC MAP PROJECTED REFDR V3.0"
DETECTOR_ID = MEX_HRSC_BLUE
EVENT_TYPE = "MARS-REGIONAL-MAPPING-Vo"
INSTRUMENT_HOST_ID = MEX
INSTRUMENT_HOST_NAME = "MARS EXPRESS"
INSTRUMENT_ID = HRSC
INSTRUMENT_NAME = "HIGH RESOLUTION STEREO CAMERA"
MISSION_NAME = "MARS EXPRESS"
MISSION_PHASE_NAME = ME_Phase_21
PROCESSING_LEVEL_ID = 3
PRODUCT_CREATION_TIME = 2016-10-25T14:43:05.000Z
PRODUCT_ID = "H8389_0000_BL3.JP2"
RELEASE_ID = 0091
REVISION_ID = 0000
/* QUALITY DATA ELEMENTS */
DATA_QUALITY_ID = 1
DATA_QUALITY_DESC = "Data calculated based on original SPICE kernels"
/* TIME DATA ELEMENTS */
SPACECRAFT_CLOCK_START_COUNT = "1/0227928482.09049"
SPACECRAFT_CLOCK_STOP_COUNT = "1/0227928894.21694"
START_TIME = 2010-07-23T01:28:47.278Z
STOP_TIME = 2010-07-23T01:32:47.542Z
/* ORBITAL DATA ELEMENTS */
ASCENDING_NODE_LONGITUDE = 57.08
MAXIMUM_RESOLUTION = 88.2
FOOTPRINT_POINT_LATITUDE = (2.26554,2.26264,2.25954,2.25647, 2.25344,2.25042,2.24736,2.59082,3.17454 ,3.76608,4.00425,4.36592,4.60749, 4.97386,5.21857,5.46614,5.8377,6.08912, 6.33982,6.59357,6.84782,7.10434,7.36208 ,7.62163,7.88217,8.14488,8.40855,8.6742 ,8.94086,9.20979,9.61566,9.88847, 10.1634,10.5783,10.8571,11.1384,11.5629 ,11.9916,12.4244,12.8617,13.1549, 13.4512,13.749,14.0482,14.3501,14.6543, 14.9601,15.2678,15.5781,15.6872,15.6977 ,15.7072,15.7161,15.7223,15.7283, 15.7296,15.4182,15.1086,14.801,14.4955, 14.1925,13.8916,13.5918,13.2948,12.9999 ,12.7059,12.4146,12.1255,11.8371, 11.5519,11.1268,10.7057,10.427,10.1506, 9.73886,9.46598,9.19592,8.79334,8.5257, 8.26162,7.9974,7.73652,7.47541,7.21768, 6.95938,6.70467,6.32349,6.07171,5.82036 ,5.57196,5.20036,4.95523,4.70974, 4.46803,4.22592,3.86603,3.62675,3.03548 ,2.56889,2.26554)
FOOTPRINT_POINT_LONGITUDE = (235.018,234.75,234.463,234.174,233.885 ,233.595,233.302,233.147,233.122, 233.096,233.085,233.069,233.057,233.04, 233.028,233.016,232.999,232.987,232.975 ,232.963,232.95,232.937,232.923,232.91, 232.897,232.883,232.869,232.856,232.842 ,232.828,232.805,232.791,232.775, 232.752,232.736,232.72,232.694,232.669, 232.643,232.617,232.598,232.58,232.561, 232.542,232.523,232.503,232.483,232.462 ,232.442,232.676,233.19,233.7,234.236, 234.636,235.063,235.311,235.304,235.296 ,235.289,235.282,235.275,235.269, 235.262,235.256,235.25,235.244,235.238, 235.232,235.226,235.221,235.213,235.205 ,235.2,235.195,235.188,235.183,235.179, 235.173,235.169,235.165,235.161,235.157 ,235.153,235.149,235.145,235.142, 235.136,235.133,235.129,235.126,235.121 ,235.118,235.114,235.111,235.108, 235.104,235.101,235.093,235.087, 235.018)
ORBIT_NUMBER = 8389
ORBITAL_ECCENTRICITY = 0.58
ORBITAL_INCLINATION = 86.83
ORBITAL_SEMIMAJOR_AXIS = 8834.97
PERIAPSIS_ALTITUDE = 324.27
PERIAPSIS_ARGUMENT_ANGLE = 328.43
PERIAPSIS_TIME = 2010-07-23T01:20:01.000Z
SPACECRAFT_ORIENTATION = (0.0,1.0,0.0)
^MEX_ORIENTATION_DESC = "MEX_ORIENTATION_DESC.TXT"
SPACECRAFT_POINTING_MODE = ACROSSTRACK
^MEX_POINTING_DESC = "MEX_POINTING_DESC.TXT"
RIGHT_ASCENSION = -1e+32
DECLINATION = -1e+32
OFFSET_ANGLE = 0.48
SPACECRAFT_SOLAR_DISTANCE = 2.40036e+08
TARGET_NAME = MARS
/* CAMERA DATA ELEMENTS */
DETECTOR_TEMPERATURE = 18.1666
FOCAL_PLANE_TEMPERATURE = 8.1755
INST_CMPRS_NAME = "DISCRETE COSINE TRANSFORMATION (DCT)"
INST_CMPRS_RATIO = 9.59805
INST_CMPRS_QUALITY = 0
INST_CMPRS_QUANTZ_TBL_ID = 0
INSTRUMENT_TEMPERATURE = 10.8262
LENS_TEMPERATURE = 8.3794
MACROPIXEL_SIZE = 4
MISSING_FRAMES = 0
PIXEL_SUBSAMPLING_FLAG = N
SIGNAL_CHAIN_ID = 2
/* RADIOMETRIC DATA ELEMENTS */
BANDWIDTH = 76.0
CENTER_FILTER_WAVELENGTH = 444.0
RADIANCE_OFFSET = 0.509606
RADIANCE_SCALING_FACTOR = 0.00199845
REFLECTANCE_SCALING_FACTOR = 0.000118305
MEX:REFLECTANCE_OFFSET = 0.0301677
/* IMAGE OBJECT DEFINITIONS */
OBJECT = IMAGE
  INTERCHANGE_FORMAT = BINARY
  LINES = 7998
  LINE_SAMPLES = 1737
  SAMPLE_TYPE = UNSIGNED_INTEGER
  SAMPLE_BITS = 8
  BANDS = 1
  BAND_STORAGE_TYPE = BAND_SEQUENTIAL
  MAXIMUM = 255
  MEAN = 113.544
  MINIMUM = 1
  STANDARD_DEVIATION = 28.2882
END_OBJECT = IMAGE
/* MAP OBJECT DEFINITIONS */
OBJECT = IMAGE_MAP_PROJECTION
  ^DATA_SET_MAP_PROJECTION_CATALOG= "DSMAP.CAT"
  A_AXIS_RADIUS = 3396.0
  B_AXIS_RADIUS = 3396.0
  C_AXIS_RADIUS = 3396.0
  CENTER_LATITUDE = 0.0
  CENTER_LONGITUDE = 234.0
  COORDINATE_SYSTEM_NAME = PLANETOGRAPHIC
  COORDINATE_SYSTEM_TYPE = "BODY-FIXED ROTATING"
  EASTERNMOST_LONGITUDE = 235.311
  FIRST_STANDARD_PARALLEL = "N/A"
  LINE_FIRST_PIXEL = 1
  LINE_LAST_PIXEL = 7998
  LINE_PROJECTION_OFFSET = 9324.375
  MAP_PROJECTION_ROTATION = 0.0
  MAP_PROJECTION_TYPE = SINUSOIDAL
  MAP_RESOLUTION = 592.713803866667
  MAP_SCALE = 0.1
  MAXIMUM_LATITUDE = 15.7296
  MINIMUM_LATITUDE = 2.24736
  POSITIVE_LONGITUDE_DIRECTION = EAST
  REFERENCE_LATITUDE = "N/A"
  REFERENCE_LONGITUDE = "N/A"
  SAMPLE_FIRST_PIXEL = 1
  SAMPLE_LAST_PIXEL = 1737
  SAMPLE_PROJECTION_OFFSET = 954.125
  SECOND_STANDARD_PARALLEL = "N/A"
  WESTERNMOST_LONGITUDE = 232.442
END_OBJECT = IMAGE_MAP_PROJECTION
/* The JPEG2000 image data file associated with this label. */
OBJECT = COMPRESSED_FILE
  FILE_NAME = "H8389_0000_BL3.JP2"
  RECORD_TYPE = UNDEFINED
  FILE_RECORDS = UNK
  ENCODING_TYPE = "JP2"
  INTERCHANGE_FORMAT = BINARY
  UNCOMPRESSED_FILE_NAME = "H8389_0000_BL3.IMG"
  REQUIRED_STORAGE_BYTES = "13913370"
  ^DESCRIPTION = "JP2INFO.TXT"
END_OBJECT = COMPRESSED_FILE
END
