PDS_VERSION_ID = PDS3
/* FILE DATA ELEMENTS */
RECORD_TYPE = STREAM
/* POINTERS TO DATA OBJECTS */
^COMPRESSED_FILE = "H8391_0000_BL3.JP2"
/* IDENTIFICATION DATA ELEMENTS */
DATA_SET_ID = "MEX-M-HRSC-5-REFDR-MAPPROJECTED-V3.0"
DATA_SET_NAME = "MARS EXPRESS HRSC MAP PROJECTED REFDR V3.0"
DETECTOR_ID = MEX_HRSC_BLUE
EVENT_TYPE = "MARS-REGIONAL-MAPPING-Im-Fl"
INSTRUMENT_HOST_ID = MEX
INSTRUMENT_HOST_NAME = "MARS EXPRESS"
INSTRUMENT_ID = HRSC
INSTRUMENT_NAME = "HIGH RESOLUTION STEREO CAMERA"
MISSION_NAME = "MARS EXPRESS"
MISSION_PHASE_NAME = ME_Phase_21
PROCESSING_LEVEL_ID = 3
PRODUCT_CREATION_TIME = 2016-10-25T14:43:05.000Z
PRODUCT_ID = "H8391_0000_BL3.JP2"
RELEASE_ID = 0091
REVISION_ID = 0000
/* QUALITY DATA ELEMENTS */
DATA_QUALITY_ID = 1
DATA_QUALITY_DESC = "Data calculated based on original SPICE kernels"
/* TIME DATA ELEMENTS */
SPACECRAFT_CLOCK_START_COUNT = "1/0227978592.08260"
SPACECRAFT_CLOCK_STOP_COUNT = "1/0227978875.29700"
START_TIME = 2010-07-23T15:23:42.705Z
STOP_TIME = 2010-07-23T15:26:54.538Z
/* ORBITAL DATA ELEMENTS */
ASCENDING_NODE_LONGITUDE = 57.04
MAXIMUM_RESOLUTION = 121
FOOTPRINT_POINT_LATITUDE = (-14.5631,-14.565,-14.5661,-14.4535, -14.1137,-13.8871,-13.661,-13.4352, -13.2098,-12.9841,-12.7587,-12.5335, -12.3085,-12.0837,-11.8591,-11.6347, -11.4105,-11.1866,-10.9627,-10.7391, -10.3958,-10.1666,-9.93763,-9.59437, -9.36036,-9.12629,-8.89243,-8.54236, -8.18374,-7.94483,-7.70751,-7.46835, -7.22478,-6.85986,-6.61657,-6.36837, -6.11984,-5.87105,-5.496,-5.24246, -4.98945,-4.73681,-4.47875,-4.0922, -3.70185,-3.43936,-3.04574,-2.77815, -2.57198,-2.56833,-2.56544,-2.56232, -2.5581,-2.55578,-2.82319,-3.09027, -3.35324,-3.6158,-3.87862,-4.13638, -4.39443,-4.78099,-5.03415,-5.28753, -5.6669,-5.9153,-6.16388,-6.41283, -6.65905,-6.90257,-7.26814,-7.51272, -7.75133,-7.99038,-8.22994,-8.58716, -8.81993,-9.1723,-9.40706,-9.63991, -9.86871,-10.0979,-10.3275,-10.5571, -10.7841,-11.0078,-11.2318,-11.4559, -11.6803,-11.905,-12.1299,-12.355, -12.5804,-12.8058,-13.0316,-13.3702, -13.5965,-13.936,-14.276,-14.5631)
FOOTPRINT_POINT_LONGITUDE = (30.6448,30.3023,29.9979,29.5108, 29.5058,29.502,29.4986,29.4952,29.4921, 29.4881,29.4843,29.4806,29.4767,29.4726 ,29.4685,29.4644,29.4603,29.4561, 29.4517,29.4473,29.4403,29.4354,29.4304 ,29.4224,29.4172,29.412,29.4067,29.3989 ,29.3893,29.3833,29.3794,29.3734, 29.3679,29.3592,29.3526,29.3444,29.3377 ,29.33,29.319,29.3114,29.3041,29.2967, 29.2892,29.2776,29.2655,29.2574,29.2453 ,29.2362,29.3389,29.6755,29.9475, 30.2194,30.5555,30.9339,30.9316,30.9297 ,30.9266,30.9248,30.9233,30.9216, 30.9196,30.9164,30.9143,30.9125,30.9097 ,30.9078,30.9062,30.9044,30.9027, 30.9012,30.8994,30.8966,30.8951,30.8934 ,30.8913,30.8888,30.8891,30.8852, 30.8833,30.8819,30.8807,30.8794,30.8776 ,30.8763,30.8758,30.8749,30.874,30.8731 ,30.8721,30.8709,30.8698,30.8687, 30.8674,30.8663,30.8651,30.8637,30.8623 ,30.8606,30.8588,30.6448)
ORBIT_NUMBER = 8391
ORBITAL_ECCENTRICITY = 0.579
ORBITAL_INCLINATION = 86.82
ORBITAL_SEMIMAJOR_AXIS = 8833.6
PERIAPSIS_ALTITUDE = 324.96
PERIAPSIS_ARGUMENT_ANGLE = 328.13
PERIAPSIS_TIME = 2010-07-23T15:19:23.000Z
SPACECRAFT_ORIENTATION = (0.0,1.0,0.0)
^MEX_ORIENTATION_DESC = "MEX_ORIENTATION_DESC.TXT"
SPACECRAFT_POINTING_MODE = NADIR
^MEX_POINTING_DESC = "MEX_POINTING_DESC.TXT"
RIGHT_ASCENSION = -1e+32
DECLINATION = -1e+32
OFFSET_ANGLE = -1e+32
SPACECRAFT_SOLAR_DISTANCE = 2.39948e+08
TARGET_NAME = MARS
/* CAMERA DATA ELEMENTS */
DETECTOR_TEMPERATURE = 18.1666
FOCAL_PLANE_TEMPERATURE = 7.9716
INST_CMPRS_NAME = "DISCRETE COSINE TRANSFORMATION (DCT)"
INST_CMPRS_RATIO = 13.2209
INST_CMPRS_QUALITY = 0
INST_CMPRS_QUANTZ_TBL_ID = 0
INSTRUMENT_TEMPERATURE = 11.0301
LENS_TEMPERATURE = 8.3794
MACROPIXEL_SIZE = 8
MISSING_FRAMES = 0
PIXEL_SUBSAMPLING_FLAG = N
SIGNAL_CHAIN_ID = 2
/* RADIOMETRIC DATA ELEMENTS */
BANDWIDTH = 76.0
CENTER_FILTER_WAVELENGTH = 444.0
RADIANCE_OFFSET = 0.162688
RADIANCE_SCALING_FACTOR = 0.00211198
REFLECTANCE_SCALING_FACTOR = 0.000124933
MEX:REFLECTANCE_OFFSET = 0.00962374
/* IMAGE OBJECT DEFINITIONS */
OBJECT = IMAGE
  INTERCHANGE_FORMAT = BINARY
  LINES = 7119
  LINE_SAMPLES = 1078
  SAMPLE_TYPE = UNSIGNED_INTEGER
  SAMPLE_BITS = 8
  BANDS = 1
  BAND_STORAGE_TYPE = BAND_SEQUENTIAL
  MAXIMUM = 255
  MEAN = 99.6251
  MINIMUM = 1
  STANDARD_DEVIATION = 23.9841
END_OBJECT = IMAGE
/* MAP OBJECT DEFINITIONS */
OBJECT = IMAGE_MAP_PROJECTION
  ^DATA_SET_MAP_PROJECTION_CATALOG= "DSMAP.CAT"
  A_AXIS_RADIUS = 3396.0
  B_AXIS_RADIUS = 3396.0
  C_AXIS_RADIUS = 3396.0
  CENTER_LATITUDE = 0.0
  CENTER_LONGITUDE = 30.0
  COORDINATE_SYSTEM_NAME = PLANETOGRAPHIC
  COORDINATE_SYSTEM_TYPE = "BODY-FIXED ROTATING"
  EASTERNMOST_LONGITUDE = 30.9339
  FIRST_STANDARD_PARALLEL = "N/A"
  LINE_FIRST_PIXEL = 1
  LINE_LAST_PIXEL = 7119
  LINE_PROJECTION_OFFSET = -1521.5625
  MAP_PROJECTION_ROTATION = 0.0
  MAP_PROJECTION_TYPE = SINUSOIDAL
  MAP_RESOLUTION = 592.713803866667
  MAP_SCALE = 0.1
  MAXIMUM_LATITUDE = -2.55578
  MINIMUM_LATITUDE = -14.5661
  POSITIVE_LONGITUDE_DIRECTION = EAST
  REFERENCE_LATITUDE = "N/A"
  REFERENCE_LONGITUDE = "N/A"
  SAMPLE_FIRST_PIXEL = 1
  SAMPLE_LAST_PIXEL = 1078
  SAMPLE_PROJECTION_OFFSET = 493.1875
  SECOND_STANDARD_PARALLEL = "N/A"
  WESTERNMOST_LONGITUDE = 29.2362
END_OBJECT = IMAGE_MAP_PROJECTION
/* The JPEG2000 image data file associated with this label. */
OBJECT = COMPRESSED_FILE
  FILE_NAME = "H8391_0000_BL3.JP2"
  RECORD_TYPE = UNDEFINED
  FILE_RECORDS = UNK
  ENCODING_TYPE = "JP2"
  INTERCHANGE_FORMAT = BINARY
  UNCOMPRESSED_FILE_NAME = "H8391_0000_BL3.IMG"
  REQUIRED_STORAGE_BYTES = "7692608"
  ^DESCRIPTION = "JP2INFO.TXT"
END_OBJECT = COMPRESSED_FILE
END
