PDS_VERSION_ID = PDS3
/* FILE DATA ELEMENTS */
RECORD_TYPE = STREAM
/* POINTERS TO DATA OBJECTS */
^COMPRESSED_FILE = "H8400_0000_P13.JP2"
/* IDENTIFICATION DATA ELEMENTS */
DATA_SET_ID = "MEX-M-HRSC-5-REFDR-MAPPROJECTED-V3.0"
DATA_SET_NAME = "MARS EXPRESS HRSC MAP PROJECTED REFDR V3.0"
DETECTOR_ID = MEX_HRSC_P1
EVENT_TYPE = "MARS-REGIONAL-MAPPING-Te-Im"
INSTRUMENT_HOST_ID = MEX
INSTRUMENT_HOST_NAME = "MARS EXPRESS"
INSTRUMENT_ID = HRSC
INSTRUMENT_NAME = "HIGH RESOLUTION STEREO CAMERA"
MISSION_NAME = "MARS EXPRESS"
MISSION_PHASE_NAME = ME_Phase_21
PROCESSING_LEVEL_ID = 3
PRODUCT_CREATION_TIME = 2016-10-25T14:43:05.000Z
PRODUCT_ID = "H8400_0000_P13.JP2"
RELEASE_ID = 0091
REVISION_ID = 0000
/* QUALITY DATA ELEMENTS */
DATA_QUALITY_ID = 1
DATA_QUALITY_DESC = "Data calculated based on original SPICE kernels"
/* TIME DATA ELEMENTS */
SPACECRAFT_CLOCK_START_COUNT = "1/0228205145.07280"
SPACECRAFT_CLOCK_STOP_COUNT = "1/0228205400.62579"
START_TIME = 2010-07-26T06:20:45.614Z
STOP_TIME = 2010-07-26T06:23:05.279Z
/* ORBITAL DATA ELEMENTS */
ASCENDING_NODE_LONGITUDE = 56.86
MAXIMUM_RESOLUTION = 31.5
FOOTPRINT_POINT_LATITUDE = (-17.3616,-17.3667,-17.3717,-17.3766, -17.3815,-17.3864,-17.3133,-17.1506, -16.9892,-16.8261,-16.6636,-16.5018, -16.3399,-16.0974,-15.9356,-15.6943, -15.5334,-15.3724,-15.2119,-14.9713, -14.7329,-14.5731,-14.3336,-14.17, -14.0061,-13.8421,-13.6758,-13.3539, -13.1067,-12.9398,-12.7732,-12.6067, -12.4405,-12.2733,-12.1089,-11.9406, -11.6887,-11.5203,-11.3518,-11.1817, -10.9226,-10.7496,-10.5783,-10.4066, -10.2329,-10.0576,-9.882,-9.70673, -9.53146,-9.26472,-9.08595,-9.05145, -9.0401,-9.02789,-9.01966,-9.01349, -9.19141,-9.3705,-9.63007,-9.80413, -9.98055,-10.1557,-10.3298,-10.5011, -10.6737,-10.8462,-11.1059,-11.2812, -11.452,-11.6214,-11.7889,-11.9541, -12.1239,-12.2919,-12.4596,-12.6268, -12.8773,-13.0443,-13.2921,-13.4546, -13.6181,-13.7817,-14.0279,-14.1922, -14.3545,-14.6752,-14.9943,-15.1555, -15.3972,-15.638,-15.7987,-15.9599, -16.1204,-16.2821,-16.4448,-16.6072, -16.7695,-16.932,-17.0947,-17.3616)
FOOTPRINT_POINT_LONGITUDE = (189.564,189.349,189.131,188.913, 188.692,188.471,188.224,188.223,188.22, 188.22,188.218,188.216,188.215,188.212, 188.211,188.207,188.205,188.203,188.201 ,188.197,188.192,188.19,188.186,188.184 ,188.181,188.179,188.179,188.169, 188.165,188.162,188.159,188.156,188.153 ,188.151,188.144,188.139,188.132, 188.128,188.124,188.12,188.114,188.11, 188.106,188.101,188.097,188.092,188.088 ,188.084,188.079,188.073,188.068, 188.346,188.737,189.124,189.38,189.618, 189.733,189.731,189.728,189.725,189.724 ,189.722,189.72,189.718,189.716,189.714 ,189.711,189.71,189.708,189.706,189.704 ,189.702,189.7,189.698,189.697,189.695, 189.692,189.691,189.688,189.686,189.685 ,189.683,189.68,189.679,189.677,189.674 ,189.67,189.669,189.666,189.663,189.662 ,189.66,189.658,189.657,189.655,189.653 ,189.651,189.65,189.648,189.564)
ORBIT_NUMBER = 8400
ORBITAL_ECCENTRICITY = 0.579
ORBITAL_INCLINATION = 86.83
ORBITAL_SEMIMAJOR_AXIS = 8825.48
PERIAPSIS_ALTITUDE = 324.64
PERIAPSIS_ARGUMENT_ANGLE = 326.58
PERIAPSIS_TIME = 2010-07-26T06:16:18.000Z
SPACECRAFT_ORIENTATION = (0.0,1.0,0.0)
^MEX_ORIENTATION_DESC = "MEX_ORIENTATION_DESC.TXT"
SPACECRAFT_POINTING_MODE = ACROSSTRACK
^MEX_POINTING_DESC = "MEX_POINTING_DESC.TXT"
RIGHT_ASCENSION = -1e+32
DECLINATION = -1e+32
OFFSET_ANGLE = 0.6
SPACECRAFT_SOLAR_DISTANCE = 2.39544e+08
TARGET_NAME = MARS
/* CAMERA DATA ELEMENTS */
DETECTOR_TEMPERATURE = 17.1471
FOCAL_PLANE_TEMPERATURE = 8.7872
INST_CMPRS_NAME = "DISCRETE COSINE TRANSFORMATION (DCT)"
INST_CMPRS_RATIO = 6.84837
INST_CMPRS_QUALITY = 0
INST_CMPRS_QUANTZ_TBL_ID = 0
INSTRUMENT_TEMPERATURE = 11.234
LENS_TEMPERATURE = 8.1755
MACROPIXEL_SIZE = 2
MISSING_FRAMES = 10
PIXEL_SUBSAMPLING_FLAG = N
SIGNAL_CHAIN_ID = 3
/* RADIOMETRIC DATA ELEMENTS */
BANDWIDTH = 174.0
CENTER_FILTER_WAVELENGTH = 675.0
RADIANCE_OFFSET = 1.09414
RADIANCE_SCALING_FACTOR = 0.0203811
REFLECTANCE_SCALING_FACTOR = 0.000629047
MEX:REFLECTANCE_OFFSET = 0.0337699
/* IMAGE OBJECT DEFINITIONS */
OBJECT = IMAGE
  INTERCHANGE_FORMAT = BINARY
  LINES = 26518
  LINE_SAMPLES = 3875
  SAMPLE_TYPE = UNSIGNED_INTEGER
  SAMPLE_BITS = 8
  BANDS = 1
  BAND_STORAGE_TYPE = BAND_SEQUENTIAL
  MAXIMUM = 255
  MEAN = 94.9277
  MINIMUM = 1
  STANDARD_DEVIATION = 29.7748
END_OBJECT = IMAGE
/* MAP OBJECT DEFINITIONS */
OBJECT = IMAGE_MAP_PROJECTION
  ^DATA_SET_MAP_PROJECTION_CATALOG= "DSMAP.CAT"
  A_AXIS_RADIUS = 3396.0
  B_AXIS_RADIUS = 3396.0
  C_AXIS_RADIUS = 3396.0
  CENTER_LATITUDE = 0.0
  CENTER_LONGITUDE = 189.0
  COORDINATE_SYSTEM_NAME = PLANETOGRAPHIC
  COORDINATE_SYSTEM_TYPE = "BODY-FIXED ROTATING"
  EASTERNMOST_LONGITUDE = 189.733
  FIRST_STANDARD_PARALLEL = "N/A"
  LINE_FIRST_PIXEL = 1
  LINE_LAST_PIXEL = 26518
  LINE_PROJECTION_OFFSET = -21377.25
  MAP_PROJECTION_ROTATION = 0.0
  MAP_PROJECTION_TYPE = SINUSOIDAL
  MAP_RESOLUTION = 2370.85521546667
  MAP_SCALE = 0.025
  MAXIMUM_LATITUDE = -9.013489999999999
  MINIMUM_LATITUDE = -17.3864
  POSITIVE_LONGITUDE_DIRECTION = EAST
  REFERENCE_LATITUDE = "N/A"
  REFERENCE_LONGITUDE = "N/A"
  SAMPLE_FIRST_PIXEL = 1
  SAMPLE_LAST_PIXEL = 3875
  SAMPLE_PROJECTION_OFFSET = 2217.75
  SECOND_STANDARD_PARALLEL = "N/A"
  WESTERNMOST_LONGITUDE = 188.068
END_OBJECT = IMAGE_MAP_PROJECTION
/* The JPEG2000 image data file associated with this label. */
OBJECT = COMPRESSED_FILE
  FILE_NAME = "H8400_0000_P13.JP2"
  RECORD_TYPE = UNDEFINED
  FILE_RECORDS = UNK
  ENCODING_TYPE = "JP2"
  INTERCHANGE_FORMAT = BINARY
  UNCOMPRESSED_FILE_NAME = "H8400_0000_P13.IMG"
  REQUIRED_STORAGE_BYTES = "102780500"
  ^DESCRIPTION = "JP2INFO.TXT"
END_OBJECT = COMPRESSED_FILE
END
